Workbook

Sheet Đơn giá NC 2026
B1: PHỤ LỤC 1 - BẢNG CHUYỂN ĐỔI GIÁ NHÂN CÔNG XÂY DỰNG THEO NHÓM
B2: (Kèm theo Công văn số /SXD-QLXD ngày 06/7/2026 của Sở Xây dựng Lạng Sơn)
B4: STT | C4: Tên nhân công | D4: Đơn vị | E4: Giá nhân công xây dựng (đồng)
A5: Mã | E5: Vùng I | F5: Vùng II | G5: Vùng III | H5: Vùng IV
A6: NCN1 | B6: =IF(A6="","",SUBTOTAL(103,$A$6:A6)) -> 1 | C6: Nhân công nhóm 1 | D6: công | E6: =ROUND(IFERROR(VLOOKUP(A6,'Bình quân V1'!$A$2:$G$76,7,FALSE()),""),-3) -> 0 | F6: =ROUND(IFERROR(VLOOKUP(A6,'Bình quân V2'!$A$2:$G$76,7,FALSE()),""),-3) -> 0 | G6: =ROUND(IFERROR(VLOOKUP(A6,'Bình quân V3'!A:G,7,FALSE()),""),-3) -> 244000 | H6: =ROUND(IFERROR(VLOOKUP(A6,'Bình quân V4'!A:G,7,FALSE()),""),-3) -> 235000
A7: NCN2 | B7: =IF(A7="","",SUBTOTAL(103,$A$6:A7)) -> 2 | C7: Nhân công nhóm 2 | D7: công | E7: =ROUND(IFERROR(VLOOKUP(A7,'Bình quân V1'!$A$2:$G$76,7,FALSE()),""),-3) -> 0 | F7: =ROUND(IFERROR(VLOOKUP(A7,'Bình quân V2'!$A$2:$G$76,7,FALSE()),""),-3) -> 0 | G7: =ROUND(IFERROR(VLOOKUP(A7,'Bình quân V3'!A:G,7,FALSE()),""),-3) -> 292000 | H7: =ROUND(IFERROR(VLOOKUP(A7,'Bình quân V4'!A:G,7,FALSE()),""),-3) -> 282000
A8: NCN3 | B8: =IF(A8="","",SUBTOTAL(103,$A$6:A8)) -> 3 | C8: Nhân công nhóm 3 | D8: công | E8: =ROUND(IFERROR(VLOOKUP(A8,'Bình quân V1'!$A$2:$G$76,7,FALSE()),""),-3) -> 0 | F8: =ROUND(IFERROR(VLOOKUP(A8,'Bình quân V2'!$A$2:$G$76,7,FALSE()),""),-3) -> 0 | G8: =ROUND(IFERROR(VLOOKUP(A8,'Bình quân V3'!A:G,7,FALSE()),""),-3) -> 303000 | H8: =ROUND(IFERROR(VLOOKUP(A8,'Bình quân V4'!A:G,7,FALSE()),""),-3) -> 292000
A9: NCN4 | B9: =IF(A9="","",SUBTOTAL(103,$A$6:A9)) -> 4 | C9: Nhân công nhóm 4 | D9: công | E9: =ROUND(IFERROR(VLOOKUP(A9,'Bình quân V1'!$A$2:$G$76,7,FALSE()),""),-3) -> 0 | F9: =ROUND(IFERROR(VLOOKUP(A9,'Bình quân V2'!$A$2:$G$76,7,FALSE()),""),-3) -> 0 | G9: =ROUND(IFERROR(VLOOKUP(A9,'Bình quân V3'!A:G,7,FALSE()),""),-3) -> 328000 | H9: =ROUND(IFERROR(VLOOKUP(A9,'Bình quân V4'!A:G,7,FALSE()),""),-3) -> 315000
A10: NCVHM | B10: =IF(A10="","",SUBTOTAL(103,$A$6:A10)) -> 5 | C10: Nhân công vận hành máy | D10: công | E10: =ROUND(IFERROR(VLOOKUP(A10,'Bình quân V1'!$A$2:$G$76,7,FALSE()),""),-3) -> 0 | F10: =ROUND(IFERROR(VLOOKUP(A10,'Bình quân V2'!$A$2:$G$76,7,FALSE()),""),-3) -> 0 | G10: =ROUND(IFERROR(VLOOKUP(A10,'Bình quân V3'!A:G,7,FALSE()),""),-3) -> 322000 | H10: =ROUND(IFERROR(VLOOKUP(A10,'Bình quân V4'!A:G,7,FALSE()),""),-3) -> 308000
A11: NCLX | B11: =IF(A11="","",SUBTOTAL(103,$A$6:A11)) -> 6 | C11: Lái xe | D11: công | E11: =ROUND(IFERROR(VLOOKUP(A11,'Bình quân V1'!$A$2:$G$76,7,FALSE()),""),-3) -> 0 | F11: =ROUND(IFERROR(VLOOKUP(A11,'Bình quân V2'!$A$2:$G$76,7,FALSE()),""),-3) -> 0 | G11: =ROUND(IFERROR(VLOOKUP(A11,'Bình quân V3'!A:G,7,FALSE()),""),-3) -> 302000 | H11: =ROUND(IFERROR(VLOOKUP(A11,'Bình quân V4'!A:G,7,FALSE()),""),-3) -> 289000
A12: NK408 | B12: =IF(A12="","",SUBTOTAL(103,$A$6:A12)) -> 7 | C12: Kỹ sư khảo sát, thí nghiệm, kỹ sư trực tiếp | D12: công | E12: =IFERROR(VLOOKUP(A12,'Bình quân V1'!$A$2:$G$76,7,FALSE()),"") -> 0 | F12: =IFERROR(VLOOKUP(A12,'Bình quân V2'!$A$2:$G$76,7,FALSE()),"") -> 0 | G12: =ROUND(IFERROR(VLOOKUP(A12,'Bình quân V3'!A:G,7,FALSE()),""),-3) -> 300000 | H12: =ROUND(IFERROR(VLOOKUP(A12,'Bình quân V4'!A:G,7,FALSE()),""),-3) -> 291000
A13: NTL204 | B13: =IF(A13="","",SUBTOTAL(103,$A$6:A13)) -> 7 | C13: Thợ lặn | D13: công | E13: =IFERROR(VLOOKUP(A13,'Bình quân V1'!$A$2:$G$76,7,FALSE()),"") -> 0 | F13: =IFERROR(VLOOKUP(A13,'Bình quân V2'!$A$2:$G$76,7,FALSE()),"") -> 0 | G13: =ROUND(IFERROR(VLOOKUP(A13,'Bình quân V3'!A:G,7,FALSE()),""),-3) -> 0 | H13: =ROUND(IFERROR(VLOOKUP(A13,'Bình quân V4'!A:G,7,FALSE()),""),-3) -> 0
A14: NN152 | B14: =IF(A14="","",SUBTOTAL(103,$A$6:A14)) -> 7 | C14: Nghệ nhân | D14: công | E14: =IFERROR(VLOOKUP(A14,'Bình quân V1'!$A$2:$G$76,7,FALSE()),"") -> 0 | F14: =IFERROR(VLOOKUP(A14,'Bình quân V2'!$A$2:$G$76,7,FALSE()),"") -> 0 | G14: =ROUND(IFERROR(VLOOKUP(A14,'Bình quân V3'!A:G,7,FALSE()),""),-3) -> 0 | H14: =ROUND(IFERROR(VLOOKUP(A14,'Bình quân V4'!A:G,7,FALSE()),""),-3) -> 0
A15: NCHL | B15: =IF(A15="","",SUBTOTAL(103,$A$6:A15)) -> 7 | C15: Nhân công xây dựng và vận hành máy, thiết bị trong hầm lò | D15: công | E15: =IFERROR(VLOOKUP(A15,'Bình quân V1'!$A$2:$G$76,7,FALSE()),"") | F15: =IFERROR(VLOOKUP(A15,'Bình quân V2'!$A$2:$G$76,7,FALSE()),"") | G15: =ROUND(IFERROR(VLOOKUP(A15,'Bình quân V3'!A:G,7,FALSE()),""),-3) -> #VALUE! | H15: =ROUND(IFERROR(VLOOKUP(A15,'Bình quân V4'!A:G,7,FALSE()),""),-3) -> #VALUE!
A16: NCĐM | B16: =IF(A16="","",SUBTOTAL(103,$A$6:A16)) -> 7 | C16: Nhân công cơ điện mỏ hầm lò | D16: công | E16: =IFERROR(VLOOKUP(A16,'Bình quân V1'!$A$2:$G$76,7,FALSE()),"") | F16: =IFERROR(VLOOKUP(A16,'Bình quân V2'!$A$2:$G$76,7,FALSE()),"") | G16: =ROUND(IFERROR(VLOOKUP(A16,'Bình quân V3'!A:G,7,FALSE()),""),-3) -> #VALUE! | H16: =ROUND(IFERROR(VLOOKUP(A16,'Bình quân V4'!A:G,7,FALSE()),""),-3) -> #VALUE!

Sheet Bình quân V1
A1: Mã nhân công | B1: Tên nhân công | C1: Mã hiệu | D1: Cấp bậc thợ (cũ) | E1: Số lượng nhân công | F1: ='Đơn giá NC 2026'!E5 -> Vùng I | G1: ='Đơn giá NC 2026'!E5 -> Vùng I | H1: Tổng đơn giá theo các mã thành phần (ẩn)
A2: NCN1 | B2: Nhân công nhóm 1 | G2: =IFERROR(ROUND(SUMPRODUCT(E3:E8,F3:F8)/SUM(E3:E8),0),"") -> 0
A3: N1307 | B3: Nhóm 1 | C3: AA.1211 | D3: 3,0/7 | E3: 1 | F3: =IFERROR(VLOOKUP(A3,'Đơn giá nhân công đã công bố'!B:E,4,FALSE()),"") -> 0
A4: N1307 | B4: Nhóm 1 | C4: AA.222 | D4: 3,0/7 | E4: 1 | F4: =IFERROR(VLOOKUP(A4,'Đơn giá nhân công đã công bố'!B:E,4,FALSE()),"") -> 0
A5: N1307 | B5: Nhóm 1 | C5: AB.1131 | D5: 3,0/7 | E5: 1 | F5: =IFERROR(VLOOKUP(A5,'Đơn giá nhân công đã công bố'!B:E,4,FALSE()),"") -> 0
A6: N1307 | B6: Nhóm 1 | C6: AB.1311 | D6: 3,0/7 | E6: 1 | F6: =IFERROR(VLOOKUP(A6,'Đơn giá nhân công đã công bố'!B:E,4,FALSE()),"") -> 0
A7: N1307 | B7: Nhóm 1 | C7: AB.1311 | D7: 3,0/7 | E7: 1 | F7: =IFERROR(VLOOKUP(A7,'Đơn giá nhân công đã công bố'!B:E,4,FALSE()),"") -> 0
A8: N1307 | B8: Nhóm 1 | C8: AB.751 | D8: 3,0/7 | E8: 1 | F8: =IFERROR(VLOOKUP(A8,'Đơn giá nhân công đã công bố'!B:E,4,FALSE()),"") -> 0
A9: NCN2 | B9: Nhân công nhóm 2 | F9: =IFERROR(VLOOKUP(A9,'Đơn giá nhân công đã công bố'!B:E,4,FALSE()),"") | G9: =IFERROR(ROUND(SUMPRODUCT(E10:E18,F10:F18)/SUM(E10:E18),0),"") -> 0
A10: N2357 | B10: Nhóm 2 | C10: AC.161 | D10: 3,5/7 | E10: 1 | F10: =IFERROR(VLOOKUP(A10,'Đơn giá nhân công đã công bố'!B:E,4,FALSE()),"") -> 0
A11: N2357 | B11: Nhóm 2 | C11: AF.121 | D11: 3,5/7 | E11: 1 | F11: =IFERROR(VLOOKUP(A11,'Đơn giá nhân công đã công bố'!B:E,4,FALSE()),"") -> 0 | I11: Bê tông tường
A12: N2307 | B12: Nhóm 2 | C12: AF.123 | D12: 3,0/7 | E12: 1 | F12: =IFERROR(VLOOKUP(A12,'Đơn giá nhân công đã công bố'!B:E,4,FALSE()),"") -> 0 | I12: Bê tông xà dầm, giằng nhà | K12: Xóa
A13: N2357 | B13: Nhóm 2 | C13: AF.613 | D13: 3,5/7 | E13: 1 | F13: =IFERROR(VLOOKUP(A13,'Đơn giá nhân công đã công bố'!B:E,4,FALSE()),"") -> 0 | I13: Cốt thép tường
A14: N2357 | B14: Nhóm 2 | C14: AF.615 | D14: 3,5/7 | E14: 1 | F14: =IFERROR(VLOOKUP(A14,'Đơn giá nhân công đã công bố'!B:E,4,FALSE()),"") -> 0 | I14: Cốt thép xà dầm, giằng | K14: Xóa
A15: N2407 | B15: Nhóm 2 | C15: AF.825 | D15: 4,0/7 | E15: 1 | F15: =IFERROR(VLOOKUP(A15,'Đơn giá nhân công đã công bố'!B:E,4,FALSE()),"") -> 0 | I15: Ván khuôn móng
A16: N2407 | B16: Nhóm 2 | C16: AF.862 | D16: 4,0/7 | E16: 1 | F16: =IFERROR(VLOOKUP(A16,'Đơn giá nhân công đã công bố'!B:E,4,FALSE()),"") -> 0 | I16: Ván khuôn tường | K16: xóa
A17: N2357 | B17: Nhóm 2 | C17: AD.2322 | D17: 3,5/7 | E17: 1 | F17: =IFERROR(VLOOKUP(A17,'Đơn giá nhân công đã công bố'!B:E,4,FALSE()),"") -> 0
A18: N2357 | B18: Nhóm 2 | C18: AE.611 | D18: 3,5/7 | E18: 1 | F18: =IFERROR(VLOOKUP(A18,'Đơn giá nhân công đã công bố'!B:E,4,FALSE()),"") -> 0
A19: NCN3 | B19: Nhân công nhóm 3 | F19: =IFERROR(VLOOKUP(A19,'Đơn giá nhân công đã công bố'!B:E,4,FALSE()),"") | G19: =IFERROR(ROUND(SUMPRODUCT(E20:E28,F20:F28)/SUM(E20:E28),0),"") -> 0
A20: N2407 | B20: Nhóm 3 | C20: AI.111 | D20: 4,0/7 | E20: 1 | F20: =IFERROR(VLOOKUP(A20,'Đơn giá nhân công đã công bố'!B:E,4,FALSE()),"") -> 0
A21: N2407 | B21: Nhóm 3 | C21: AI.111 | D21: 4,0/7 | E21: 1 | F21: =IFERROR(VLOOKUP(A21,'Đơn giá nhân công đã công bố'!B:E,4,FALSE()),"") -> 0
A22: N2357 | B22: Nhóm 3 | C22: AK.211 | D22: 3,5/7 | E22: 1 | F22: =IFERROR(VLOOKUP(A22,'Đơn giá nhân công đã công bố'!B:E,4,FALSE()),"") -> 0
A23: N2407 | B23: Nhóm 3 | C23: AK.221 | D23: 4,0/7 | E23: 1 | F23: =IFERROR(VLOOKUP(A23,'Đơn giá nhân công đã công bố'!B:E,4,FALSE()),"") -> 0
A24: N2407 | B24: Nhóm 3 | C24: AK.311 | D24: 4,0/7 | E24: 1 | F24: =IFERROR(VLOOKUP(A24,'Đơn giá nhân công đã công bố'!B:E,4,FALSE()),"") -> 0
A25: N2407 | B25: Nhóm 3 | C25: AK.512 | D25: 4,0/7 | E25: 1 | F25: =IFERROR(VLOOKUP(A25,'Đơn giá nhân công đã công bố'!B:E,4,FALSE()),"") -> 0
A26: N3357 | B26: Nhóm 3 | C26: BA.111 | D26: 3,5/7 | E26: 1 | F26: =IFERROR(VLOOKUP(A26,'Đơn giá nhân công đã công bố'!B:E,4,FALSE()),"") -> 0
A27: N3357 | B27: Nhóm 3 | C27: BA.131 | D27: 3,5/7 | E27: 1 | F27: =IFERROR(VLOOKUP(A27,'Đơn giá nhân công đã công bố'!B:E,4,FALSE()),"") -> 0
A28: N3357 | B28: Nhóm 3 | C28: BA.121 | D28: 3,5/7 | E28: 1 | F28: =IFERROR(VLOOKUP(A28,'Đơn giá nhân công đã công bố'!B:E,4,FALSE()),"") -> 0
A29: NCN4 | B29: Nhân công nhóm 4 | F29: =IFERROR(VLOOKUP(A29,'Đơn giá nhân công đã công bố'!B:E,4,FALSE()),"") | G29: =IFERROR(ROUND(SUMPRODUCT(E30:E38,F30:F38)/SUM(E30:E38),0),"") -> 0
A30: N3407 | B30: Nhóm 4 | C30: D3.612 | D30: 4,0/7 | E30: 1 | F30: =IFERROR(VLOOKUP(A30,'Đơn giá nhân công đã công bố'!B:E,4,FALSE()),"") -> 0
A31: N3407 | B31: Nhóm 4 | C31: D3.614 | D31: 4,0/7 | E31: 1 | F31: =IFERROR(VLOOKUP(A31,'Đơn giá nhân công đã công bố'!B:E,4,FALSE()),"") -> 0
A32: N3407 | B32: Nhóm 4 | C32: D3.613 | D32: 4,0/7 | E32: 1 | F32: =IFERROR(VLOOKUP(A32,'Đơn giá nhân công đã công bố'!B:E,4,FALSE()),"") -> 0
A33: N3457 | B33: Nhóm 4 | C33: D3.622 | D33: 4,5/7 | E33: 1 | F33: =IFERROR(VLOOKUP(A33,'Đơn giá nhân công đã công bố'!B:E,4,FALSE()),"") -> 0
A34: N3457 | B34: Nhóm 4 | C34: D3.624 | D34: 4,5/7 | E34: 1 | F34: =IFERROR(VLOOKUP(A34,'Đơn giá nhân công đã công bố'!B:E,4,FALSE()),"") -> 0
A35: N3457 | B35: Nhóm 4 | C35: D3.623 | D35: 4,5/7 | E35: 1 | F35: =IFERROR(VLOOKUP(A35,'Đơn giá nhân công đã công bố'!B:E,4,FALSE()),"") -> 0
A36: N3457 | B36: Nhóm 4 | C36: T1.141 | D36: 4,5/7 | E36: 1 | F36: =IFERROR(VLOOKUP(A36,'Đơn giá nhân công đã công bố'!B:E,4,FALSE()),"") -> 0
A37: N3407 | B37: Nhóm 4 | C37: DB.120 | D37: 4,0/7 | E37: 1 | F37: =IFERROR(VLOOKUP(A37,'Đơn giá nhân công đã công bố'!B:E,4,FALSE()),"") -> 0
A38: N3407 | B38: Nhóm 4 | C38: MB.020 | D38: 4,0/7 | E38: 1 | F38: =IFERROR(VLOOKUP(A38,'Đơn giá nhân công đã công bố'!B:E,4,FALSE()),"") -> 0
A39: NCVHM | B39: Nhân công vận hành máy | G39: =IFERROR(ROUND(SUM(F40:F46)/SUM(E40:E46),0),"") -> 0
A40: N4407 | B40: Vận hành máy | C40: M101.0106 | D40: 1x4/7 | E40: =IF(A40="","",LEN(A40)-LEN(SUBSTITUTE(A40,";",""))+1) -> 1 | F40: =IFERROR(H40,"") -> 0 | H40: =IFERROR(VLOOKUP("N4407",'Đơn giá nhân công đã công bố'!$B$2:$E$163,4,FALSE()),0) -> 0
A41: N4407;N4607 | B41: Vận hành máy | C41: M102.0206 | D41: 1x4/7 + 1x6/7 | E41: =IF(A41="","",LEN(A41)-LEN(SUBSTITUTE(A41,";",""))+1) -> 2 | F41: =IFERROR(H41,"") -> 0 | H41: =IFERROR(VLOOKUP("N4407",'Đơn giá nhân công đã công bố'!$B$2:$E$163,4,FALSE())+VLOOKUP("N4607",'Đơn giá nhân công đã công bố'!$B$2:$E$163,4,FALSE()),0) -> 0
A42: N4507 | B42: Vận hành máy | C42: M103.0103 | D42: 1x5/7 | E42: =IF(A42="","",LEN(A42)-LEN(SUBSTITUTE(A42,";",""))+1) -> 1 | F42: =IFERROR(H42,"") -> 0 | H42: =IFERROR(VLOOKUP("N4507",'Đơn giá nhân công đã công bố'!$B$2:$E$163,4,FALSE()),0) -> 0
A43: N4307;N4307;N4507 | B43: Vận hành máy | C43: M104.0407 | D43: 2x3/7 + 1x5/7 | E43: =IF(A43="","",LEN(A43)-LEN(SUBSTITUTE(A43,";",""))+1) -> 3 | F43: =IFERROR(H43,"") -> 0 | H43: =IFERROR(VLOOKUP("N4307",'Đơn giá nhân công đã công bố'!$B$2:$E$163,4,FALSE())+VLOOKUP("N4307",'Đơn giá nhân công đã công bố'!$B$2:$E$163,4,FALSE())+VLOOKUP("N4507",'Đơn giá nhân công đã công bố'!$B$2:$E$163,4,FALSE()),0) -> 0
A44: N4307;N4507 | B44: Vận hành máy | C44: M105.0203 | D44: 1x3/7 + 1x5/7 | E44: =IF(A44="","",LEN(A44)-LEN(SUBSTITUTE(A44,";",""))+1) -> 2 | F44: =IFERROR(H44,"") -> 0 | H44: =IFERROR(VLOOKUP("N4307",'Đơn giá nhân công đã công bố'!$B$2:$E$163,4,FALSE())+VLOOKUP("N4507",'Đơn giá nhân công đã công bố'!$B$2:$E$163,4,FALSE()),0) -> 0
A45: N4307;N4407 | B45: Vận hành máy | C45: M107.0202 | D45: 1x3/7 + 1x4/7 | E45: =IF(A45="","",LEN(A45)-LEN(SUBSTITUTE(A45,";",""))+1) -> 2 | F45: =IFERROR(H45,"") -> 0 | H45: =IFERROR(VLOOKUP("N4307",'Đơn giá nhân công đã công bố'!$B$2:$E$163,4,FALSE())+VLOOKUP("N4407",'Đơn giá nhân công đã công bố'!$B$2:$E$163,4,FALSE()),0) -> 0
A46: N4307 | B46: Vận hành máy | C46: M112.2601 | D46: 1x3/7 | E46: =IF(A46="","",LEN(A46)-LEN(SUBSTITUTE(A46,";",""))+1) -> 1 | F46: =IFERROR(H46,"") -> 0 | H46: =IFERROR(VLOOKUP("N4307",'Đơn giá nhân công đã công bố'!$B$2:$E$163,4,FALSE()),0) -> 0
A47: NCLX | B47: Lái xe | G47: =IFERROR(ROUND(SUM(F48:F54)/SUM(E48:E54),0),"") -> 0
A48: NLX414;NLX434 | B48: Lái xe | C48: M102.0106 | D48: 1x1/4 + 1x3/4 lái xe | E48: =IF(A48="","",LEN(A48)-LEN(SUBSTITUTE(A48,";",""))+1) -> 2 | F48: =IFERROR(H48,"") -> 0 | H48: =IFERROR(VLOOKUP("NLX414",'Đơn giá nhân công đã công bố'!$B$2:$E$163,4,FALSE())+VLOOKUP("NLX434",'Đơn giá nhân công đã công bố'!$B$2:$E$163,4,FALSE()),0) -> 0
A49: NLX414;NLX434 | B49: Lái xe | C49: M102.1803 | D49: 1x1/4 + 1x3/4 lái xe | E49: =IF(A49="","",LEN(A49)-LEN(SUBSTITUTE(A49,";",""))+1) -> 2 | F49: =IFERROR(H49,"") -> 0 | H49: =IFERROR(VLOOKUP("NLX414",'Đơn giá nhân công đã công bố'!$B$2:$E$163,4,FALSE())+VLOOKUP("NLX434",'Đơn giá nhân công đã công bố'!$B$2:$E$163,4,FALSE()),0) -> 0
A50: NLX414;NLX434 | B50: Lái xe | C50: M105.0101 | D50: 1x1/4 + 1x3/4 lái xe | E50: =IF(A50="","",LEN(A50)-LEN(SUBSTITUTE(A50,";",""))+1) -> 2 | F50: =IFERROR(H50,"") -> 0 | H50: =IFERROR(VLOOKUP("NLX414",'Đơn giá nhân công đã công bố'!$B$2:$E$163,4,FALSE())+VLOOKUP("NLX434",'Đơn giá nhân công đã công bố'!$B$2:$E$163,4,FALSE()),0) -> 0
A51: NLX424 | B51: Lái xe | C51: M106.0107 | D51: 1x2/4 lái xe | E51: =IF(A51="","",LEN(A51)-LEN(SUBSTITUTE(A51,";",""))+1) -> 1 | F51: =IFERROR(H51,"") -> 0 | H51: =IFERROR(VLOOKUP("NLX424",'Đơn giá nhân công đã công bố'!$B$2:$E$163,4,FALSE()),0) -> 0
A52: NLX434 | B52: Lái xe | C52: M106.0206 | D52: 1x3/4 lái xe | E52: =IF(A52="","",LEN(A52)-LEN(SUBSTITUTE(A52,";",""))+1) -> 1 | F52: =IFERROR(H52,"") -> 0 | H52: =IFERROR(VLOOKUP("NLX434",'Đơn giá nhân công đã công bố'!$B$2:$E$163,4,FALSE()),0) -> 0
A53: NLX414;NLX434 | B53: Lái xe | C53: M106.0402 | D53: 1x1/4 + 1x3/4 lái xe | E53: =IF(A53="","",LEN(A53)-LEN(SUBSTITUTE(A53,";",""))+1) -> 2 | F53: =IFERROR(H53,"") -> 0 | H53: =IFERROR(VLOOKUP("NLX414",'Đơn giá nhân công đã công bố'!$B$2:$E$163,4,FALSE())+VLOOKUP("NLX434",'Đơn giá nhân công đã công bố'!$B$2:$E$163,4,FALSE()),0) -> 0
A54: NLX414;NLX434 | B54: Lái xe | C54: M112.0802 | D54: 1x1/4 + 1x3/4 lái xe | E54: =IF(A54="","",LEN(A54)-LEN(SUBSTITUTE(A54,";",""))+1) -> 2 | F54: =IFERROR(H54,"") -> 0 | H54: =IFERROR(VLOOKUP("NLX414",'Đơn giá nhân công đã công bố'!$B$2:$E$163,4,FALSE())+VLOOKUP("NLX434",'Đơn giá nhân công đã công bố'!$B$2:$E$163,4,FALSE()),0) -> 0
A55: NTT124 | B55: Thủy thủ | E55: 1 | F55: =IFERROR(VLOOKUP(A55,'Đơn giá nhân công đã công bố'!B:E,4,FALSE()),"") -> 0 | G55: =F55 -> 0
A56: NTM124 | B56: Thợ máy | E56: 1 | F56: =IFERROR(VLOOKUP(A56,'Đơn giá nhân công đã công bố'!B:E,4,FALSE()),"") -> 0 | G56: =F56 -> 0
A57: NTD124 | B57: Thợ điện | E57: 1 | F57: =IFERROR(VLOOKUP(A57,'Đơn giá nhân công đã công bố'!B:E,4,FALSE()),"") -> 0 | G57: =F57 -> 0
A58: NMT152S | B58: Máy trưởng – tàu sông | E58: 1 | F58: =IFERROR(VLOOKUP(A58,'Đơn giá nhân công đã công bố'!B:E,4,FALSE()),"") -> 0 | G58: =F58 -> 0
A59: NMI152S | B59: Máy I – tàu sông | E59: 1 | F59: =IFERROR(VLOOKUP(A59,'Đơn giá nhân công đã công bố'!B:E,4,FALSE()),"") -> 0 | G59: =F59 -> 0
A60: NMII152S | B60: Máy II – tàu sông | E60: 1 | F60: =IFERROR(VLOOKUP(A60,'Đơn giá nhân công đã công bố'!B:E,4,FALSE()),"") -> 0 | G60: =F60 -> 0
A61: NDT152S | B61: Điện trưởng – tàu sông | E61: 1 | F61: =IFERROR(VLOOKUP(A61,'Đơn giá nhân công đã công bố'!B:E,4,FALSE()),"") -> 0 | G61: =F61 -> 0
A62: NKTVI152S | B62: Kỹ thuật viên cuốc I – tàu sông | E62: 1 | F62: =IFERROR(VLOOKUP(A62,'Đơn giá nhân công đã công bố'!B:E,4,FALSE()),"") -> 0 | G62: =F62 -> 0
A63: NKTVII152S | B63: Kỹ thuật viên cuốc II – tàu sông | E63: 1 | F63: =IFERROR(VLOOKUP(A63,'Đơn giá nhân công đã công bố'!B:E,4,FALSE()),"") -> 0 | G63: =F63 -> 0
A64: NMT152B | B64: Máy trưởng – tàu biển | E64: 1 | F64: =IFERROR(VLOOKUP(A64,'Đơn giá nhân công đã công bố'!B:E,4,FALSE()),"") -> 0 | G64: =F64 -> 0
A65: NMI152B | B65: Máy I – tàu biển | E65: 1 | F65: =IFERROR(VLOOKUP(A65,'Đơn giá nhân công đã công bố'!B:E,4,FALSE()),"") -> 0 | G65: =F65 -> 0
A66: NMII152B | B66: Máy II – tàu biển | E66: 1 | F66: =IFERROR(VLOOKUP(A66,'Đơn giá nhân công đã công bố'!B:E,4,FALSE()),"") -> 0 | G66: =F66 -> 0
... A76: NCĐM | B76: Nhân công cơ điện mỏ hầm lò | E76: 1 | F76: =IFERROR(VLOOKUP(A76,'Đơn giá nhân công đã công bố'!B:E,4,FALSE()),"") | G76: =F76

Sheet Bình quân V2
A1: Mã nhân công | B1: Tên nhân công | C1: Mã hiệu | D1: Cấp bậc thợ (cũ) | E1: Số lượng nhân công | F1: ='Đơn giá NC 2026'!F5 -> Vùng II | G1: ='Đơn giá NC 2026'!F5 -> Vùng II | H1: Tổng đơn giá theo các mã thành phần (ẩn)
A2: NCN1 | B2: Nhân công nhóm 1 | G2: =IFERROR(ROUND(SUMPRODUCT(E3:E8,F3:F8)/SUM(E3:E8),0),"") -> 0
A3: N1307 | B3: Nhóm 1 | C3: AA.1211 | D3: 3,0/7 | E3: 1 | F3: =IFERROR(VLOOKUP(A3,'Đơn giá nhân công đã công bố'!B:F,5,FALSE()),"") -> 0
A4: N1307 | B4: Nhóm 1 | C4: AA.222 | D4: 3,0/7 | E4: 1 | F4: =IFERROR(VLOOKUP(A4,'Đơn giá nhân công đã công bố'!B:F,5,FALSE()),"") -> 0
A5: N1307 | B5: Nhóm 1 | C5: AB.1131 | D5: 3,0/7 | E5: 1 | F5: =IFERROR(VLOOKUP(A5,'Đơn giá nhân công đã công bố'!B:F,5,FALSE()),"") -> 0
A6: N1307 | B6: Nhóm 1 | C6: AB.1311 | D6: 3,0/7 | E6: 1 | F6: =IFERROR(VLOOKUP(A6,'Đơn giá nhân công đã công bố'!B:F,5,FALSE()),"") -> 0
A7: N1307 | B7: Nhóm 1 | C7: AB.1311 | D7: 3,0/7 | E7: 1 | F7: =IFERROR(VLOOKUP(A7,'Đơn giá nhân công đã công bố'!B:F,5,FALSE()),"") -> 0
A8: N1307 | B8: Nhóm 1 | C8: AB.751 | D8: 3,0/7 | E8: 1 | F8: =IFERROR(VLOOKUP(A8,'Đơn giá nhân công đã công bố'!B:F,5,FALSE()),"") -> 0
A9: NCN2 | B9: Nhân công nhóm 2 | F9: =IFERROR(VLOOKUP(A9,'Đơn giá nhân công đã công bố'!B:F,5,FALSE()),"") | G9: =IFERROR(ROUND(SUMPRODUCT(E10:E18,F10:F18)/SUM(E10:E18),0),"") -> 0
A10: N2357 | B10: Nhóm 2 | C10: AC.161 | D10: 3,5/7 | E10: 1 | F10: =IFERROR(VLOOKUP(A10,'Đơn giá nhân công đã công bố'!B:F,5,FALSE()),"") -> 0
A11: N2357 | B11: Nhóm 2 | C11: AF.121 | D11: 3,5/7 | E11: 1 | F11: =IFERROR(VLOOKUP(A11,'Đơn giá nhân công đã công bố'!B:F,5,FALSE()),"") -> 0 | I11: Bê tông tường
A12: N2307 | B12: Nhóm 2 | C12: AF.123 | D12: 3,0/7 | E12: 1 | F12: =IFERROR(VLOOKUP(A12,'Đơn giá nhân công đã công bố'!B:F,5,FALSE()),"") -> 0 | I12: Bê tông xà dầm, giằng nhà | K12: Xóa
A13: N2357 | B13: Nhóm 2 | C13: AF.613 | D13: 3,5/7 | E13: 1 | F13: =IFERROR(VLOOKUP(A13,'Đơn giá nhân công đã công bố'!B:F,5,FALSE()),"") -> 0 | I13: Cốt thép tường
A14: N2357 | B14: Nhóm 2 | C14: AF.615 | D14: 3,5/7 | E14: 1 | F14: =IFERROR(VLOOKUP(A14,'Đơn giá nhân công đã công bố'!B:F,5,FALSE()),"") -> 0 | I14: Cốt thép xà dầm, giằng | K14: Xóa
A15: N2407 | B15: Nhóm 2 | C15: AF.825 | D15: 4,0/7 | E15: 1 | F15: =IFERROR(VLOOKUP(A15,'Đơn giá nhân công đã công bố'!B:F,5,FALSE()),"") -> 0 | I15: Ván khuôn móng
A16: N2407 | B16: Nhóm 2 | C16: AF.862 | D16: 4,0/7 | E16: 1 | F16: =IFERROR(VLOOKUP(A16,'Đơn giá nhân công đã công bố'!B:F,5,FALSE()),"") -> 0 | I16: Ván khuôn tường | K16: xóa
A17: N2357 | B17: Nhóm 2 | C17: AD.2322 | D17: 3,5/7 | E17: 1 | F17: =IFERROR(VLOOKUP(A17,'Đơn giá nhân công đã công bố'!B:F,5,FALSE()),"") -> 0
A18: N2357 | B18: Nhóm 2 | C18: AE.611 | D18: 3,5/7 | E18: 1 | F18: =IFERROR(VLOOKUP(A18,'Đơn giá nhân công đã công bố'!B:F,5,FALSE()),"") -> 0
A19: NCN3 | B19: Nhân công nhóm 3 | F19: =IFERROR(VLOOKUP(A19,'Đơn giá nhân công đã công bố'!B:F,5,FALSE()),"") | G19: =IFERROR(ROUND(SUMPRODUCT(E20:E28,F20:F28)/SUM(E20:E28),0),"") -> 0
A20: N2407 | B20: Nhóm 3 | C20: AI.111 | D20: 4,0/7 | E20: 1 | F20: =IFERROR(VLOOKUP(A20,'Đơn giá nhân công đã công bố'!B:F,5,FALSE()),"") -> 0
A21: N2407 | B21: Nhóm 3 | C21: AI.111 | D21: 4,0/7 | E21: 1 | F21: =IFERROR(VLOOKUP(A21,'Đơn giá nhân công đã công bố'!B:F,5,FALSE()),"") -> 0
A22: N2357 | B22: Nhóm 3 | C22: AK.211 | D22: 3,5/7 | E22: 1 | F22: =IFERROR(VLOOKUP(A22,'Đơn giá nhân công đã công bố'!B:F,5,FALSE()),"") -> 0
A23: N2407 | B23: Nhóm 3 | C23: AK.221 | D23: 4,0/7 | E23: 1 | F23: =IFERROR(VLOOKUP(A23,'Đơn giá nhân công đã công bố'!B:F,5,FALSE()),"") -> 0
A24: N2407 | B24: Nhóm 3 | C24: AK.311 | D24: 4,0/7 | E24: 1 | F24: =IFERROR(VLOOKUP(A24,'Đơn giá nhân công đã công bố'!B:F,5,FALSE()),"") -> 0
A25: N2407 | B25: Nhóm 3 | C25: AK.512 | D25: 4,0/7 | E25: 1 | F25: =IFERROR(VLOOKUP(A25,'Đơn giá nhân công đã công bố'!B:F,5,FALSE()),"") -> 0
A26: N3357 | B26: Nhóm 3 | C26: BA.111 | D26: 3,5/7 | E26: 1 | F26: =IFERROR(VLOOKUP(A26,'Đơn giá nhân công đã công bố'!B:F,5,FALSE()),"") -> 0
A27: N3357 | B27: Nhóm 3 | C27: BA.131 | D27: 3,5/7 | E27: 1 | F27: =IFERROR(VLOOKUP(A27,'Đơn giá nhân công đã công bố'!B:F,5,FALSE()),"") -> 0
A28: N3357 | B28: Nhóm 3 | C28: BA.121 | D28: 3,5/7 | E28: 1 | F28: =IFERROR(VLOOKUP(A28,'Đơn giá nhân công đã công bố'!B:F,5,FALSE()),"") -> 0
A29: NCN4 | B29: Nhân công nhóm 4 | F29: =IFERROR(VLOOKUP(A29,'Đơn giá nhân công đã công bố'!B:F,5,FALSE()),"") | G29: =IFERROR(ROUND(SUMPRODUCT(E30:E38,F30:F38)/SUM(E30:E38),0),"") -> 0
A30: N3407 | B30: Nhóm 4 | C30: D3.612 | D30: 4,0/7 | E30: 1 | F30: =IFERROR(VLOOKUP(A30,'Đơn giá nhân công đã công bố'!B:F,5,FALSE()),"") -> 0
A31: N3407 | B31: Nhóm 4 | C31: D3.614 | D31: 4,0/7 | E31: 1 | F31: =IFERROR(VLOOKUP(A31,'Đơn giá nhân công đã công bố'!B:F,5,FALSE()),"") -> 0
A32: N3407 | B32: Nhóm 4 | C32: D3.613 | D32: 4,0/7 | E32: 1 | F32: =IFERROR(VLOOKUP(A32,'Đơn giá nhân công đã công bố'!B:F,5,FALSE()),"") -> 0
A33: N3457 | B33: Nhóm 4 | C33: D3.622 | D33: 4,5/7 | E33: 1 | F33: =IFERROR(VLOOKUP(A33,'Đơn giá nhân công đã công bố'!B:F,5,FALSE()),"") -> 0
A34: N3457 | B34: Nhóm 4 | C34: D3.624 | D34: 4,5/7 | E34: 1 | F34: =IFERROR(VLOOKUP(A34,'Đơn giá nhân công đã công bố'!B:F,5,FALSE()),"") -> 0
A35: N3457 | B35: Nhóm 4 | C35: D3.623 | D35: 4,5/7 | E35: 1 | F35: =IFERROR(VLOOKUP(A35,'Đơn giá nhân công đã công bố'!B:F,5,FALSE()),"") -> 0
A36: N3457 | B36: Nhóm 4 | C36: T1.141 | D36: 4,5/7 | E36: 1 | F36: =IFERROR(VLOOKUP(A36,'Đơn giá nhân công đã công bố'!B:F,5,FALSE()),"") -> 0
A37: N3407 | B37: Nhóm 4 | C37: DB.120 | D37: 4,0/7 | E37: 1 | F37: =IFERROR(VLOOKUP(A37,'Đơn giá nhân công đã công bố'!B:F,5,FALSE()),"") -> 0
A38: N3407 | B38: Nhóm 4 | C38: MB.020 | D38: 4,0/7 | E38: 1 | F38: =IFERROR(VLOOKUP(A38,'Đơn giá nhân công đã công bố'!B:F,5,FALSE()),"") -> 0
A39: NCVHM | B39: Nhân công vận hành máy | G39: =IFERROR(ROUND(SUM(F40:F46)/SUM(E40:E46),0),"") -> 0
A40: N4407 | B40: Vận hành máy | C40: M101.0106 | D40: 1x4/7 | E40: =IF(A40="","",LEN(A40)-LEN(SUBSTITUTE(A40,";",""))+1) -> 1 | F40: =IFERROR(H40,"") -> 0 | H40: =IFERROR(VLOOKUP("N4407",'Đơn giá nhân công đã công bố'!$B$2:$F$163,5,FALSE()),0) -> 0
A41: N4407;N4607 | B41: Vận hành máy | C41: M102.0206 | D41: 1x4/7 + 1x6/7 | E41: =IF(A41="","",LEN(A41)-LEN(SUBSTITUTE(A41,";",""))+1) -> 2 | F41: =IFERROR(H41,"") -> 0 | H41: =IFERROR(VLOOKUP("N4407",'Đơn giá nhân công đã công bố'!$B$2:$F$163,5,FALSE())+VLOOKUP("N4607",'Đơn giá nhân công đã công bố'!$B$2:$F$163,5,FALSE()),0) -> 0
A42: N4507 | B42: Vận hành máy | C42: M103.0103 | D42: 1x5/7 | E42: =IF(A42="","",LEN(A42)-LEN(SUBSTITUTE(A42,";",""))+1) -> 1 | F42: =IFERROR(H42,"") -> 0 | H42: =IFERROR(VLOOKUP("N4507",'Đơn giá nhân công đã công bố'!$B$2:$F$163,5,FALSE()),0) -> 0
A43: N4307;N4307;N4507 | B43: Vận hành máy | C43: M104.0407 | D43: 2x3/7 + 1x5/7 | E43: =IF(A43="","",LEN(A43)-LEN(SUBSTITUTE(A43,";",""))+1) -> 3 | F43: =IFERROR(H43,"") -> 0 | H43: =IFERROR(VLOOKUP("N4307",'Đơn giá nhân công đã công bố'!$B$2:$F$163,5,FALSE())+VLOOKUP("N4307",'Đơn giá nhân công đã công bố'!$B$2:$F$163,5,FALSE())+VLOOKUP("N4507",'Đơn giá nhân công đã công bố'!$B$2:$F$163,5,FALSE()),0) -> 0
A44: N4307;N4507 | B44: Vận hành máy | C44: M105.0203 | D44: 1x3/7 + 1x5/7 | E44: =IF(A44="","",LEN(A44)-LEN(SUBSTITUTE(A44,";",""))+1) -> 2 | F44: =IFERROR(H44,"") -> 0 | H44: =IFERROR(VLOOKUP("N4307",'Đơn giá nhân công đã công bố'!$B$2:$F$163,5,FALSE())+VLOOKUP("N4507",'Đơn giá nhân công đã công bố'!$B$2:$F$163,5,FALSE()),0) -> 0
A45: N4307;N4407 | B45: Vận hành máy | C45: M107.0202 | D45: 1x3/7 + 1x4/7 | E45: =IF(A45="","",LEN(A45)-LEN(SUBSTITUTE(A45,";",""))+1) -> 2 | F45: =IFERROR(H45,"") -> 0 | H45: =IFERROR(VLOOKUP("N4307",'Đơn giá nhân công đã công bố'!$B$2:$F$163,5,FALSE())+VLOOKUP("N4407",'Đơn giá nhân công đã công bố'!$B$2:$F$163,5,FALSE()),0) -> 0
A46: N4307 | B46: Vận hành máy | C46: M112.2601 | D46: 1x3/7 | E46: =IF(A46="","",LEN(A46)-LEN(SUBSTITUTE(A46,";",""))+1) -> 1 | F46: =IFERROR(H46,"") -> 0 | H46: =IFERROR(VLOOKUP("N4307",'Đơn giá nhân công đã công bố'!$B$2:$F$163,5,FALSE()),0) -> 0
A47: NCLX | B47: Lái xe | G47: =IFERROR(ROUND(SUM(F48:F54)/SUM(E48:E54),0),"") -> 0
A48: NLX414;NLX434 | B48: Lái xe | C48: M102.0106 | D48: 1x1/4 + 1x3/4 lái xe | E48: =IF(A48="","",LEN(A48)-LEN(SUBSTITUTE(A48,";",""))+1) -> 2 | F48: =IFERROR(H48,"") -> 0 | H48: =IFERROR(VLOOKUP("NLX414",'Đơn giá nhân công đã công bố'!$B$2:$F$163,5,FALSE())+VLOOKUP("NLX434",'Đơn giá nhân công đã công bố'!$B$2:$F$163,5,FALSE()),0) -> 0
A49: NLX414;NLX434 | B49: Lái xe | C49: M102.1803 | D49: 1x1/4 + 1x3/4 lái xe | E49: =IF(A49="","",LEN(A49)-LEN(SUBSTITUTE(A49,";",""))+1) -> 2 | F49: =IFERROR(H49,"") -> 0 | H49: =IFERROR(VLOOKUP("NLX414",'Đơn giá nhân công đã công bố'!$B$2:$F$163,5,FALSE())+VLOOKUP("NLX434",'Đơn giá nhân công đã công bố'!$B$2:$F$163,5,FALSE()),0) -> 0
A50: NLX414;NLX434 | B50: Lái xe | C50: M105.0101 | D50: 1x1/4 + 1x3/4 lái xe | E50: =IF(A50="","",LEN(A50)-LEN(SUBSTITUTE(A50,";",""))+1) -> 2 | F50: =IFERROR(H50,"") -> 0 | H50: =IFERROR(VLOOKUP("NLX414",'Đơn giá nhân công đã công bố'!$B$2:$F$163,5,FALSE())+VLOOKUP("NLX434",'Đơn giá nhân công đã công bố'!$B$2:$F$163,5,FALSE()),0) -> 0
A51: NLX424 | B51: Lái xe | C51: M106.0107 | D51: 1x2/4 lái xe | E51: =IF(A51="","",LEN(A51)-LEN(SUBSTITUTE(A51,";",""))+1) -> 1 | F51: =IFERROR(H51,"") -> 0 | H51: =IFERROR(VLOOKUP("NLX424",'Đơn giá nhân công đã công bố'!$B$2:$F$163,5,FALSE()),0) -> 0
A52: NLX434 | B52: Lái xe | C52: M106.0206 | D52: 1x3/4 lái xe | E52: =IF(A52="","",LEN(A52)-LEN(SUBSTITUTE(A52,";",""))+1) -> 1 | F52: =IFERROR(H52,"") -> 0 | H52: =IFERROR(VLOOKUP("NLX434",'Đơn giá nhân công đã công bố'!$B$2:$F$163,5,FALSE()),0) -> 0
A53: NLX414;NLX434 | B53: Lái xe | C53: M106.0402 | D53: 1x1/4 + 1x3/4 lái xe | E53: =IF(A53="","",LEN(A53)-LEN(SUBSTITUTE(A53,";",""))+1) -> 2 | F53: =IFERROR(H53,"") -> 0 | H53: =IFERROR(VLOOKUP("NLX414",'Đơn giá nhân công đã công bố'!$B$2:$F$163,5,FALSE())+VLOOKUP("NLX434",'Đơn giá nhân công đã công bố'!$B$2:$F$163,5,FALSE()),0) -> 0
A54: NLX414;NLX434 | B54: Lái xe | C54: M112.0802 | D54: 1x1/4 + 1x3/4 lái xe | E54: =IF(A54="","",LEN(A54)-LEN(SUBSTITUTE(A54,";",""))+1) -> 2 | F54: =IFERROR(H54,"") -> 0 | H54: =IFERROR(VLOOKUP("NLX414",'Đơn giá nhân công đã công bố'!$B$2:$F$163,5,FALSE())+VLOOKUP("NLX434",'Đơn giá nhân công đã công bố'!$B$2:$F$163,5,FALSE()),0) -> 0
A55: NTT124 | B55: Thủy thủ | E55: 1 | F55: =IFERROR(VLOOKUP(A55,'Đơn giá nhân công đã công bố'!B:F,5,FALSE()),"") -> 0 | G55: =F55 -> 0
A56: NTM124 | B56: Thợ máy | E56: 1 | F56: =IFERROR(VLOOKUP(A56,'Đơn giá nhân công đã công bố'!B:F,5,FALSE()),"") -> 0 | G56: =F56 -> 0
A57: NTD124 | B57: Thợ điện | E57: 1 | F57: =IFERROR(VLOOKUP(A57,'Đơn giá nhân công đã công bố'!B:F,5,FALSE()),"") -> 0 | G57: =F57 -> 0
A58: NMT152S | B58: Máy trưởng – tàu sông | E58: 1 | F58: =IFERROR(VLOOKUP(A58,'Đơn giá nhân công đã công bố'!B:F,5,FALSE()),"") -> 0 | G58: =F58 -> 0
A59: NMI152S | B59: Máy I – tàu sông | E59: 1 | F59: =IFERROR(VLOOKUP(A59,'Đơn giá nhân công đã công bố'!B:F,5,FALSE()),"") -> 0 | G59: =F59 -> 0
A60: NMII152S | B60: Máy II – tàu sông | E60: 1 | F60: =IFERROR(VLOOKUP(A60,'Đơn giá nhân công đã công bố'!B:F,5,FALSE()),"") -> 0 | G60: =F60 -> 0
A61: NDT152S | B61: Điện trưởng – tàu sông | E61: 1 | F61: =IFERROR(VLOOKUP(A61,'Đơn giá nhân công đã công bố'!B:F,5,FALSE()),"") -> 0 | G61: =F61 -> 0
A62: NKTVI152S | B62: Kỹ thuật viên cuốc I – tàu sông | E62: 1 | F62: =IFERROR(VLOOKUP(A62,'Đơn giá nhân công đã công bố'!B:F,5,FALSE()),"") -> 0 | G62: =F62 -> 0
A63: NKTVII152S | B63: Kỹ thuật viên cuốc II – tàu sông | E63: 1 | F63: =IFERROR(VLOOKUP(A63,'Đơn giá nhân công đã công bố'!B:F,5,FALSE()),"") -> 0 | G63: =F63 -> 0
A64: NMT152B | B64: Máy trưởng – tàu biển | E64: 1 | F64: =IFERROR(VLOOKUP(A64,'Đơn giá nhân công đã công bố'!B:F,5,FALSE()),"") -> 0 | G64: =F64 -> 0
A65: NMI152B | B65: Máy I – tàu biển | E65: 1 | F65: =IFERROR(VLOOKUP(A65,'Đơn giá nhân công đã công bố'!B:F,5,FALSE()),"") -> 0 | G65: =F65 -> 0
A66: NMII152B | B66: Máy II – tàu biển | E66: 1 | F66: =IFERROR(VLOOKUP(A66,'Đơn giá nhân công đã công bố'!B:F,5,FALSE()),"") -> 0 | G66: =F66 -> 0
... A76: NCĐM | B76: Nhân công cơ điện mỏ hầm lò | E76: 1 | F76: =IFERROR(VLOOKUP(A76,'Đơn giá nhân công đã công bố'!B:F,5,FALSE()),"") | G76: =F76

Sheet Bình quân V3
A1: Mã nhân công | B1: Tên nhân công | C1: Mã hiệu | D1: Cấp bậc thợ (cũ) | E1: Số lượng nhân công | F1: ='Đơn giá NC 2026'!G5 -> Vùng III | G1: ='Đơn giá NC 2026'!G5 -> Vùng III | H1: Tổng đơn giá theo các mã thành phần (ẩn)
A2: NCN1 | B2: Nhân công nhóm 1 | G2: =IFERROR(ROUND(SUMPRODUCT(E3:E8,F3:F8)/SUM(E3:E8),0),"") -> 244164
A3: N1307 | B3: Nhóm 1 | C3: AA.1211 | D3: 3,0/7 | E3: 1 | F3: =IFERROR(VLOOKUP(A3,'Đơn giá nhân công đã công bố'!B:G,6,FALSE()),"") -> 244164.47
A4: N1307 | B4: Nhóm 1 | C4: AA.222 | D4: 3,0/7 | E4: 1 | F4: =IFERROR(VLOOKUP(A4,'Đơn giá nhân công đã công bố'!B:G,6,FALSE()),"") -> 244164.47
A5: N1307 | B5: Nhóm 1 | C5: AB.1131 | D5: 3,0/7 | E5: 1 | F5: =IFERROR(VLOOKUP(A5,'Đơn giá nhân công đã công bố'!B:G,6,FALSE()),"") -> 244164.47
A6: N1307 | B6: Nhóm 1 | C6: AB.1311 | D6: 3,0/7 | E6: 1 | F6: =IFERROR(VLOOKUP(A6,'Đơn giá nhân công đã công bố'!B:G,6,FALSE()),"") -> 244164.47
A7: N1307 | B7: Nhóm 1 | C7: AB.1311 | D7: 3,0/7 | E7: 1 | F7: =IFERROR(VLOOKUP(A7,'Đơn giá nhân công đã công bố'!B:G,6,FALSE()),"") -> 244164.47
A8: N1307 | B8: Nhóm 1 | C8: AB.751 | D8: 3,0/7 | E8: 1 | F8: =IFERROR(VLOOKUP(A8,'Đơn giá nhân công đã công bố'!B:G,6,FALSE()),"") -> 244164.47
A9: NCN2 | B9: Nhân công nhóm 2 | F9: =IFERROR(VLOOKUP(A9,'Đơn giá nhân công đã công bố'!B:G,6,FALSE()),"") | G9: =IFERROR(ROUND(SUMPRODUCT(E10:E18,F10:F18)/SUM(E10:E18),0),"") -> 292105
A10: N2357 | B10: Nhóm 2 | C10: AC.161 | D10: 3,5/7 | E10: 1 | F10: =IFERROR(VLOOKUP(A10,'Đơn giá nhân công đã công bố'!B:G,6,FALSE()),"") -> 288000
A11: N2357 | B11: Nhóm 2 | C11: AF.121 | D11: 3,5/7 | E11: 1 | F11: =IFERROR(VLOOKUP(A11,'Đơn giá nhân công đã công bố'!B:G,6,FALSE()),"") -> 288000
A12: N2307 | B12: Nhóm 2 | C12: AF.123 | D12: 3,0/7
A13: N2357 | B13: Nhóm 2 | C13: AF.613 | D13: 3,5/7 | E13: 1 | F13: =IFERROR(VLOOKUP(A13,'Đơn giá nhân công đã công bố'!B:G,6,FALSE()),"") -> 288000
A14: N2357 | B14: Nhóm 2 | C14: AF.615 | D14: 3,5/7
A15: N2407 | B15: Nhóm 2 | C15: AF.825 | D15: 4,0/7 | E15: 1 | F15: =IFERROR(VLOOKUP(A15,'Đơn giá nhân công đã công bố'!B:G,6,FALSE()),"") -> 312631.58
A16: N2407 | B16: Nhóm 2 | C16: AF.862 | D16: 4,0/7
A17: N2357 | B17: Nhóm 2 | C17: AD.2322 | D17: 3,5/7 | E17: 1 | F17: =IFERROR(VLOOKUP(A17,'Đơn giá nhân công đã công bố'!B:G,6,FALSE()),"") -> 288000
A18: N2357 | B18: Nhóm 2 | C18: AE.611 | D18: 3,5/7 | E18: 1 | F18: =IFERROR(VLOOKUP(A18,'Đơn giá nhân công đã công bố'!B:G,6,FALSE()),"") -> 288000
A19: NCN3 | B19: Nhân công nhóm 3 | F19: =IFERROR(VLOOKUP(A19,'Đơn giá nhân công đã công bố'!B:G,6,FALSE()),"") | G19: =IFERROR(ROUND(SUMPRODUCT(E20:E28,F20:F28)/SUM(E20:E28),0),"") -> 302684
A20: N2407 | B20: Nhóm 3 | C20: AI.111 | D20: 4,0/7 | E20: 1 | F20: =IFERROR(VLOOKUP(A20,'Đơn giá nhân công đã công bố'!B:G,6,FALSE()),"") -> 312631.58
A21: N2407 | B21: Nhóm 3 | C21: AI.111 | D21: 4,0/7 | E21: 1 | F21: =IFERROR(VLOOKUP(A21,'Đơn giá nhân công đã công bố'!B:G,6,FALSE()),"") -> 312631.58
A22: N2357 | B22: Nhóm 3 | C22: AK.211 | D22: 3,5/7 | E22: 1 | F22: =IFERROR(VLOOKUP(A22,'Đơn giá nhân công đã công bố'!B:G,6,FALSE()),"") -> 288000
A23: N2407 | B23: Nhóm 3 | C23: AK.221 | D23: 4,0/7 | E23: 1 | F23: =IFERROR(VLOOKUP(A23,'Đơn giá nhân công đã công bố'!B:G,6,FALSE()),"") -> 312631.58
A24: N2407 | B24: Nhóm 3 | C24: AK.311 | D24: 4,0/7 | E24: 1 | F24: =IFERROR(VLOOKUP(A24,'Đơn giá nhân công đã công bố'!B:G,6,FALSE()),"") -> 312631.58
A25: N2407 | B25: Nhóm 3 | C25: AK.512 | D25: 4,0/7 | E25: 1 | F25: =IFERROR(VLOOKUP(A25,'Đơn giá nhân công đã công bố'!B:G,6,FALSE()),"") -> 312631.58
A26: N3357 | B26: Nhóm 3 | C26: BA.111 | D26: 3,5/7 | E26: 1 | F26: =IFERROR(VLOOKUP(A26,'Đơn giá nhân công đã công bố'!B:G,6,FALSE()),"") -> 291000
A27: N3357 | B27: Nhóm 3 | C27: BA.131 | D27: 3,5/7 | E27: 1 | F27: =IFERROR(VLOOKUP(A27,'Đơn giá nhân công đã công bố'!B:G,6,FALSE()),"") -> 291000
A28: N3357 | B28: Nhóm 3 | C28: BA.121 | D28: 3,5/7 | E28: 1 | F28: =IFERROR(VLOOKUP(A28,'Đơn giá nhân công đã công bố'!B:G,6,FALSE()),"") -> 291000
A29: NCN4 | B29: Nhân công nhóm 4 | F29: =IFERROR(VLOOKUP(A29,'Đơn giá nhân công đã công bố'!B:G,6,FALSE()),"") | G29: =IFERROR(ROUND(SUMPRODUCT(E30:E38,F30:F38)/SUM(E30:E38),0),"") -> 328226
A30: N3407 | B30: Nhóm 4 | C30: D3.612 | D30: 4,0/7 | E30: 1 | F30: =IFERROR(VLOOKUP(A30,'Đơn giá nhân công đã công bố'!B:G,6,FALSE()),"") -> 315888.16
A31: N3407 | B31: Nhóm 4 | C31: D3.614 | D31: 4,0/7 | E31: 1 | F31: =IFERROR(VLOOKUP(A31,'Đơn giá nhân công đã công bố'!B:G,6,FALSE()),"") -> 315888.16
A32: N3407 | B32: Nhóm 4 | C32: D3.613 | D32: 4,0/7 | E32: 1 | F32: =IFERROR(VLOOKUP(A32,'Đơn giá nhân công đã công bố'!B:G,6,FALSE()),"") -> 315888.16
A33: N3457 | B33: Nhóm 4 | C33: D3.622 | D33: 4,5/7 | E33: 1 | F33: =IFERROR(VLOOKUP(A33,'Đơn giá nhân công đã công bố'!B:G,6,FALSE()),"") -> 343648.03
A34: N3457 | B34: Nhóm 4 | C34: D3.624 | D34: 4,5/7 | E34: 1 | F34: =IFERROR(VLOOKUP(A34,'Đơn giá nhân công đã công bố'!B:G,6,FALSE()),"") -> 343648.03
A35: N3457 | B35: Nhóm 4 | C35: D3.623 | D35: 4,5/7 | E35: 1 | F35: =IFERROR(VLOOKUP(A35,'Đơn giá nhân công đã công bố'!B:G,6,FALSE()),"") -> 343648.03
A36: N3457 | B36: Nhóm 4 | C36: T1.141 | D36: 4,5/7 | E36: 1 | F36: =IFERROR(VLOOKUP(A36,'Đơn giá nhân công đã công bố'!B:G,6,FALSE()),"") -> 343648.03
A37: N3407 | B37: Nhóm 4 | C37: DB.120 | D37: 4,0/7 | E37: 1 | F37: =IFERROR(VLOOKUP(A37,'Đơn giá nhân công đã công bố'!B:G,6,FALSE()),"") -> 315888.16
A38: N3407 | B38: Nhóm 4 | C38: MB.020 | D38: 4,0/7 | E38: 1 | F38: =IFERROR(VLOOKUP(A38,'Đơn giá nhân công đã công bố'!B:G,6,FALSE()),"") -> 315888.16
A39: NCVHM | B39: Nhân công vận hành máy | G39: =IFERROR(ROUND(SUM(F40:F46)/SUM(E40:E46),0),"") -> 321593
A40: N4407 | B40: Vận hành máy | C40: M101.0106 | D40: 1x4/7 | E40: =IF(A40="","",LEN(A40)-LEN(SUBSTITUTE(A40,";",""))+1) -> 1 | F40: =IFERROR(H40,"") -> 318059.21 | H40: =IFERROR(VLOOKUP("N4407",'Đơn giá nhân công đã công bố'!B:G,6,FALSE()),0) -> 318059.21
A41: N4407;N4607 | B41: Vận hành máy | C41: M102.0206 | D41: 1x4/7 + 1x6/7 | E41: =IF(A41="","",LEN(A41)-LEN(SUBSTITUTE(A41,";",""))+1) -> 2 | F41: =IFERROR(H41,"") -> 761414.47 | H41: =IFERROR(VLOOKUP("N4407",'Đơn giá nhân công đã công bố'!B:G,6,FALSE())+VLOOKUP("N4607",'Đơn giá nhân công đã công bố'!B:G,6,FALSE()),0) -> 761414.47
A42: N4507 | B42: Vận hành máy | C42: M103.0103 | D42: 1x5/7 | E42: =IF(A42="","",LEN(A42)-LEN(SUBSTITUTE(A42,";",""))+1) -> 1 | F42: =IFERROR(H42,"") -> 373960.53 | H42: =IFERROR(VLOOKUP("N4507",'Đơn giá nhân công đã công bố'!B:G,6,FALSE()),0) -> 373960.53
A43: N4307;N4307;N4507 | B43: Vận hành máy | C43: M104.0407 | D43: 2x3/7 + 1x5/7 | E43: =IF(A43="","",LEN(A43)-LEN(SUBSTITUTE(A43,";",""))+1) -> 3 | F43: =IFERROR(H43,"") -> 909842.11 | H43: =IFERROR(VLOOKUP("N4307",'Đơn giá nhân công đã công bố'!B:G,6,FALSE())+VLOOKUP("N4307",'Đơn giá nhân công đã công bố'!B:G,6,FALSE())+VLOOKUP("N4507",'Đơn giá nhân công đã công bố'!B:G,6,FALSE()),0) -> 909842.11
A44: N4307;N4507 | B44: Vận hành máy | C44: M105.0203 | D44: 1x3/7 + 1x5/7 | E44: =IF(A44="","",LEN(A44)-LEN(SUBSTITUTE(A44,";",""))+1) -> 2 | F44: =IFERROR(H44,"") -> 641901.32 | H44: =IFERROR(VLOOKUP("N4307",'Đơn giá nhân công đã công bố'!B:G,6,FALSE())+VLOOKUP("N4507",'Đơn giá nhân công đã công bố'!B:G,6,FALSE()),0) -> 641901.32
A45: N4307;N4407 | B45: Vận hành máy | C45: M107.0202 | D45: 1x3/7 + 1x4/7 | E45: =IF(A45="","",LEN(A45)-LEN(SUBSTITUTE(A45,";",""))+1) -> 2 | F45: =IFERROR(H45,"") -> 586000 | H45: =IFERROR(VLOOKUP("N4307",'Đơn giá nhân công đã công bố'!B:G,6,FALSE())+VLOOKUP("N4407",'Đơn giá nhân công đã công bố'!B:G,6,FALSE()),0) -> 586000
A46: N4307 | B46: Vận hành máy | C46: M112.2601 | D46: 1x3/7 | E46: =IF(A46="","",LEN(A46)-LEN(SUBSTITUTE(A46,";",""))+1) -> 1 | F46: =IFERROR(H46,"") -> 267940.79 | H46: =IFERROR(VLOOKUP("N4307",'Đơn giá nhân công đã công bố'!B:G,6,FALSE()),0) -> 267940.79
A47: NCLX | B47: Lái xe | G47: =IFERROR(ROUND(SUM(F48:F54)/SUM(E48:E54),0),"") -> 301691
A48: NLX414;NLX434 | B48: Lái xe | C48: M102.0106 | D48: 1x1/4 + 1x3/4 lái xe | E48: =IF(A48="","",LEN(A48)-LEN(SUBSTITUTE(A48,";",""))+1) -> 2 | F48: =IFERROR(H48,"") -> 595932.2 | H48: =IFERROR(VLOOKUP("NLX414",'Đơn giá nhân công đã công bố'!B:G,6,FALSE())+VLOOKUP("NLX434",'Đơn giá nhân công đã công bố'!B:G,6,FALSE()),0) -> 595932.2
A49: NLX414;NLX434 | B49: Lái xe | C49: M102.1803 | D49: 1x1/4 + 1x3/4 lái xe | E49: =IF(A49="","",LEN(A49)-LEN(SUBSTITUTE(A49,";",""))+1) -> 2 | F49: =IFERROR(H49,"") -> 595932.2 | H49: =IFERROR(VLOOKUP("NLX414",'Đơn giá nhân công đã công bố'!B:G,6,FALSE())+VLOOKUP("NLX434",'Đơn giá nhân công đã công bố'!B:G,6,FALSE()),0) -> 595932.2
A50: NLX414;NLX434 | B50: Lái xe | C50: M105.0101 | D50: 1x1/4 + 1x3/4 lái xe | E50: =IF(A50="","",LEN(A50)-LEN(SUBSTITUTE(A50,";",""))+1) -> 2 | F50: =IFERROR(H50,"") -> 595932.2 | H50: =IFERROR(VLOOKUP("NLX414",'Đơn giá nhân công đã công bố'!B:G,6,FALSE())+VLOOKUP("NLX434",'Đơn giá nhân công đã công bố'!B:G,6,FALSE()),0) -> 595932.2
A51: NLX424 | B51: Lái xe | C51: M106.0107 | D51: 1x2/4 lái xe | E51: =IF(A51="","",LEN(A51)-LEN(SUBSTITUTE(A51,";",""))+1) -> 1 | F51: =IFERROR(H51,"") -> 293000 | H51: =IFERROR(VLOOKUP("NLX424",'Đơn giá nhân công đã công bố'!B:G,6,FALSE()),0) -> 293000
A52: NLX434 | B52: Lái xe | C52: M106.0206 | D52: 1x3/4 lái xe | E52: =IF(A52="","",LEN(A52)-LEN(SUBSTITUTE(A52,";",""))+1) -> 1 | F52: =IFERROR(H52,"") -> 347627.12 | H52: =IFERROR(VLOOKUP("NLX434",'Đơn giá nhân công đã công bố'!B:G,6,FALSE()),0) -> 347627.12
A53: NLX414;NLX434 | B53: Lái xe | C53: M106.0402 | D53: 1x1/4 + 1x3/4 lái xe | E53: =IF(A53="","",LEN(A53)-LEN(SUBSTITUTE(A53,";",""))+1) -> 2 | F53: =IFERROR(H53,"") -> 595932.2 | H53: =IFERROR(VLOOKUP("NLX414",'Đơn giá nhân công đã công bố'!B:G,6,FALSE())+VLOOKUP("NLX434",'Đơn giá nhân công đã công bố'!B:G,6,FALSE()),0) -> 595932.2
A54: NLX414;NLX434 | B54: Lái xe | C54: M112.0802 | D54: 1x1/4 + 1x3/4 lái xe | E54: =IF(A54="","",LEN(A54)-LEN(SUBSTITUTE(A54,";",""))+1) -> 2 | F54: =IFERROR(H54,"") -> 595932.2 | H54: =IFERROR(VLOOKUP("NLX414",'Đơn giá nhân công đã công bố'!B:G,6,FALSE())+VLOOKUP("NLX434",'Đơn giá nhân công đã công bố'!B:G,6,FALSE()),0) -> 595932.2
A55: NTT124 | B55: Thủy thủ | E55: 1 | F55: =IFERROR(VLOOKUP(A55,'Đơn giá nhân công đã công bố'!B:G,6,FALSE()),"") -> 0 | G55: =F55 -> 0
A56: NTM124 | B56: Thợ máy | E56: 1 | F56: =IFERROR(VLOOKUP(A56,'Đơn giá nhân công đã công bố'!B:G,6,FALSE()),"") -> 0 | G56: =F56 -> 0
A57: NTD124 | B57: Thợ điện | E57: 1 | F57: =IFERROR(VLOOKUP(A57,'Đơn giá nhân công đã công bố'!B:G,6,FALSE()),"") -> 0 | G57: =F57 -> 0
A58: NMT152S | B58: Máy trưởng – tàu sông | E58: 1 | F58: =IFERROR(VLOOKUP(A58,'Đơn giá nhân công đã công bố'!B:G,6,FALSE()),"") -> 0 | G58: =F58 -> 0
A59: NMI152S | B59: Máy I – tàu sông | E59: 1 | F59: =IFERROR(VLOOKUP(A59,'Đơn giá nhân công đã công bố'!B:G,6,FALSE()),"") -> 0 | G59: =F59 -> 0
A60: NMII152S | B60: Máy II – tàu sông | E60: 1 | F60: =IFERROR(VLOOKUP(A60,'Đơn giá nhân công đã công bố'!B:G,6,FALSE()),"") -> 0 | G60: =F60 -> 0
A61: NDT152S | B61: Điện trưởng – tàu sông | E61: 1 | F61: =IFERROR(VLOOKUP(A61,'Đơn giá nhân công đã công bố'!B:G,6,FALSE()),"") -> 0 | G61: =F61 -> 0
A62: NKTVI152S | B62: Kỹ thuật viên cuốc I – tàu sông | E62: 1 | F62: =IFERROR(VLOOKUP(A62,'Đơn giá nhân công đã công bố'!B:G,6,FALSE()),"") -> 0 | G62: =F62 -> 0
A63: NKTVII152S | B63: Kỹ thuật viên cuốc II – tàu sông | E63: 1 | F63: =IFERROR(VLOOKUP(A63,'Đơn giá nhân công đã công bố'!B:G,6,FALSE()),"") -> 0 | G63: =F63 -> 0
A64: NMT152B | B64: Máy trưởng – tàu biển | E64: 1 | F64: =IFERROR(VLOOKUP(A64,'Đơn giá nhân công đã công bố'!B:G,6,FALSE()),"") -> 0 | G64: =F64 -> 0
A65: NMI152B | B65: Máy I – tàu biển | E65: 1 | F65: =IFERROR(VLOOKUP(A65,'Đơn giá nhân công đã công bố'!B:G,6,FALSE()),"") -> 0 | G65: =F65 -> 0
A66: NMII152B | B66: Máy II – tàu biển | E66: 1 | F66: =IFERROR(VLOOKUP(A66,'Đơn giá nhân công đã công bố'!B:G,6,FALSE()),"") -> 0 | G66: =F66 -> 0
... A76: NCĐM | B76: Nhân công cơ điện mỏ hầm lò | E76: 1 | F76: =IFERROR(VLOOKUP(A76,'Đơn giá nhân công đã công bố'!B:G,6,FALSE()),"") | G76: =F76

Sheet Bình quân V4
A1: Mã nhân công | B1: Tên nhân công | C1: Mã hiệu | D1: Cấp bậc thợ (cũ) | E1: Số lượng nhân công | F1: ='Đơn giá NC 2026'!H5 -> Vùng IV | G1: ='Đơn giá NC 2026'!H5 -> Vùng IV | H1: Tổng đơn giá theo các mã thành phần (ẩn)
A2: NCN1 | B2: Nhân công nhóm 1 | G2: =IFERROR(ROUND(SUMPRODUCT(E3:E8,F3:F8)/SUM(E3:E8),0),"") -> 235020
A3: N1307 | B3: Nhóm 1 | C3: AA.1211 | D3: 3,0/7 | E3: 1 | F3: =IFERROR(VLOOKUP(A3,'Đơn giá nhân công đã công bố'!B:H,7,FALSE()),"") -> 235019.74
A4: N1307 | B4: Nhóm 1 | C4: AA.222 | D4: 3,0/7 | E4: 1 | F4: =IFERROR(VLOOKUP(A4,'Đơn giá nhân công đã công bố'!B:H,7,FALSE()),"") -> 235019.74
A5: N1307 | B5: Nhóm 1 | C5: AB.1131 | D5: 3,0/7 | E5: 1 | F5: =IFERROR(VLOOKUP(A5,'Đơn giá nhân công đã công bố'!B:H,7,FALSE()),"") -> 235019.74
A6: N1307 | B6: Nhóm 1 | C6: AB.1311 | D6: 3,0/7 | E6: 1 | F6: =IFERROR(VLOOKUP(A6,'Đơn giá nhân công đã công bố'!B:H,7,FALSE()),"") -> 235019.74
A7: N1307 | B7: Nhóm 1 | C7: AB.1311 | D7: 3,0/7 | E7: 1 | F7: =IFERROR(VLOOKUP(A7,'Đơn giá nhân công đã công bố'!B:H,7,FALSE()),"") -> 235019.74
A8: N1307 | B8: Nhóm 1 | C8: AB.751 | D8: 3,0/7 | E8: 1 | F8: =IFERROR(VLOOKUP(A8,'Đơn giá nhân công đã công bố'!B:H,7,FALSE()),"") -> 235019.74
A9: NCN2 | B9: Nhân công nhóm 2 | F9: =IFERROR(VLOOKUP(A9,'Đơn giá nhân công đã công bố'!B:H,7,FALSE()),"") | G9: =IFERROR(ROUND(SUMPRODUCT(E10:E18,F10:F18)/SUM(E10:E18),0),"") -> 281963
A10: N2357 | B10: Nhóm 2 | C10: AC.161 | D10: 3,5/7 | E10: 1 | F10: =IFERROR(VLOOKUP(A10,'Đơn giá nhân công đã công bố'!B:H,7,FALSE()),"") -> 278000
A11: N2357 | B11: Nhóm 2 | C11: AF.121 | D11: 3,5/7 | E11: 1 | F11: =IFERROR(VLOOKUP(A11,'Đơn giá nhân công đã công bố'!B:H,7,FALSE()),"") -> 278000
A12: N2307 | B12: Nhóm 2 | C12: AF.123 | D12: 3,0/7
A13: N2357 | B13: Nhóm 2 | C13: AF.613 | D13: 3,5/7 | E13: 1 | F13: =IFERROR(VLOOKUP(A13,'Đơn giá nhân công đã công bố'!B:H,7,FALSE()),"") -> 278000
A14: N2357 | B14: Nhóm 2 | C14: AF.615 | D14: 3,5/7
A15: N2407 | B15: Nhóm 2 | C15: AF.825 | D15: 4,0/7 | E15: 1 | F15: =IFERROR(VLOOKUP(A15,'Đơn giá nhân công đã công bố'!B:H,7,FALSE()),"") -> 301776.32
A16: N2407 | B16: Nhóm 2 | C16: AF.862 | D16: 4,0/7
A17: N2357 | B17: Nhóm 2 | C17: AD.2322 | D17: 3,5/7 | E17: 1 | F17: =IFERROR(VLOOKUP(A17,'Đơn giá nhân công đã công bố'!B:H,7,FALSE()),"") -> 278000
A18: N2357 | B18: Nhóm 2 | C18: AE.611 | D18: 3,5/7 | E18: 1 | F18: =IFERROR(VLOOKUP(A18,'Đơn giá nhân công đã công bố'!B:H,7,FALSE()),"") -> 278000
A19: NCN3 | B19: Nhân công nhóm 3 | F19: =IFERROR(VLOOKUP(A19,'Đơn giá nhân công đã công bố'!B:H,7,FALSE()),"") | G19: =IFERROR(ROUND(SUMPRODUCT(E20:E28,F20:F28)/SUM(E20:E28),0),"") -> 291542
A20: N2407 | B20: Nhóm 3 | C20: AI.111 | D20: 4,0/7 | E20: 1 | F20: =IFERROR(VLOOKUP(A20,'Đơn giá nhân công đã công bố'!B:H,7,FALSE()),"") -> 301776.32
A21: N2407 | B21: Nhóm 3 | C21: AI.111 | D21: 4,0/7 | E21: 1 | F21: =IFERROR(VLOOKUP(A21,'Đơn giá nhân công đã công bố'!B:H,7,FALSE()),"") -> 301776.32
A22: N2357 | B22: Nhóm 3 | C22: AK.211 | D22: 3,5/7 | E22: 1 | F22: =IFERROR(VLOOKUP(A22,'Đơn giá nhân công đã công bố'!B:H,7,FALSE()),"") -> 278000
A23: N2407 | B23: Nhóm 3 | C23: AK.221 | D23: 4,0/7 | E23: 1 | F23: =IFERROR(VLOOKUP(A23,'Đơn giá nhân công đã công bố'!B:H,7,FALSE()),"") -> 301776.32
A24: N2407 | B24: Nhóm 3 | C24: AK.311 | D24: 4,0/7 | E24: 1 | F24: =IFERROR(VLOOKUP(A24,'Đơn giá nhân công đã công bố'!B:H,7,FALSE()),"") -> 301776.32
A25: N2407 | B25: Nhóm 3 | C25: AK.512 | D25: 4,0/7 | E25: 1 | F25: =IFERROR(VLOOKUP(A25,'Đơn giá nhân công đã công bố'!B:H,7,FALSE()),"") -> 301776.32
A26: N3357 | B26: Nhóm 3 | C26: BA.111 | D26: 3,5/7 | E26: 1 | F26: =IFERROR(VLOOKUP(A26,'Đơn giá nhân công đã công bố'!B:H,7,FALSE()),"") -> 279000
A27: N3357 | B27: Nhóm 3 | C27: BA.131 | D27: 3,5/7 | E27: 1 | F27: =IFERROR(VLOOKUP(A27,'Đơn giá nhân công đã công bố'!B:H,7,FALSE()),"") -> 279000
A28: N3357 | B28: Nhóm 3 | C28: BA.121 | D28: 3,5/7 | E28: 1 | F28: =IFERROR(VLOOKUP(A28,'Đơn giá nhân công đã công bố'!B:H,7,FALSE()),"") -> 279000
A29: NCN4 | B29: Nhân công nhóm 4 | F29: =IFERROR(VLOOKUP(A29,'Đơn giá nhân công đã công bố'!B:H,7,FALSE()),"") | G29: =IFERROR(ROUND(SUMPRODUCT(E30:E38,F30:F38)/SUM(E30:E38),0),"") -> 314691
A30: N3407 | B30: Nhóm 4 | C30: D3.612 | D30: 4,0/7 | E30: 1 | F30: =IFERROR(VLOOKUP(A30,'Đơn giá nhân công đã công bố'!B:H,7,FALSE()),"") -> 302861.84
A31: N3407 | B31: Nhóm 4 | C31: D3.614 | D31: 4,0/7 | E31: 1 | F31: =IFERROR(VLOOKUP(A31,'Đơn giá nhân công đã công bố'!B:H,7,FALSE()),"") -> 302861.84
A32: N3407 | B32: Nhóm 4 | C32: D3.613 | D32: 4,0/7 | E32: 1 | F32: =IFERROR(VLOOKUP(A32,'Đơn giá nhân công đã công bố'!B:H,7,FALSE()),"") -> 302861.84
A33: N3457 | B33: Nhóm 4 | C33: D3.622 | D33: 4,5/7 | E33: 1 | F33: =IFERROR(VLOOKUP(A33,'Đơn giá nhân công đã công bố'!B:H,7,FALSE()),"") -> 329476.97
A34: N3457 | B34: Nhóm 4 | C34: D3.624 | D34: 4,5/7 | E34: 1 | F34: =IFERROR(VLOOKUP(A34,'Đơn giá nhân công đã công bố'!B:H,7,FALSE()),"") -> 329476.97
A35: N3457 | B35: Nhóm 4 | C35: D3.623 | D35: 4,5/7 | E35: 1 | F35: =IFERROR(VLOOKUP(A35,'Đơn giá nhân công đã công bố'!B:H,7,FALSE()),"") -> 329476.97
A36: N3457 | B36: Nhóm 4 | C36: T1.141 | D36: 4,5/7 | E36: 1 | F36: =IFERROR(VLOOKUP(A36,'Đơn giá nhân công đã công bố'!B:H,7,FALSE()),"") -> 329476.97
A37: N3407 | B37: Nhóm 4 | C37: DB.120 | D37: 4,0/7 | E37: 1 | F37: =IFERROR(VLOOKUP(A37,'Đơn giá nhân công đã công bố'!B:H,7,FALSE()),"") -> 302861.84
A38: N3407 | B38: Nhóm 4 | C38: MB.020 | D38: 4,0/7 | E38: 1 | F38: =IFERROR(VLOOKUP(A38,'Đơn giá nhân công đã công bố'!B:H,7,FALSE()),"") -> 302861.84
A39: NCVHM | B39: Nhân công vận hành máy | G39: =IFERROR(ROUND(SUM(F40:F46)/SUM(E40:E46),0),"") -> 308422
A40: N4407 | B40: Vận hành máy | C40: M101.0106 | D40: 1x4/7 | E40: =IF(A40="","",LEN(A40)-LEN(SUBSTITUTE(A40,";",""))+1) -> 1 | F40: =IFERROR(H40,"") -> 305032.89 | H40: =IFERROR(VLOOKUP("N4407",'Đơn giá nhân công đã công bố'!B:H,7,FALSE()),0) -> 305032.89
A41: N4407;N4607 | B41: Vận hành máy | C41: M102.0206 | D41: 1x4/7 + 1x6/7 | E41: =IF(A41="","",LEN(A41)-LEN(SUBSTITUTE(A41,";",""))+1) -> 2 | F41: =IFERROR(H41,"") -> 730230.26 | H41: =IFERROR(VLOOKUP("N4407",'Đơn giá nhân công đã công bố'!B:H,7,FALSE())+VLOOKUP("N4607",'Đơn giá nhân công đã công bố'!B:H,7,FALSE()),0) -> 730230.26
A42: N4507 | B42: Vận hành máy | C42: M103.0103 | D42: 1x5/7 | E42: =IF(A42="","",LEN(A42)-LEN(SUBSTITUTE(A42,";",""))+1) -> 1 | F42: =IFERROR(H42,"") -> 358644.74 | H42: =IFERROR(VLOOKUP("N4507",'Đơn giá nhân công đã công bố'!B:H,7,FALSE()),0) -> 358644.74
A43: N4307;N4307;N4507 | B43: Vận hành máy | C43: M104.0407 | D43: 2x3/7 + 1x5/7 | E43: =IF(A43="","",LEN(A43)-LEN(SUBSTITUTE(A43,";",""))+1) -> 3 | F43: =IFERROR(H43,"") -> 872578.95 | H43: =IFERROR(VLOOKUP("N4307",'Đơn giá nhân công đã công bố'!B:H,7,FALSE())+VLOOKUP("N4307",'Đơn giá nhân công đã công bố'!B:H,7,FALSE())+VLOOKUP("N4507",'Đơn giá nhân công đã công bố'!B:H,7,FALSE()),0) -> 872578.95
A44: N4307;N4507 | B44: Vận hành máy | C44: M105.0203 | D44: 1x3/7 + 1x5/7 | E44: =IF(A44="","",LEN(A44)-LEN(SUBSTITUTE(A44,";",""))+1) -> 2 | F44: =IFERROR(H44,"") -> 615611.84 | H44: =IFERROR(VLOOKUP("N4307",'Đơn giá nhân công đã công bố'!B:H,7,FALSE())+VLOOKUP("N4507",'Đơn giá nhân công đã công bố'!B:H,7,FALSE()),0) -> 615611.84
A45: N4307;N4407 | B45: Vận hành máy | C45: M107.0202 | D45: 1x3/7 + 1x4/7 | E45: =IF(A45="","",LEN(A45)-LEN(SUBSTITUTE(A45,";",""))+1) -> 2 | F45: =IFERROR(H45,"") -> 562000 | H45: =IFERROR(VLOOKUP("N4307",'Đơn giá nhân công đã công bố'!B:H,7,FALSE())+VLOOKUP("N4407",'Đơn giá nhân công đã công bố'!B:H,7,FALSE()),0) -> 562000
A46: N4307 | B46: Vận hành máy | C46: M112.2601 | D46: 1x3/7 | E46: =IF(A46="","",LEN(A46)-LEN(SUBSTITUTE(A46,";",""))+1) -> 1 | F46: =IFERROR(H46,"") -> 256967.11 | H46: =IFERROR(VLOOKUP("N4307",'Đơn giá nhân công đã công bố'!B:H,7,FALSE()),0) -> 256967.11
A47: NCLX | B47: Lái xe | G47: =IFERROR(ROUND(SUM(F48:F54)/SUM(E48:E54),0),"") -> 289335
A48: NLX414;NLX434 | B48: Lái xe | C48: M102.0106 | D48: 1x1/4 + 1x3/4 lái xe | E48: =IF(A48="","",LEN(A48)-LEN(SUBSTITUTE(A48,";",""))+1) -> 2 | F48: =IFERROR(H48,"") -> 571525.42 | H48: =IFERROR(VLOOKUP("NLX414",'Đơn giá nhân công đã công bố'!B:H,7,FALSE())+VLOOKUP("NLX434",'Đơn giá nhân công đã công bố'!B:H,7,FALSE()),0) -> 571525.42
A49: NLX414;NLX434 | B49: Lái xe | C49: M102.1803 | D49: 1x1/4 + 1x3/4 lái xe | E49: =IF(A49="","",LEN(A49)-LEN(SUBSTITUTE(A49,";",""))+1) -> 2 | F49: =IFERROR(H49,"") -> 571525.42 | H49: =IFERROR(VLOOKUP("NLX414",'Đơn giá nhân công đã công bố'!B:H,7,FALSE())+VLOOKUP("NLX434",'Đơn giá nhân công đã công bố'!B:H,7,FALSE()),0) -> 571525.42
A50: NLX414;NLX434 | B50: Lái xe | C50: M105.0101 | D50: 1x1/4 + 1x3/4 lái xe | E50: =IF(A50="","",LEN(A50)-LEN(SUBSTITUTE(A50,";",""))+1) -> 2 | F50: =IFERROR(H50,"") -> 571525.42 | H50: =IFERROR(VLOOKUP("NLX414",'Đơn giá nhân công đã công bố'!B:H,7,FALSE())+VLOOKUP("NLX434",'Đơn giá nhân công đã công bố'!B:H,7,FALSE()),0) -> 571525.42
A51: NLX424 | B51: Lái xe | C51: M106.0107 | D51: 1x2/4 lái xe | E51: =IF(A51="","",LEN(A51)-LEN(SUBSTITUTE(A51,";",""))+1) -> 1 | F51: =IFERROR(H51,"") -> 281000 | H51: =IFERROR(VLOOKUP("NLX424",'Đơn giá nhân công đã công bố'!B:H,7,FALSE()),0) -> 281000
A52: NLX434 | B52: Lái xe | C52: M106.0206 | D52: 1x3/4 lái xe | E52: =IF(A52="","",LEN(A52)-LEN(SUBSTITUTE(A52,";",""))+1) -> 1 | F52: =IFERROR(H52,"") -> 333389.83 | H52: =IFERROR(VLOOKUP("NLX434",'Đơn giá nhân công đã công bố'!B:H,7,FALSE()),0) -> 333389.83
A53: NLX414;NLX434 | B53: Lái xe | C53: M106.0402 | D53: 1x1/4 + 1x3/4 lái xe | E53: =IF(A53="","",LEN(A53)-LEN(SUBSTITUTE(A53,";",""))+1) -> 2 | F53: =IFERROR(H53,"") -> 571525.42 | H53: =IFERROR(VLOOKUP("NLX414",'Đơn giá nhân công đã công bố'!B:H,7,FALSE())+VLOOKUP("NLX434",'Đơn giá nhân công đã công bố'!B:H,7,FALSE()),0) -> 571525.42
A54: NLX414;NLX434 | B54: Lái xe | C54: M112.0802 | D54: 1x1/4 + 1x3/4 lái xe | E54: =IF(A54="","",LEN(A54)-LEN(SUBSTITUTE(A54,";",""))+1) -> 2 | F54: =IFERROR(H54,"") -> 571525.42 | H54: =IFERROR(VLOOKUP("NLX414",'Đơn giá nhân công đã công bố'!B:H,7,FALSE())+VLOOKUP("NLX434",'Đơn giá nhân công đã công bố'!B:H,7,FALSE()),0) -> 571525.42
A55: NTT124 | B55: Thủy thủ | E55: 1 | F55: =IFERROR(VLOOKUP(A55,'Đơn giá nhân công đã công bố'!B:H,7,FALSE()),"") -> 0 | G55: =F55 -> 0
A56: NTM124 | B56: Thợ máy | E56: 1 | F56: =IFERROR(VLOOKUP(A56,'Đơn giá nhân công đã công bố'!B:H,7,FALSE()),"") -> 0 | G56: =F56 -> 0
A57: NTD124 | B57: Thợ điện | E57: 1 | F57: =IFERROR(VLOOKUP(A57,'Đơn giá nhân công đã công bố'!B:H,7,FALSE()),"") -> 0 | G57: =F57 -> 0
A58: NMT152S | B58: Máy trưởng – tàu sông | E58: 1 | F58: =IFERROR(VLOOKUP(A58,'Đơn giá nhân công đã công bố'!B:H,7,FALSE()),"") -> 0 | G58: =F58 -> 0
A59: NMI152S | B59: Máy I – tàu sông | E59: 1 | F59: =IFERROR(VLOOKUP(A59,'Đơn giá nhân công đã công bố'!B:H,7,FALSE()),"") -> 0 | G59: =F59 -> 0
A60: NMII152S | B60: Máy II – tàu sông | E60: 1 | F60: =IFERROR(VLOOKUP(A60,'Đơn giá nhân công đã công bố'!B:H,7,FALSE()),"") -> 0 | G60: =F60 -> 0
A61: NDT152S | B61: Điện trưởng – tàu sông | E61: 1 | F61: =IFERROR(VLOOKUP(A61,'Đơn giá nhân công đã công bố'!B:H,7,FALSE()),"") -> 0 | G61: =F61 -> 0
A62: NKTVI152S | B62: Kỹ thuật viên cuốc I – tàu sông | E62: 1 | F62: =IFERROR(VLOOKUP(A62,'Đơn giá nhân công đã công bố'!B:H,7,FALSE()),"") -> 0 | G62: =F62 -> 0
A63: NKTVII152S | B63: Kỹ thuật viên cuốc II – tàu sông | E63: 1 | F63: =IFERROR(VLOOKUP(A63,'Đơn giá nhân công đã công bố'!B:H,7,FALSE()),"") -> 0 | G63: =F63 -> 0
A64: NMT152B | B64: Máy trưởng – tàu biển | E64: 1 | F64: =IFERROR(VLOOKUP(A64,'Đơn giá nhân công đã công bố'!B:H,7,FALSE()),"") -> 0 | G64: =F64 -> 0
A65: NMI152B | B65: Máy I – tàu biển | E65: 1 | F65: =IFERROR(VLOOKUP(A65,'Đơn giá nhân công đã công bố'!B:H,7,FALSE()),"") -> 0 | G65: =F65 -> 0
A66: NMII152B | B66: Máy II – tàu biển | E66: 1 | F66: =IFERROR(VLOOKUP(A66,'Đơn giá nhân công đã công bố'!B:H,7,FALSE()),"") -> 0 | G66: =F66 -> 0
... A76: NCĐM | B76: Nhân công cơ điện mỏ hầm lò | E76: 1 | F76: =IFERROR(VLOOKUP(A76,'Đơn giá nhân công đã công bố'!B:H,7,FALSE()),"") | G76: =F76

Sheet Đơn giá nhân công đã công bố
A1: TT | B1: Mã nhân công | C1: Tên nhân công (cũ) | D1: Cấp bậc | E1: Vùng I | F1: Vùng II | G1: Vùng III | H1: Vùng IV
A2: 1 | B2: N1107 | C2: Nhân công xây dựng Nhóm I | D2: 1,0/7 | G2: =IFERROR(VLOOKUP(B2,[1]NC_TT13_2021!$A$1:$F$1048576,6,0),"") -> 175657.89 | H2: =IFERROR(VLOOKUP(B2,[2]NC_TT13_2021!$A$1:$F$1048576,6,0),"") -> 169078.95
A3: 2 | B3: N1207 | C3: Nhân công xây dựng Nhóm I | D3: 2,0/7 | G3: =IFERROR(VLOOKUP(B3,[1]NC_TT13_2021!$A$1:$F$1048576,6,0),"") -> 207276.32 | H3: =IFERROR(VLOOKUP(B3,[2]NC_TT13_2021!$A$1:$F$1048576,6,0),"") -> 199513.16
A4: 3 | B4: N1307 | C4: Nhân công xây dựng Nhóm I | D4: 3,0/7 | G4: =IFERROR(VLOOKUP(B4,[1]NC_TT13_2021!$A$1:$F$1048576,6,0),"") -> 244164.47 | H4: =IFERROR(VLOOKUP(B4,[2]NC_TT13_2021!$A$1:$F$1048576,6,0),"") -> 235019.74
A5: 4 | B5: N1357 | C5: Nhân công xây dựng Nhóm I | D5: 3,5/7 | G5: =IFERROR(VLOOKUP(B5,[1]NC_TT13_2021!$A$1:$F$1048576,6,0),"") -> 267000 | H5: =IFERROR(VLOOKUP(B5,[2]NC_TT13_2021!$A$1:$F$1048576,6,0),"") -> 257000
A6: 5 | B6: N1407 | C6: Nhân công xây dựng Nhóm I | D6: 4,0/7 | G6: =IFERROR(VLOOKUP(B6,[1]NC_TT13_2021!$A$1:$F$1048576,6,0),"") -> 289835.53 | H6: =IFERROR(VLOOKUP(B6,[2]NC_TT13_2021!$A$1:$F$1048576,6,0),"") -> 278980.26
A7: 6 | B7: N1507 | C7: Nhân công xây dựng Nhóm I | D7: 5,0/7 | G7: =IFERROR(VLOOKUP(B7,[1]NC_TT13_2021!$A$1:$F$1048576,6,0),"") -> 340776.32 | H7: =IFERROR(VLOOKUP(B7,[2]NC_TT13_2021!$A$1:$F$1048576,6,0),"") -> 328013.16
A8: 7 | B8: N1607 | C8: Nhân công xây dựng Nhóm I | D8: 6,0/7 | G8: =IFERROR(VLOOKUP(B8,[1]NC_TT13_2021!$A$1:$F$1048576,6,0),"") -> 404013.16 | H8: =IFERROR(VLOOKUP(B8,[2]NC_TT13_2021!$A$1:$F$1048576,6,0),"") -> 388881.58
A9: 8 | B9: N1707 | C9: Nhân công xây dựng Nhóm I | D9: 7,0/7 | G9: =IFERROR(VLOOKUP(B9,[1]NC_TT13_2021!$A$1:$F$1048576,6,0),"") -> 476032.89 | H9: =IFERROR(VLOOKUP(B9,[2]NC_TT13_2021!$A$1:$F$1048576,6,0),"") -> 458203.95
A10: 9 | B10: N2107 | C10: Nhân công xây dựng Nhóm II | D10: 1,0/7 | G10: =IFERROR(VLOOKUP(B10,[1]NC_TT13_2021!$A$1:$F$1048576,6,0),"") -> 189473.68 | H10: =IFERROR(VLOOKUP(B10,[2]NC_TT13_2021!$A$1:$F$1048576,6,0),"") -> 182894.74
A11: 10 | B11: N2207 | C11: Nhân công xây dựng Nhóm II | D11: 2,0/7 | G11: =IFERROR(VLOOKUP(B11,[1]NC_TT13_2021!$A$1:$F$1048576,6,0),"") -> 223578.95 | H11: =IFERROR(VLOOKUP(B11,[2]NC_TT13_2021!$A$1:$F$1048576,6,0),"") -> 215815.79
A12: 11 | B12: N2307 | C12: Nhân công xây dựng Nhóm II | D12: 3,0/7 | G12: =IFERROR(VLOOKUP(B12,[1]NC_TT13_2021!$A$1:$F$1048576,6,0),"") -> 263368.42 | H12: =IFERROR(VLOOKUP(B12,[2]NC_TT13_2021!$A$1:$F$1048576,6,0),"") -> 254223.68
A13: 12 | B13: N2357 | C13: Nhân công xây dựng Nhóm II | D13: 3,5/7 | G13: =IFERROR(VLOOKUP(B13,[1]NC_TT13_2021!$A$1:$F$1048576,6,0),"") -> 288000 | H13: =IFERROR(VLOOKUP(B13,[2]NC_TT13_2021!$A$1:$F$1048576,6,0),"") -> 278000
... A69: 106 | B69: NN122 | C69: Nghệ nhân | D69: 2,0/2 | G69: =IFERROR(VLOOKUP(B69,[1]NC_TT13_2021!$A$1:$F$1048576,6,0),"") -> 0 | H69: =IFERROR(VLOOKUP(B69,[2]NC_TT13_2021!$A$1:$F$1048576,6,0),"") -> 0
A71: 48 | B71: NTM114 | C71: Thợ máy | D71: 1,0/4 | E71: =$E$46 -> 0 | F71: =$F$46 -> 0 | G71: =$G$46 -> 0 | H71: =$H$46 -> 0
A72: 49 | B72: NTM124 | C72: Thợ máy | D72: 2,0/4 | E72: =$E$46 -> 0 | F72: =$F$46 -> 0 | G72: =$G$46 -> 0 | H72: =$H$46 -> 0
A73: 50 | B73: NTM134 | C73: Thợ máy | D73: 3,0/4 | E73: =$E$46 -> 0 | F73: =$F$46 -> 0 | G73: =$G$46 -> 0 | H73: =$H$46 -> 0
A74: 51 | B74: NTM144 | C74: Thợ máy | D74: 4,0/4 | E74: =$E$46 -> 0 | F74: =$F$46 -> 0 | G74: =$G$46 -> 0 | H74: =$H$46 -> 0
A75: 52 | B75: NTD114 | C75: Thợ điện | D75: 1,0/4 | E75: =$E$46 -> 0 | F75: =$F$46 -> 0 | G75: =$G$46 -> 0 | H75: =$H$46 -> 0
A76: 53 | B76: NTD124 | C76: Thợ điện | D76: 2,0/4 | E76: =$E$46 -> 0 | F76: =$F$46 -> 0 | G76: =$G$46 -> 0 | H76: =$H$46 -> 0
A77: 54 | B77: NTD134 | C77: Thợ điện | D77: 3,0/4 | E77: =$E$46 -> 0 | F77: =$F$46 -> 0 | G77: =$G$46 -> 0 | H77: =$H$46 -> 0
A78: 55 | B78: NTD144 | C78: Thợ điện | D78: 4,0/4 | E78: =$E$46 -> 0 | F78: =$F$46 -> 0 | G78: =$G$46 -> 0 | H78: =$H$46 -> 0
A79: 59 | B79: NMI102S | C79: Máy I – tàu sông | D79: 1,0/2 | E79: =$E$50 -> 0 | F79: =$F$50 -> 0 | G79: =$G$50 -> 0 | H79: =$H$50 -> 0
A80: 60 | B80: NMI152S | C80: Máy I – tàu sông | D80: 1,5/2 | E80: =$E$50 -> 0 | F80: =$F$50 -> 0 | G80: =$G$50 -> 0 | H80: =$H$50 -> 0
A81: 61 | B81: NMI122S | C81: Máy I – tàu sông | D81: 2,0/2 | E81: =$E$50 -> 0 | F81: =$F$50 -> 0 | G81: =$G$50 -> 0 | H81: =$H$50 -> 0
A82: 62 | B82: NMII102S | C82: Máy II – tàu sông | D82: 1,0/2 | E82: =$E$50 -> 0 | F82: =$F$50 -> 0 | G82: =$G$50 -> 0 | H82: =$H$50 -> 0
A83: 63 | B83: NMII152S | C83: Máy II – tàu sông | D83: 1,5/2 | E83: =$E$50 -> 0 | F83: =$F$50 -> 0 | G83: =$G$50 -> 0 | H83: =$H$50 -> 0
A84: 64 | B84: NMII122S | C84: Máy II – tàu sông | D84: 2,0/2 | E84: =$E$50 -> 0 | F84: =$F$50 -> 0 | G84: =$G$50 -> 0 | H84: =$H$50 -> 0
A85: 65 | B85: NDT102S | C85: Điện trưởng – tàu sông | D85: 1,0/2 | E85: =$E$50 -> 0 | F85: =$F$50 -> 0 | G85: =$G$50 -> 0 | H85: =$H$50 -> 0
A86: 66 | B86: NDT152S | C86: Điện trưởng – tàu sông | D86: 1,5/2 | E86: =$E$50 -> 0 | F86: =$F$50 -> 0 | G86: =$G$50 -> 0 | H86: =$H$50 -> 0
A87: 67 | B87: NDT122S | C87: Điện trưởng – tàu sông | D87: 2,0/2 | E87: =$E$50 -> 0 | F87: =$F$50 -> 0 | G87: =$G$50 -> 0 | H87: =$H$50 -> 0
A88: 68 | B88: NKTVI102S | C88: Kỹ thuật viên cuốc I – tàu sông | D88: 1,0/2 | E88: =$E$50 -> 0 | F88: =$F$50 -> 0 | G88: =$G$50 -> 0 | H88: =$H$50 -> 0
A89: 69 | B89: NKTVI152S | C89: Kỹ thuật viên cuốc I – tàu sông | D89: 1,5/2 | E89: =$E$50 -> 0 | F89: =$F$50 -> 0 | G89: =$G$50 -> 0 | H89: =$H$50 -> 0
A90: 70 | B90: NKTVI122S | C90: Kỹ thuật viên cuốc I – tàu sông | D90: 2,0/2 | E90: =$E$50 -> 0 | F90: =$F$50 -> 0 | G90: =$G$50 -> 0 | H90: =$H$50 -> 0
... A93: 73 | B93: NKTVII122S | C93: Kỹ thuật viên cuốc II – tàu sông | D93: 2,0/2 | E93: =$E$50 -> 0 | F93: =$F$50 -> 0 | G93: =$G$50 -> 0 | H93: =$H$50 -> 0
A94: 77 | B94: NMI102B | C94: Máy I – tàu biển | D94: 1,0/2 | E94: =$E$53 -> 0 | F94: =$F$53 -> 0 | G94: =$G$53 -> 0 | H94: =$H$53 -> 0
A95: 78 | B95: NMI152B | C95: Máy I – tàu biển | D95: 1,5/2 | E95: =$E$53 -> 0 | F95: =$F$53 -> 0 | G95: =$G$53 -> 0 | H95: =$H$53 -> 0
A96: 79 | B96: NMI122B | C96: Máy I – tàu biển | D96: 2,0/2 | E96: =$E$53 -> 0 | F96: =$F$53 -> 0 | G96: =$G$53 -> 0 | H96: =$H$53 -> 0
A97: 80 | B97: NMII102B | C97: Máy II – tàu biển | D97: 1,0/2 | E97: =$E$53 -> 0 | F97: =$F$53 -> 0 | G97: =$G$53 -> 0 | H97: =$H$53 -> 0
A98: 81 | B98: NMII152B | C98: Máy II – tàu biển | D98: 1,5/2 | E98: =$E$53 -> 0 | F98: =$F$53 -> 0 | G98: =$G$53 -> 0 | H98: =$H$53 -> 0
A99: 82 | B99: NMII122B | C99: Máy II – tàu biển | D99: 2,0/2 | E99: =$E$53 -> 0 | F99: =$F$53 -> 0 | G99: =$G$53 -> 0 | H99: =$H$53 -> 0
A100: 83 | B100: NDT102B | C100: Điện trưởng – tàu biển | D100: 1,0/2 | E100: =$E$53 -> 0 | F100: =$F$53 -> 0 | G100: =$G$53 -> 0 | H100: =$H$53 -> 0
A101: 84 | B101: NDT152B | C101: Điện trưởng – tàu biển | D101: 1,5/2 | E101: =$E$53 -> 0 | F101: =$F$53 -> 0 | G101: =$G$53 -> 0 | H101: =$H$53 -> 0
A102: 85 | B102: NDT122B | C102: Điện trưởng – tàu biển | D102: 2,0/2 | E102: =$E$53 -> 0 | F102: =$F$53 -> 0 | G102: =$G$53 -> 0 | H102: =$H$53 -> 0
A103: 86 | B103: NKTVI102B | C103: Kỹ thuật viên cuốc I – tàu biển | D103: 1,0/2 | E103: =$E$53 -> 0 | F103: =$F$53 -> 0 | G103: =$G$53 -> 0 | H103: =$H$53 -> 0
A104: 87 | B104: NKTVI152B | C104: Kỹ thuật viên cuốc I – tàu biển | D104: 1,5/2 | E104: =$E$53 -> 0 | F104: =$F$53 -> 0 | G104: =$G$53 -> 0 | H104: =$H$53 -> 0
A105: 88 | B105: NKTVI122B | C105: Kỹ thuật viên cuốc I – tàu biển | D105: 2,0/2 | E105: =$E$53 -> 0 | F105: =$F$53 -> 0 | G105: =$G$53 -> 0 | H105: =$H$53 -> 0
... A108: 91 | B108: NKTVII122B | C108: Kỹ thuật viên cuốc II – tàu biển | D108: 2,0/2 | E108: =$E$53 -> 0 | F108: =$F$53 -> 0 | G108: =$G$53 -> 0 | H108: =$H$53 -> 0

Sheet Ghi Chú
A10: Quyết định | B10: Tên giá TB | C10: Ghi chú | D10: trích dẫn
A11: Quyết định: 2116/QĐ-UBND | B11: Vùng 2 gồm: - Các phường: Long Xuyên, Bình Đức, Mỹ Thới, Châu Đốc, Vĩnh Tế, Vĩnh Thông, Rạch Giá, Hà Tiên, Tô Châu; - Các xã: Mỹ Hòa Hưng, Tiên Hải và các đặc khu: Phú Quốc, Thổ Châu. | C11: Quyết định: …......./QĐ-UBND ngày …./...../2026 của UBND tỉnh …............ | D11: https://dutoaneta.vn
