Workbook
Name CK: NKMB!$L$7:$L$1000
Name LOAI: DSSM!$K$7:$K$9
Name LOAI1: NKMB!$G$7:$G$1000
Name LOAI2: NKTT!$G$7:$G$500
Name MDHTT: NKTT!$D$7:$D$500
Name MKHMB: NKMB!$E$7:$E$1000
Name MKHTT: NKTT!$E$7:$E$500
Name MSMMB: NKMB!$H$7:$H$1000
Name MSMTT: NKTT!$H$7:$H$500
Name NAM: HD!$I$2
Name NCL: NKMB!$O$7:$O$1000
Name NGAYMB: NKMB!$C$7:$C$1000
Name NGAYTT: NKTT!$C$7:$C$500
Name TGQH: NKMB!$P$7:$P$1000
Name THANGLIST: DSSM!$J$7:$J$19
Name TRANGAY: NKMB!$M$7:$M$1000
Name TRASAU: NKMB!$N$7:$N$1000

Sheet HD
A1: Vui lòng: Vào Tệp -> Tạo bản sao hoặc Tải xuống để sử dụng File
A2: FILE QUẢN LÝ CÔNG NỢ D8.1 | H2: NĂM : | I2: 2008 | P2: 2008 | Q2: YES
A3: I. CHỨC NĂNG | P3: 2009 | Q3: NO
B4: - Báo cáo chi tiết, tổng hợp tình hình bán hàng, thu tiền của sale man. | P4: 2010
B5: - Báo cáo chi tiết, tổng hợp tình hình mua bán hàng hóa đối với khách hàng và nhà cung cấp. | P5: 2011
B6: - Theo dõi công nợ đối với từng khách hàng,nhà cung cấp, từng đơn hàng và trong từng thời điểm. | P6: 2012
A7: II. HƯỚNG DẪN SỬ DỤNG | F7: XEM : | G7: NO | P7: 2013
B8: 1. Sheet DSSM | P8: 2014
C9: - Sheet này dùng cho các Công ty thương mại có Nhân viên kinh doanh, nếu không thì không cần dùng đến. | P9: 2015
C10: - Cột B là cột Mã saleman, cột C là cột Tên saleman, dòng đầu tiên trong danh sách có mã là Cty, mã này dùng cho | P10: 2016
C11: trường hợp Cty bán lẻ, không vào doanh số hay thu tiền cho bất kỳ saleman nào, đừng nên thay đổi. | P11: 2017
C12: - Cột D là cột Doanh số Saleman, là tổng số tiền hàng mà Saleman bán được cho khách hàng. Số tiền trong cột này | P12: 2018
C13: được lấy từ cột Số tiền trong Sheet NKBH (sau khi đã trừ đi Doanh số của Nhà cung cấp). | P13: 2019
C14: - Cột E là cột Thu tiền, là tổng số tiền bán hàng mà Saleman thu được, bao gồm số tiền thu ngay khi bán hàng và | P14: 2020
C15: số tiền thu được từ các đơn hàng trước mà khách hàng còn nợ. Số tiền này là tổng số tiền trong cột Trả ngay và | P15: 2021
C16: Trả sau trong Sheet NKMB (sau khi trừ đi số tiền thanh toán cho Nhà cung cấp). | P16: 2022
C17: ô E5 là ô chọn tháng để xem báo cáo, nếu để trống thì xem báo cáo đến thời điểm cuối cùng trong sheet Nhật ký(Báo Cáo Năm) | P17: 2023
C18: - Cột F, G là tổng số tiền (Doanh số và Thu tiền) mà Ban Giám Đốc đặt ra chỉ tiêu cho từng Saleman trong tháng. | P18: 2024
C19: ta sẽ nhập chỉ tiêu này vào đầu mỗi tháng để đánh giá tình hình bán hàng của saleman trong tháng đó. | P19: 2025
C20: - Cột H là cột tỉ lệ % hoàn thành chỉ tiêu Doanh số và Thu tiền đã đặt ra trong tháng so với thức tế đạt được (Thực tế / Kế hoạch). | P20: 2026
... C27: toán cuối cùng (hay Cáo cáo năm). Chọn PS trong cột I để lọc ra danh sách Có phát sinh. | P27: 2033
B28: 2. Sheet DSKH | P28: 2034
C29: - Sheet này chứa bảng kê Danh sách Khách hàng và Nhà cung cấp, đồng thời là bảng Báo cáo chi tiết công nợ. | P29: 2035
C30: - Cột B là cột Mã khách hàng, cột C là cột Tên khách hàng. Mã và Tên ở đây dùng chung cho cho cả Khách hàng và Nhà | P30: 2036
C31: cung cấp. Đối với trường hợp là Khách hàng lẻ (Cty bán hàng trực tiếp không tính vào doanh số Saleman) thì ta đặt mã | P31: 2037
C32: là BL, nếu là Khách hàng lẻ do Saleman bán và được tính vào doanh số cho saleman thì đặt là BL1, BL2…ứng với từng Mã saleman. | P32: 2038
C33: - Cột D là cột Loại khách hàng, nếu là Nhà cung cấp thì ta chọn là NCC, là Khách hàng thì chọn KH. | P33: 2039
C34: - Cột E là cột Mã Saleman, một saleman có thể có nhiều Khách hàng khác nhau. Nếu là Nhà cung cấp hay Khách hàng | P34: 2040
C35: lẻ không được tính vào doanh số cho saleman thì đặt MSM là Cty. | P35: 2041
C36: - Cột F->I là cột Nợ đầu kỳ, Tổng Doanh số phát sinh (Công nợ tăng), Tổng thu tiền, chiết khấu (Công nợ giảm). | P36: 2042
C37: - Cột J là cột Tổng Nợ cuối kỳ. Cột J = Cột (F+G-H-I) hay Cột J = Cột (L+M+N) với điều kiện ô chọn tháng xem báo cáo để trống | P37: 2043
C38: - Ô H5 là ô chọn tháng để xem báo cáo. Nếu để trống thì xem báo cáo cả năm hay xem từ đầu kỳ đến ngày cuối cùng của dữ liệu). | P38: 2044
C39: - Ô C3 là ô kiểm tra lỗi công thức, nếu Báo SAI thì xem lại công thức và xem chênh lệch tại dòng cuối cùng của bảng báo cáo. | P39: 2045
C40: - Cột K là cột lọc ra những dòng phát sinh. | P40: 2046
... C44: - Cột N là cột Tổng nợ quá hạn, là tổng Nợ cuối kỳ đã vượt quá thời hạn thanh toán. Cột N = Cột (O+P+Q+R). | P44: 2050
C45: - Cột O là cột tổng Nợ quá hạn từ 1 đến 7 ngày.
C46: - Cột P là cột tổng Nợ quá hạn từ 8 đến 14 ngày.
C47: - Cột Q là cột tổng Nợ quá hạn từ 15 đến 30 ngày.
C48: - Cột R là cột tổng Nợ quá hạn đã quá hạn hơn 30 ngày.
C49: - Cột S->AD là cột lưu Tổng số Nợ đầu kỳ của từng tháng. Nợ đầu kỳ tháng 1/2008 là Nợ cuối kỳ tháng 12/2007.
C50: Giả sử thời điểm hạch toán bắt đầu từ tháng 1/2008. Ta sẽ lấy số dư nợ cuối kỳ tháng 12/2007 của từng Khách hàng và
C51: Nhà cung cấp điền vào cột S. Sau khi tháng 1 kết thúc, ta sẽ lấy số dư nợ cuối kỳ của tháng 1(nhớ chọn tháng 1 ở ô H5)
C52: điền vào cột T để tạo Nợ đầu kỳ cho tháng 2, và cứ như vậy cho đến tháng 12.
C53: Lưu ý rằng khi điền vào số dư nợ đầu năm (dư nợ tháng 1) thì tổng dư nợ này phải bằng tổng số tiền (Cột K sheet NKMB)
C54: của những đơn hàng có ngày phát sinh (cột C sheet NKMB) trong năm 2007 (trong File mẫu là 3,300).
C55: - Cách xem Báo cáo : chọn tháng trong ô H5 để xem Báo cáo, nếu để trống thì xem Báo cáo năm (từ đầu năm đến ngày
C56: hạch toán cuối cùng).Chọn PS trong cột K để lọc ra những dòng có phát sinh. Chọn KH hay NCC trong cột D để xem báo
... C58: đó quản lý.
B59: 3. Sheet NKMB
C60: - Cột B là cột chứng từ, đây là cơ sở để tính Công nợ Khách hàng và Nhà cung cấp. Số chứng từ có thể là số Hóa đơn,
C61: số của Đơn hàng(PO), Số hợp đồng…
C62: - Cột C là cột ngày phát sinh đơn hàng. Năm phát sinh đơn hàng phải bằng với năm hạch toán(SheetHD!I1). Trừ trường hợp
C63: ngày phát sinh đơn hàng của những đơn hàng năm ngoái chưa thanh toán hết mang sang năm nay (sẽ có màu xanh khi nhập liệu).
C64: - Cột D là cột Mã đơn hàng, mã đơn hàng là sự kết hợp giữa Mã khách hàng và số chứng từ. Đây là mã dùng để tính hay thanh toán nợ.
C65: - Cột E, F là cột Mã và Tên khách hàng (hay nhà cung cấp).
C66: - Cột G là cột Loại khách hàng, dùng để phân biệt giữa khách hàng và nhà cung cấp.
C67: - Cột H là cột Mã Saleman, ứng với mỗi khách hàng đều có một Mã saleman kèm theo. Nếu là Khách hàng lẻ hay Nhà cung
C68: cấp thì MSM là CTY.
C69: - Cột I là cột diễn giải, dùng để ghi tên khách hàng lẻ hay những nội dung cần ghi chú khác.
C70: - Cột J là Thời hạn thanh toán (được tính bằng ngày). Mỗi đơn hàng đều có một thời hạn thanh toán nhất định. Nếu như đã
C71: qua thời gian này mà khách hàng chưa thanh toán hết nợ thì số nợ này chuyển sang Nợ quá hạn.
... C89: phải bằng tổng số tiền trong cột S ở sheet DSKH (trong VD là 3,300).
B90: 4. Sheet NKTT
C91: - Từ cột A đến Cột I hoàn toàn giống với sheet NKMB. Ở đây, ta lưu ý rằng Mã đơn hàng thanh toán chính là những mã đơn
C92: hàng đã phát sinh bên sheet NKMB. Một Mã đơn hàng khi phát sinh(Sheet NKMB) sẽ được thanh toán ngay, hoặc trả sau.
C93: .Trả sau có thể trả một lần hoặc nhiều lần cho một đơn hàng.
C94: VD : vào ngày 01/01/08 phát sinh đơn hàng A003-1111 với doanh số là 11.500, chiết khấu 200, trả ngay 1.300, cột trả sau
C95: bằng 0. Cột Nợ còn lại sẽ là 10.000. Vào ngày 01/02/08, khách hàng thanh toán cho đơn hàng này là 5.000, khi đó ta sẽ
C96: nhập Mã đơn hàng này vào (sheet NKTT) với cột số tiền là 5.000. Vào ngày 15/02/2008, khách hàng trả thêm 3.000, ta
C97: cũng nhập tương tự. Lúc này, ô trả sau của mã đơn hàng này sẽ là 8.000, cột Nợ còn lại sẽ là 2.000. Và tiếp tục cho đến
C98: khi khách hàng thanh toán hết số nợ, cột Nợ còn lại sẽ bằng 0.
C99: Cách thực hiện : Khi ta muốn thanh toán cho đơn hàng nào thì ta xem số chứng từ và mã khách hàng của đơn hàng đó(NKMB)
C100: . Sau đó nhập vào bên sheet NKTT,ta sẽ có Mã đơn hàng thanh toán. Thêm ngày tháng,số tiền và diễn giải.
C101: - Cột K lọc ra những dòng phát sinh, cột L đến N lọc nhật ký theo ngày tháng.
B102: 5. Sheet BAOCAO
C103: - Ô B3, B4 là ô chọn ngày xem báo cáo, dùng chung cho Báo cáo khách hàng và Báo cáo Saleman.
C104: - Ô B5 chọn loại khách hàng báo xem báo cáo. Nếu xem Báo cáo Khách hàng thì chọn KH, nếu là Nhà cung cấp thì chọn NCC
C105: - Ô B6 chọn Mã khách hàng hay Mã nhà cung cấp để xem báo cáo. Nếu để trống thì xem toàn bộ KH hay NCC (theo ô B5).
C106: - Ô B12 là Ô báo cáo Nợ quá hạn. Ô này không theo khung thời gian chọn ở trên mà theo ô chọn xem NQH từ ngày đến ngày.
C107: - Ô B17 là ô chọn Mã Sale để xem báo cáo. Nếu để trống thì xem tổng hợp tất cả các Saleman.
B108: 6. Sheet NAME : là sheet chứa các Name trong công thức để tham khảo thêm.
C109: END.
C111: Ghi chú :
C112: Các bạn nhớ chọn năm hạch toán chính xác, nếu sai sẽ ảnh hưởng đến việc cập nhật số liệu và xem báo cáo.
C113: Nên để chế độ Protect khi nhập liệu hay xem báo cáo để tránh sai sót khi thao tác.
C114: Nên để chế độ Manual trong Tools\Options\Calculation trong khi thao tác để việc thao tác được nhanh, sau đó bấm F9 để tính.
C115: Password là danh
C116: Mong được sự góp ý của các bạn.

Sheet DSSM
A1: ="DANH SÁCH SALE MAN NĂM "&NAM -> DANH SÁCH SALE MAN NĂM 2008
A2: HD
A3: =MAX($A$7:$A$100) -> 10 | C3: =IF(D103+E103<>0,"SAI","-") -> #NAME? | D3: =D101 -> #NAME? | E3: =E101 -> #NAME? | F3: =F101 -> 43890 | G3: =G101 -> 12925
A4: STT | B4: MSM | C4: SALE MAN | D4: DOANH SỐ | E4: THU TIỀN | F4: TARGET | H4: % HOÀN THÀNH | I4: PS
D5: THÁNG : => | F5: DS | G5: TT
A6: 0 | B6: 2 | C6: 3 | D6: 4 | E6: 5 | F6: 6 | G6: 7 | H6: 8 | I6: 9
A7: =IF($B7<>"",MAX($A$6:$A6)+1,0) -> 1 | B7: CTY | C7: Công ty | D7: =DSSALEMAN? -> #NAME? | E7: =TTSM? -> #NAME? | F7: 1500 | G7: 1300 | H7: =IF(DSSM!$D7>0,ROUND(DSSM!$D7*100/DSSM!$F7,1),"")&" -- "&IF(DSSM!$E7>0,ROUND(DSSM!$E7*100/DSSM!$G7,1),"") -> #NAME? | I7: =IF(DSSM!$D7+DSSM!$E7>0,"PS","-") -> #NAME? | J7: 1 | K7: KH
A8: =IF($B8<>"",MAX($A$6:$A7)+1,0) -> 2 | B8: HDANH | C8: Nguyễn Hoàng Danh | D8: =DSSALEMAN? -> #NAME? | E8: =TTSM? -> #NAME? | F8: 4500 | G8: 750 | H8: =IF(DSSM!$D8>0,ROUND(DSSM!$D8*100/DSSM!$F8,1),"")&" -- "&IF(DSSM!$E8>0,ROUND(DSSM!$E8*100/DSSM!$G8,1),"") -> #NAME? | I8: =IF(DSSM!$D8+DSSM!$E8>0,"PS","-") -> #NAME? | J8: 2 | K8: NCC
A9: =IF($B9<>"",MAX($A$6:$A8)+1,0) -> 3 | B9: NLONG | C9: Trần Nam Long | D9: =DSSALEMAN? -> #NAME? | E9: =TTSM? -> #NAME? | F9: 4390 | G9: 1200 | H9: =IF(DSSM!$D9>0,ROUND(DSSM!$D9*100/DSSM!$F9,1),"")&" -- "&IF(DSSM!$E9>0,ROUND(DSSM!$E9*100/DSSM!$G9,1),"") -> #NAME? | I9: =IF(DSSM!$D9+DSSM!$E9>0,"PS","-") -> #NAME? | J9: 3
A10: =IF($B10<>"",MAX($A$6:$A9)+1,0) -> 4 | B10: NKY | C10: Lê Nhã Kỳ | D10: =DSSALEMAN? -> #NAME? | E10: =TTSM? -> #NAME? | F10: 4750 | G10: 800 | H10: =IF(DSSM!$D10>0,ROUND(DSSM!$D10*100/DSSM!$F10,1),"")&" -- "&IF(DSSM!$E10>0,ROUND(DSSM!$E10*100/DSSM!$G10,1),"") -> #NAME? | I10: =IF(DSSM!$D10+DSSM!$E10>0,"PS","-") -> #NAME? | J10: 4
A11: =IF($B11<>"",MAX($A$6:$A10)+1,0) -> 5 | B11: HNAM | C11: Nguyễn Hoài Nam | D11: =DSSALEMAN? -> #NAME? | E11: =TTSM? -> #NAME? | F11: 2800 | G11: 800 | H11: =IF(DSSM!$D11>0,ROUND(DSSM!$D11*100/DSSM!$F11,1),"")&" -- "&IF(DSSM!$E11>0,ROUND(DSSM!$E11*100/DSSM!$G11,1),"") -> #NAME? | I11: =IF(DSSM!$D11+DSSM!$E11>0,"PS","-") -> #NAME? | J11: 5
A12: =IF($B12<>"",MAX($A$6:$A11)+1,0) -> 6 | B12: TTRANG | C12: Lê Thị Thu Trang | D12: =DSSALEMAN? -> #NAME? | E12: =TTSM? -> #NAME? | F12: 3300 | G12: 1100 | H12: =IF(DSSM!$D12>0,ROUND(DSSM!$D12*100/DSSM!$F12,1),"")&" -- "&IF(DSSM!$E12>0,ROUND(DSSM!$E12*100/DSSM!$G12,1),"") -> #NAME? | I12: =IF(DSSM!$D12+DSSM!$E12>0,"PS","-") -> #NAME? | J12: 6
A13: =IF($B13<>"",MAX($A$6:$A12)+1,0) -> 7 | B13: VSON | C13: Nguyễn Văn Sơn | D13: =DSSALEMAN? -> #NAME? | E13: =TTSM? -> #NAME? | F13: 7380 | G13: 1200 | H13: =IF(DSSM!$D13>0,ROUND(DSSM!$D13*100/DSSM!$F13,1),"")&" -- "&IF(DSSM!$E13>0,ROUND(DSSM!$E13*100/DSSM!$G13,1),"") -> #NAME? | I13: =IF(DSSM!$D13+DSSM!$E13>0,"PS","-") -> #NAME? | J13: 7
A14: =IF($B14<>"",MAX($A$6:$A13)+1,0) -> 8 | B14: HPHONG | C14: Trịnh Hoài Phong | D14: =DSSALEMAN? -> #NAME? | E14: =TTSM? -> #NAME? | F14: 8870 | G14: 2875 | H14: =IF(DSSM!$D14>0,ROUND(DSSM!$D14*100/DSSM!$F14,1),"")&" -- "&IF(DSSM!$E14>0,ROUND(DSSM!$E14*100/DSSM!$G14,1),"") -> #NAME? | I14: =IF(DSSM!$D14+DSSM!$E14>0,"PS","-") -> #NAME? | J14: 8
A15: =IF($B15<>"",MAX($A$6:$A14)+1,0) -> 9 | B15: HSIEU | C15: Trương Hán Siêu | D15: =DSSALEMAN? -> #NAME? | E15: =TTSM? -> #NAME? | F15: 6400 | G15: 2900 | H15: =IF(DSSM!$D15>0,ROUND(DSSM!$D15*100/DSSM!$F15,1),"")&" -- "&IF(DSSM!$E15>0,ROUND(DSSM!$E15*100/DSSM!$G15,1),"") -> #NAME? | I15: =IF(DSSM!$D15+DSSM!$E15>0,"PS","-") -> #NAME? | J15: 9
A16: =IF($B16<>"",MAX($A$6:$A15)+1,0) -> 10 | B16: SDFG | D16: =DSSALEMAN? -> #NAME? | E16: =TTSM? -> #NAME? | H16: =IF(DSSM!$D16>0,ROUND(DSSM!$D16*100/DSSM!$F16,1),"")&" -- "&IF(DSSM!$E16>0,ROUND(DSSM!$E16*100/DSSM!$G16,1),"") -> #NAME? | I16: =IF(DSSM!$D16+DSSM!$E16>0,"PS","-") -> #NAME? | J16: 10
A17: =IF($B17<>"",MAX($A$6:$A16)+1,0) -> 0 | D17: =DSSALEMAN? -> #NAME? | E17: =TTSM? -> #NAME? | H17: =IF(DSSM!$D17>0,ROUND(DSSM!$D17*100/DSSM!$F17,1),"")&" -- "&IF(DSSM!$E17>0,ROUND(DSSM!$E17*100/DSSM!$G17,1),"") -> #NAME? | I17: =IF(DSSM!$D17+DSSM!$E17>0,"PS","-") -> #NAME? | J17: 11
A18: =IF($B18<>"",MAX($A$6:$A17)+1,0) -> 0 | D18: =DSSALEMAN? -> #NAME? | E18: =TTSM? -> #NAME? | H18: =IF(DSSM!$D18>0,ROUND(DSSM!$D18*100/DSSM!$F18,1),"")&" -- "&IF(DSSM!$E18>0,ROUND(DSSM!$E18*100/DSSM!$G18,1),"") -> #NAME? | I18: =IF(DSSM!$D18+DSSM!$E18>0,"PS","-") -> #NAME? | J18: 12
A19: =IF($B19<>"",MAX($A$6:$A18)+1,0) -> 0 | D19: =DSSALEMAN? -> #NAME? | E19: =TTSM? -> #NAME? | H19: =IF(DSSM!$D19>0,ROUND(DSSM!$D19*100/DSSM!$F19,1),"")&" -- "&IF(DSSM!$E19>0,ROUND(DSSM!$E19*100/DSSM!$G19,1),"") -> #NAME? | I19: =IF(DSSM!$D19+DSSM!$E19>0,"PS","-") -> #NAME?
A20: =IF($B20<>"",MAX($A$6:$A19)+1,0) -> 0 | D20: =DSSALEMAN? -> #NAME? | E20: =TTSM? -> #NAME? | H20: =IF(DSSM!$D20>0,ROUND(DSSM!$D20*100/DSSM!$F20,1),"")&" -- "&IF(DSSM!$E20>0,ROUND(DSSM!$E20*100/DSSM!$G20,1),"") -> #NAME? | I20: =IF(DSSM!$D20+DSSM!$E20>0,"PS","-") -> #NAME?
A21: =IF($B21<>"",MAX($A$6:$A20)+1,0) -> 0 | D21: =DSSALEMAN? -> #NAME? | E21: =TTSM? -> #NAME? | H21: =IF(DSSM!$D21>0,ROUND(DSSM!$D21*100/DSSM!$F21,1),"")&" -- "&IF(DSSM!$E21>0,ROUND(DSSM!$E21*100/DSSM!$G21,1),"") -> #NAME? | I21: =IF(DSSM!$D21+DSSM!$E21>0,"PS","-") -> #NAME?
A22: =IF($B22<>"",MAX($A$6:$A21)+1,0) -> 0 | D22: =DSSALEMAN? -> #NAME? | E22: =TTSM? -> #NAME? | H22: =IF(DSSM!$D22>0,ROUND(DSSM!$D22*100/DSSM!$F22,1),"")&" -- "&IF(DSSM!$E22>0,ROUND(DSSM!$E22*100/DSSM!$G22,1),"") -> #NAME? | I22: =IF(DSSM!$D22+DSSM!$E22>0,"PS","-") -> #NAME?
A23: =IF($B23<>"",MAX($A$6:$A22)+1,0) -> 0 | D23: =DSSALEMAN? -> #NAME? | E23: =TTSM? -> #NAME? | H23: =IF(DSSM!$D23>0,ROUND(DSSM!$D23*100/DSSM!$F23,1),"")&" -- "&IF(DSSM!$E23>0,ROUND(DSSM!$E23*100/DSSM!$G23,1),"") -> #NAME? | I23: =IF(DSSM!$D23+DSSM!$E23>0,"PS","-") -> #NAME?
A24: =IF($B24<>"",MAX($A$6:$A23)+1,0) -> 0 | D24: =DSSALEMAN? -> #NAME? | E24: =TTSM? -> #NAME? | H24: =IF(DSSM!$D24>0,ROUND(DSSM!$D24*100/DSSM!$F24,1),"")&" -- "&IF(DSSM!$E24>0,ROUND(DSSM!$E24*100/DSSM!$G24,1),"") -> #NAME? | I24: =IF(DSSM!$D24+DSSM!$E24>0,"PS","-") -> #NAME?
A25: =IF($B25<>"",MAX($A$6:$A24)+1,0) -> 0 | D25: =DSSALEMAN? -> #NAME? | E25: =TTSM? -> #NAME? | H25: =IF(DSSM!$D25>0,ROUND(DSSM!$D25*100/DSSM!$F25,1),"")&" -- "&IF(DSSM!$E25>0,ROUND(DSSM!$E25*100/DSSM!$G25,1),"") -> #NAME? | I25: =IF(DSSM!$D25+DSSM!$E25>0,"PS","-") -> #NAME?
A26: =IF($B26<>"",MAX($A$6:$A25)+1,0) -> 0 | D26: =DSSALEMAN? -> #NAME? | E26: =TTSM? -> #NAME? | H26: =IF(DSSM!$D26>0,ROUND(DSSM!$D26*100/DSSM!$F26,1),"")&" -- "&IF(DSSM!$E26>0,ROUND(DSSM!$E26*100/DSSM!$G26,1),"") -> #NAME? | I26: =IF(DSSM!$D26+DSSM!$E26>0,"PS","-") -> #NAME?
A27: =IF($B27<>"",MAX($A$6:$A26)+1,0) -> 0 | D27: =DSSALEMAN? -> #NAME? | E27: =TTSM? -> #NAME? | H27: =IF(DSSM!$D27>0,ROUND(DSSM!$D27*100/DSSM!$F27,1),"")&" -- "&IF(DSSM!$E27>0,ROUND(DSSM!$E27*100/DSSM!$G27,1),"") -> #NAME? | I27: =IF(DSSM!$D27+DSSM!$E27>0,"PS","-") -> #NAME?
A28: =IF($B28<>"",MAX($A$6:$A27)+1,0) -> 0 | D28: =DSSALEMAN? -> #NAME? | E28: =TTSM? -> #NAME? | H28: =IF(DSSM!$D28>0,ROUND(DSSM!$D28*100/DSSM!$F28,1),"")&" -- "&IF(DSSM!$E28>0,ROUND(DSSM!$E28*100/DSSM!$G28,1),"") -> #NAME? | I28: =IF(DSSM!$D28+DSSM!$E28>0,"PS","-") -> #NAME?
A29: =IF($B29<>"",MAX($A$6:$A28)+1,0) -> 0 | D29: =DSSALEMAN? -> #NAME? | E29: =TTSM? -> #NAME? | H29: =IF(DSSM!$D29>0,ROUND(DSSM!$D29*100/DSSM!$F29,1),"")&" -- "&IF(DSSM!$E29>0,ROUND(DSSM!$E29*100/DSSM!$G29,1),"") -> #NAME? | I29: =IF(DSSM!$D29+DSSM!$E29>0,"PS","-") -> #NAME?
A30: =IF($B30<>"",MAX($A$6:$A29)+1,0) -> 0 | D30: =DSSALEMAN? -> #NAME? | E30: =TTSM? -> #NAME? | H30: =IF(DSSM!$D30>0,ROUND(DSSM!$D30*100/DSSM!$F30,1),"")&" -- "&IF(DSSM!$E30>0,ROUND(DSSM!$E30*100/DSSM!$G30,1),"") -> #NAME? | I30: =IF(DSSM!$D30+DSSM!$E30>0,"PS","-") -> #NAME?
... A99: =IF($B99<>"",MAX($A$6:$A98)+1,0) -> 0 | D99: =DSSALEMAN? -> #NAME? | E99: =TTSM? -> #NAME? | H99: =IF(DSSM!$D99>0,ROUND(DSSM!$D99*100/DSSM!$F99,1),"")&" -- "&IF(DSSM!$E99>0,ROUND(DSSM!$E99*100/DSSM!$G99,1),"") -> #NAME? | I99: =IF(DSSM!$D99+DSSM!$E99>0,"PS","-") -> #NAME?
A100: =IF($B100<>"",MAX($A$6:$A99)+1,0) -> 0
C101: TỔNG CỘNG | D101: =SUBTOTAL(9,D7:D100) -> #NAME? | E101: =SUBTOTAL(9,E7:E100) -> #NAME? | F101: =SUBTOTAL(9,F7:F100) -> 43890 | G101: =SUBTOTAL(9,G7:G100) -> 12925 | I101: PS
D102: =IF(DSSM!$E$5="",SUMPRODUCT(DKNAMMB?*("KH"=LOAI1)*ST1),SUMPRODUCT(DKNAMMB?*DKTHANGMB1?*("KH"=LOAI1)*ST1)) -> #NAME? | E102: =IF(DSSM!$E$5="",SUMPRODUCT(DKNAMMB?*("KH"=LOAI1)*TRANGAY)+SUMPRODUCT(DKNAMTT?*("KH"=LOAI2)*ST2),SUMPRODUCT(DKNAMMB?*DKTHANGMB1?*("KH"=LOAI1)*TRANGAY)+SUMPRODUCT(DKNAMTT?*DKTHANGTT1?*("KH"=LOAI2)*ST2)) -> #NAME?
D103: =D101-D102 -> #NAME? | E103: =E101-E102 -> #NAME?

Sheet DSKH
A1: ="DANH SÁCH KHÁCH HÀNG VÀ NHÀ CUNG CẤP NĂM "&NAM -> DANH SÁCH KHÁCH HÀNG VÀ NHÀ CUNG CẤP NĂM 2008
A2: HD
A3: =MAX(A7:A300) -> 31 | C3: =IF(SUM(F303:R303)<>0,"SAI","-") -> #NAME? | F3: =F301 -> #NAME? | G3: =G301 -> #NAME? | H3: =H301 -> #NAME? | I3: =I301 -> #NAME? | J3: =J301 -> #NAME? | K3: =IF(MIN(J7:J300)<0,"SAI","-") -> #NAME? | L3: =L301 -> #NAME? | M3: =M301 -> #NAME? | N3: =N301 -> #NAME? | O3: =O301 -> #NAME? | P3: =P301 -> #NAME? | Q3: =Q301 -> #NAME? | R3: =R301 -> #NAME? | S3: =S301 -> 3300 | ... AD3: =AD301 -> 0
A4: STT | B4: MKH | C4: TÊN KHÁCH HÀNG | D4: LOẠI | E4: MSM | F4: NỢ ĐK | G4: DOANH SỐ | H4: THU TIỀN | I4: CHIẾT KHẤU | J4: NỢ CK | K4: PS | L4: NỢ TRH | M4: NỢ ĐH | N4: CHI TIẾT NỢ QUÁ HẠN | S4: LƯU CHI TIẾT NỢ CUỐI KỲ NĂM 2008
G5: THÁNG : => | H5: 6 | N5: TỔNG NQH | O5: 7N | P5: 14N | Q5: 30N | R5: >30N | S5: THÁNG 1 | T5: THÁNG 2 | U5: THÁNG 3 | V5: THÁNG 4 | W5: THÁNG 5 | X5: THÁNG 6 | Y5: THÁNG 7 | Z5: THÁNG 8 | AA5: THÁNG 9 | AB5: THÁNG 10 | AC5: THÁNG 11 | AD5: THÁNG 12
B6: 2 | C6: 3 | D6: 4 | E6: 5 | F6: 6 | G6: 7 | H6: 8 | I6: 9 | J6: 10 | K6: 11 | L6: 12 | M6: 13 | N6: 14 | O6: 15 | P6: 16 | Q6: 17 | R6: 20 | S6: 21 | T6: 22 | U6: 23 | V6: 24 | W6: 25 | X6: 26 | Y6: 27 | Z6: 28 | AA6: 29 | AB6: 30 | AC6: 31 | AD6: 32
A7: =IF(B7<>"",MAX($A$6:A6)+1,0) -> 1 | B7: BL | C7: Bán Lẻ | D7: KH | E7: CTY | F7: =NDK? -> #NAME? | G7: =DS? -> #NAME? | H7: =TT? -> #NAME? | I7: =CK? -> #NAME? | J7: =NCK? -> #NAME? | K7: =IF(SUM(DSKH!$F7:$I7)>0,"PS","-") -> #NAME? | L7: =NTH? -> #NAME? | M7: =NDH? -> #NAME? | N7: =TNQH? -> #NAME? | O7: =N7? -> #NAME? | P7: =N14? -> #NAME? | Q7: =N30? -> #NAME? | R7: =N31? -> #NAME? | T7: 0 | U7: 0 | V7: 0 | W7: 0
A8: =IF(B8<>"",MAX($A$6:A7)+1,0) -> 2 | B8: A001 | C8: Dương Cúc | D8: KH | E8: HDANH | F8: =NDK? -> #NAME? | G8: =DS? -> #NAME? | H8: =TT? -> #NAME? | I8: =CK? -> #NAME? | J8: =NCK? -> #NAME? | K8: =IF(SUM(DSKH!$F8:$I8)>0,"PS","-") -> #NAME? | L8: =NTH? -> #NAME? | M8: =NDH? -> #NAME? | N8: =TNQH? -> #NAME? | O8: =N8? -> #NAME? | P8: =N15? -> #NAME? | Q8: =N31? -> #NAME? | R8: =N32? -> #NAME? | S8: 1100 | T8: 900 | U8: 900 | V8: 900 | W8: 900
A9: =IF(B9<>"",MAX($A$6:A8)+1,0) -> 3 | B9: A002 | C9: CH Chấn Nam | D9: KH | E9: NLONG | F9: =NDK? -> #NAME? | G9: =DS? -> #NAME? | H9: =TT? -> #NAME? | I9: =CK? -> #NAME? | J9: =NCK? -> #NAME? | K9: =IF(SUM(DSKH!$F9:$I9)>0,"PS","-") -> #NAME? | L9: =NTH? -> #NAME? | M9: =NDH? -> #NAME? | N9: =TNQH? -> #NAME? | O9: =N9? -> #NAME? | P9: =N16? -> #NAME? | Q9: =N32? -> #NAME? | R9: =N33? -> #NAME? | S9: 1200 | T9: 1200 | U9: 400 | V9: 400 | W9: 400
A10: =IF(B10<>"",MAX($A$6:A9)+1,0) -> 4 | B10: A003 | C10: CH Hoàng Phát | D10: KH | E10: NKY | F10: =NDK? -> #NAME? | G10: =DS? -> #NAME? | H10: =TT? -> #NAME? | I10: =CK? -> #NAME? | J10: =NCK? -> #NAME? | K10: =IF(SUM(DSKH!$F10:$I10)>0,"PS","-") -> #NAME? | L10: =NTH? -> #NAME? | M10: =NDH? -> #NAME? | N10: =TNQH? -> #NAME? | O10: =N10? -> #NAME? | P10: =N17? -> #NAME? | Q10: =N33? -> #NAME? | R10: =N34? -> #NAME? | T10: 0 | U10: 0 | V10: 0 | W10: 0
A11: =IF(B11<>"",MAX($A$6:A10)+1,0) -> 5 | B11: A004 | C11: CH Hữu Lộc | D11: KH | E11: HNAM | F11: =NDK? -> #NAME? | G11: =DS? -> #NAME? | H11: =TT? -> #NAME? | I11: =CK? -> #NAME? | J11: =NCK? -> #NAME? | K11: =IF(SUM(DSKH!$F11:$I11)>0,"PS","-") -> #NAME? | L11: =NTH? -> #NAME? | M11: =NDH? -> #NAME? | N11: =TNQH? -> #NAME? | O11: =N11? -> #NAME? | P11: =N18? -> #NAME? | Q11: =N34? -> #NAME? | R11: =N35? -> #NAME? | T11: 1086 | U11: 1086 | V11: 1086 | W11: 1086
A12: =IF(B12<>"",MAX($A$6:A11)+1,0) -> 6 | B12: A005 | C12: CH Huy | D12: KH | E12: TTRANG | F12: =NDK? -> #NAME? | G12: =DS? -> #NAME? | H12: =TT? -> #NAME? | I12: =CK? -> #NAME? | J12: =NCK? -> #NAME? | K12: =IF(SUM(DSKH!$F12:$I12)>0,"PS","-") -> #NAME? | L12: =NTH? -> #NAME? | M12: =NDH? -> #NAME? | N12: =TNQH? -> #NAME? | O12: =N12? -> #NAME? | P12: =N19? -> #NAME? | Q12: =N35? -> #NAME? | R12: =N36? -> #NAME? | S12: 1000 | T12: 800 | U12: 1885 | V12: 1885 | W12: 1885
A13: =IF(B13<>"",MAX($A$6:A12)+1,0) -> 7 | B13: B001 | C13: CH Huỳnh Long II | D13: KH | E13: VSON | F13: =NDK? -> #NAME? | G13: =DS? -> #NAME? | H13: =TT? -> #NAME? | I13: =CK? -> #NAME? | J13: =NCK? -> #NAME? | K13: =IF(SUM(DSKH!$F13:$I13)>0,"PS","-") -> #NAME? | L13: =NTH? -> #NAME? | M13: =NDH? -> #NAME? | N13: =TNQH? -> #NAME? | O13: =N13? -> #NAME? | P13: =N20? -> #NAME? | Q13: =N36? -> #NAME? | R13: =N37? -> #NAME? | V13: 1484 | W13: 1484
A14: =IF(B14<>"",MAX($A$6:A13)+1,0) -> 8 | B14: B002 | C14: CH Huỳnh Tráng | D14: KH | E14: HPHONG | F14: =NDK? -> #NAME? | G14: =DS? -> #NAME? | H14: =TT? -> #NAME? | I14: =CK? -> #NAME? | J14: =NCK? -> #NAME? | K14: =IF(SUM(DSKH!$F14:$I14)>0,"PS","-") -> #NAME? | L14: =NTH? -> #NAME? | M14: =NDH? -> #NAME? | N14: =TNQH? -> #NAME? | O14: =N14? -> #NAME? | P14: =N21? -> #NAME? | Q14: =N37? -> #NAME? | R14: =N38? -> #NAME? | V14: 1183 | W14: 1183
A15: =IF(B15<>"",MAX($A$6:A14)+1,0) -> 9 | B15: B003 | C15: CH Đại Phước Hàng | D15: KH | E15: HSIEU | F15: =NDK? -> #NAME? | G15: =DS? -> #NAME? | H15: =TT? -> #NAME? | I15: =CK? -> #NAME? | J15: =NCK? -> #NAME? | K15: =IF(SUM(DSKH!$F15:$I15)>0,"PS","-") -> #NAME? | L15: =NTH? -> #NAME? | M15: =NDH? -> #NAME? | N15: =TNQH? -> #NAME? | O15: =N15? -> #NAME? | P15: =N22? -> #NAME? | Q15: =N38? -> #NAME? | R15: =N39? -> #NAME? | V15: 1182 | W15: 1182
A16: =IF(B16<>"",MAX($A$6:A15)+1,0) -> 10 | B16: B004 | C16: CH Nguyễn Huệ | D16: KH | E16: HDANH | F16: =NDK? -> #NAME? | G16: =DS? -> #NAME? | H16: =TT? -> #NAME? | I16: =CK? -> #NAME? | J16: =NCK? -> #NAME? | K16: =IF(SUM(DSKH!$F16:$I16)>0,"PS","-") -> #NAME? | L16: =NTH? -> #NAME? | M16: =NDH? -> #NAME? | N16: =TNQH? -> #NAME? | O16: =N16? -> #NAME? | P16: =N23? -> #NAME? | Q16: =N39? -> #NAME? | R16: =N40? -> #NAME? | V16: 0 | W16: 1190
A17: =IF(B17<>"",MAX($A$6:A16)+1,0) -> 11 | B17: B005 | C17: CH Thanh Loan | D17: KH | E17: NLONG | F17: =NDK? -> #NAME? | G17: =DS? -> #NAME? | H17: =TT? -> #NAME? | I17: =CK? -> #NAME? | J17: =NCK? -> #NAME? | K17: =IF(SUM(DSKH!$F17:$I17)>0,"PS","-") -> #NAME? | L17: =NTH? -> #NAME? | M17: =NDH? -> #NAME? | N17: =TNQH? -> #NAME? | O17: =N17? -> #NAME? | P17: =N24? -> #NAME? | Q17: =N40? -> #NAME? | R17: =N41? -> #NAME? | V17: 0 | W17: 1180
A18: =IF(B18<>"",MAX($A$6:A17)+1,0) -> 12 | B18: C001 | C18: CH Thanh Niên II | D18: KH | E18: NKY | F18: =NDK? -> #NAME? | G18: =DS? -> #NAME? | H18: =TT? -> #NAME? | I18: =CK? -> #NAME? | J18: =NCK? -> #NAME? | K18: =IF(SUM(DSKH!$F18:$I18)>0,"PS","-") -> #NAME? | L18: =NTH? -> #NAME? | M18: =NDH? -> #NAME? | N18: =TNQH? -> #NAME? | O18: =N18? -> #NAME? | P18: =N25? -> #NAME? | Q18: =N41? -> #NAME? | R18: =N42? -> #NAME? | V18: 0 | W18: 0
A19: =IF(B19<>"",MAX($A$6:A18)+1,0) -> 13 | B19: C002 | C19: CH Trung Trung | D19: KH | E19: HNAM | F19: =NDK? -> #NAME? | G19: =DS? -> #NAME? | H19: =TT? -> #NAME? | I19: =CK? -> #NAME? | J19: =NCK? -> #NAME? | K19: =IF(SUM(DSKH!$F19:$I19)>0,"PS","-") -> #NAME? | L19: =NTH? -> #NAME? | M19: =NDH? -> #NAME? | N19: =TNQH? -> #NAME? | O19: =N19? -> #NAME? | P19: =N26? -> #NAME? | Q19: =N42? -> #NAME? | R19: =N43? -> #NAME? | V19: 0 | W19: 0
A20: =IF(B20<>"",MAX($A$6:A19)+1,0) -> 14 | B20: C003 | C20: CH Tùng Châu | D20: KH | E20: TTRANG | F20: =NDK? -> #NAME? | G20: =DS? -> #NAME? | H20: =TT? -> #NAME? | I20: =CK? -> #NAME? | J20: =NCK? -> #NAME? | K20: =IF(SUM(DSKH!$F20:$I20)>0,"PS","-") -> #NAME? | L20: =NTH? -> #NAME? | M20: =NDH? -> #NAME? | N20: =TNQH? -> #NAME? | O20: =N20? -> #NAME? | P20: =N27? -> #NAME? | Q20: =N43? -> #NAME? | R20: =N44? -> #NAME? | V20: 0 | W20: -750
A21: =IF(B21<>"",MAX($A$6:A20)+1,0) -> 15 | B21: C004 | C21: CH Vạn Phát | D21: KH | E21: VSON | F21: =NDK? -> #NAME? | G21: =DS? -> #NAME? | H21: =TT? -> #NAME? | I21: =CK? -> #NAME? | J21: =NCK? -> #NAME? | K21: =IF(SUM(DSKH!$F21:$I21)>0,"PS","-") -> #NAME? | L21: =NTH? -> #NAME? | M21: =NDH? -> #NAME? | N21: =TNQH? -> #NAME? | O21: =N21? -> #NAME? | P21: =N28? -> #NAME? | Q21: =N44? -> #NAME? | R21: =N45? -> #NAME? | V21: 0 | W21: 0
A22: =IF(B22<>"",MAX($A$6:A21)+1,0) -> 16 | B22: C005 | C22: CH Thanh Long | D22: KH | E22: HPHONG | F22: =NDK? -> #NAME? | G22: =DS? -> #NAME? | H22: =TT? -> #NAME? | I22: =CK? -> #NAME? | J22: =NCK? -> #NAME? | K22: =IF(SUM(DSKH!$F22:$I22)>0,"PS","-") -> #NAME? | L22: =NTH? -> #NAME? | M22: =NDH? -> #NAME? | N22: =TNQH? -> #NAME? | O22: =N22? -> #NAME? | P22: =N29? -> #NAME? | Q22: =N45? -> #NAME? | R22: =N46? -> #NAME? | V22: 0 | W22: 0
A23: =IF(B23<>"",MAX($A$6:A22)+1,0) -> 17 | B23: D001 | C23: CH Hùng | D23: KH | E23: HSIEU | F23: =NDK? -> #NAME? | G23: =DS? -> #NAME? | H23: =TT? -> #NAME? | I23: =CK? -> #NAME? | J23: =NCK? -> #NAME? | K23: =IF(SUM(DSKH!$F23:$I23)>0,"PS","-") -> #NAME? | L23: =NTH? -> #NAME? | M23: =NDH? -> #NAME? | N23: =TNQH? -> #NAME? | O23: =N23? -> #NAME? | P23: =N30? -> #NAME? | Q23: =N46? -> #NAME? | R23: =N47? -> #NAME? | V23: -400 | W23: -400
A24: =IF(B24<>"",MAX($A$6:A23)+1,0) -> 18 | B24: D002 | C24: CH Vĩnh Phú | D24: KH | E24: VSON | F24: =NDK? -> #NAME? | G24: =DS? -> #NAME? | H24: =TT? -> #NAME? | I24: =CK? -> #NAME? | J24: =NCK? -> #NAME? | K24: =IF(SUM(DSKH!$F24:$I24)>0,"PS","-") -> #NAME? | L24: =NTH? -> #NAME? | M24: =NDH? -> #NAME? | N24: =TNQH? -> #NAME? | O24: =N24? -> #NAME? | P24: =N31? -> #NAME? | Q24: =N47? -> #NAME? | R24: =N48? -> #NAME? | V24: 0 | W24: 0
... A28: =IF(B28<>"",MAX($A$6:A27)+1,0) -> 22 | B28: E001 | C28: Cty Tài Phong | D28: KH | E28: NLONG | F28: =NDK? -> #NAME? | G28: =DS? -> #NAME? | H28: =TT? -> #NAME? | I28: =CK? -> #NAME? | J28: =NCK? -> #NAME? | K28: =IF(SUM(DSKH!$F28:$I28)>0,"PS","-") -> #NAME? | L28: =NTH? -> #NAME? | M28: =NDH? -> #NAME? | N28: =TNQH? -> #NAME? | O28: =N28? -> #NAME? | P28: =N35? -> #NAME? | Q28: =N51? -> #NAME? | R28: =N52? -> #NAME? | V28: -500 | W28: -500
A29: =IF(B29<>"",MAX($A$6:A28)+1,0) -> 23 | B29: E002 | C29: DNTN An Tánh | D29: KH | E29: NKY | F29: =NDK? -> #NAME? | G29: =DS? -> #NAME? | H29: =TT? -> #NAME? | I29: =CK? -> #NAME? | J29: =NCK? -> #NAME? | K29: =IF(SUM(DSKH!$F29:$I29)>0,"PS","-") -> #NAME? | L29: =NTH? -> #NAME? | M29: =NDH? -> #NAME? | N29: =TNQH? -> #NAME? | O29: =N29? -> #NAME? | P29: =N36? -> #NAME? | Q29: =N52? -> #NAME? | R29: =N53? -> #NAME?
A30: =IF(B30<>"",MAX($A$6:A29)+1,0) -> 24 | B30: E003 | C30: DNTN Đức Ký | D30: KH | E30: HPHONG | F30: =NDK? -> #NAME? | G30: =DS? -> #NAME? | H30: =TT? -> #NAME? | I30: =CK? -> #NAME? | J30: =NCK? -> #NAME? | K30: =IF(SUM(DSKH!$F30:$I30)>0,"PS","-") -> #NAME? | L30: =NTH? -> #NAME? | M30: =NDH? -> #NAME? | N30: =TNQH? -> #NAME? | O30: =N30? -> #NAME? | P30: =N37? -> #NAME? | Q30: =N53? -> #NAME? | R30: =N54? -> #NAME?
A31: =IF(B31<>"",MAX($A$6:A30)+1,0) -> 25 | B31: E004 | C31: DNTN Đức Quang | D31: KH | E31: HSIEU | F31: =NDK? -> #NAME? | G31: =DS? -> #NAME? | H31: =TT? -> #NAME? | I31: =CK? -> #NAME? | J31: =NCK? -> #NAME? | K31: =IF(SUM(DSKH!$F31:$I31)>0,"PS","-") -> #NAME? | L31: =NTH? -> #NAME? | M31: =NDH? -> #NAME? | N31: =TNQH? -> #NAME? | O31: =N31? -> #NAME? | P31: =N38? -> #NAME? | Q31: =N54? -> #NAME? | R31: =N55? -> #NAME?
A32: =IF(B32<>"",MAX($A$6:A31)+1,0) -> 26 | B32: E005 | C32: ĐM Quang | D32: KH | E32: VSON | F32: =NDK? -> #NAME? | G32: =DS? -> #NAME? | H32: =TT? -> #NAME? | I32: =CK? -> #NAME? | J32: =NCK? -> #NAME? | K32: =IF(SUM(DSKH!$F32:$I32)>0,"PS","-") -> #NAME? | L32: =NTH? -> #NAME? | M32: =NDH? -> #NAME? | N32: =TNQH? -> #NAME? | O32: =N32? -> #NAME? | P32: =N39? -> #NAME? | Q32: =N55? -> #NAME? | R32: =N56? -> #NAME?
A33: =IF(B33<>"",MAX($A$6:A32)+1,0) -> 27 | B33: E006 | C33: CH Thanh Liêm | D33: KH | E33: HPHONG | F33: =NDK? -> #NAME? | G33: =DS? -> #NAME? | H33: =TT? -> #NAME? | I33: =CK? -> #NAME? | J33: =NCK? -> #NAME? | K33: =IF(SUM(DSKH!$F33:$I33)>0,"PS","-") -> #NAME? | L33: =NTH? -> #NAME? | M33: =NDH? -> #NAME? | N33: =TNQH? -> #NAME? | O33: =N33? -> #NAME? | P33: =N40? -> #NAME? | Q33: =N56? -> #NAME? | R33: =N57? -> #NAME?
A34: =IF(B34<>"",MAX($A$6:A33)+1,0) -> 28 | B34: H001 | C34: Cty TNHH Quang Thanh | D34: NCC | E34: CTY | F34: =NDK? -> #NAME? | G34: =DS? -> #NAME? | H34: =TT? -> #NAME? | I34: =CK? -> #NAME? | J34: =NCK? -> #NAME? | K34: =IF(SUM(DSKH!$F34:$I34)>0,"PS","-") -> #NAME? | L34: =NTH? -> #NAME? | M34: =NDH? -> #NAME? | N34: =TNQH? -> #NAME? | O34: =N34? -> #NAME? | P34: =N41? -> #NAME? | Q34: =N57? -> #NAME? | R34: =N58? -> #NAME?
A35: =IF(B35<>"",MAX($A$6:A34)+1,0) -> 29 | B35: H002 | C35: CH ĐM Thông | D35: NCC | E35: CTY | F35: =NDK? -> #NAME? | G35: =DS? -> #NAME? | H35: =TT? -> #NAME? | I35: =CK? -> #NAME? | J35: =NCK? -> #NAME? | K35: =IF(SUM(DSKH!$F35:$I35)>0,"PS","-") -> #NAME? | L35: =NTH? -> #NAME? | M35: =NDH? -> #NAME? | N35: =TNQH? -> #NAME? | O35: =N35? -> #NAME? | P35: =N42? -> #NAME? | Q35: =N58? -> #NAME? | R35: =N59? -> #NAME?
A36: =IF(B36<>"",MAX($A$6:A35)+1,0) -> 30 | B36: H003 | C36: Cty CP Hùng Anh | D36: NCC | E36: CTY | F36: =NDK? -> #NAME? | G36: =DS? -> #NAME? | H36: =TT? -> #NAME? | I36: =CK? -> #NAME? | J36: =NCK? -> #NAME? | K36: =IF(SUM(DSKH!$F36:$I36)>0,"PS","-") -> #NAME? | L36: =NTH? -> #NAME? | M36: =NDH? -> #NAME? | N36: =TNQH? -> #NAME? | O36: =N36? -> #NAME? | P36: =N43? -> #NAME? | Q36: =N59? -> #NAME? | R36: =N60? -> #NAME?
A37: =IF(B37<>"",MAX($A$6:A36)+1,0) -> 31 | B37: BL1 | C37: Bán Lẻ - Hoàng Danh | D37: KH | E37: HDANH | F37: =NDK? -> #NAME? | G37: =DS? -> #NAME? | H37: =TT? -> #NAME? | I37: =CK? -> #NAME? | J37: =NCK? -> #NAME? | K37: =IF(SUM(DSKH!$F37:$I37)>0,"PS","-") -> #NAME? | L37: =NTH? -> #NAME? | M37: =NDH? -> #NAME? | N37: =TNQH? -> #NAME? | O37: =N37? -> #NAME? | P37: =N44? -> #NAME? | Q37: =N60? -> #NAME? | R37: =N61? -> #NAME?
A38: =IF(B38<>"",MAX($A$6:A37)+1,0) -> 0 | F38: =NDK? -> #NAME? | G38: =DS? -> #NAME? | H38: =TT? -> #NAME? | I38: =CK? -> #NAME? | J38: =NCK? -> #NAME? | K38: =IF(SUM(DSKH!$F38:$I38)>0,"PS","-") -> #NAME? | L38: =NTH? -> #NAME? | M38: =NDH? -> #NAME? | N38: =TNQH? -> #NAME? | O38: =N38? -> #NAME? | P38: =N45? -> #NAME? | Q38: =N61? -> #NAME? | R38: =N62? -> #NAME?
A39: =IF(B39<>"",MAX($A$6:A38)+1,0) -> 0 | F39: =NDK? -> #NAME? | G39: =DS? -> #NAME? | H39: =TT? -> #NAME? | I39: =CK? -> #NAME? | J39: =NCK? -> #NAME? | K39: =IF(SUM(DSKH!$F39:$I39)>0,"PS","-") -> #NAME? | L39: =NTH? -> #NAME? | M39: =NDH? -> #NAME? | N39: =TNQH? -> #NAME? | O39: =N39? -> #NAME? | P39: =N46? -> #NAME? | Q39: =N62? -> #NAME? | R39: =N63? -> #NAME?
A40: =IF(B40<>"",MAX($A$6:A39)+1,0) -> 0 | F40: =NDK? -> #NAME? | G40: =DS? -> #NAME? | H40: =TT? -> #NAME? | I40: =CK? -> #NAME? | J40: =NCK? -> #NAME? | K40: =IF(SUM(DSKH!$F40:$I40)>0,"PS","-") -> #NAME? | L40: =NTH? -> #NAME? | M40: =NDH? -> #NAME? | N40: =TNQH? -> #NAME? | O40: =N40? -> #NAME? | P40: =N47? -> #NAME? | Q40: =N63? -> #NAME? | R40: =N64? -> #NAME?
A41: =IF(B41<>"",MAX($A$6:A40)+1,0) -> 0 | F41: =NDK? -> #NAME? | G41: =DS? -> #NAME? | H41: =TT? -> #NAME? | I41: =CK? -> #NAME? | J41: =NCK? -> #NAME? | K41: =IF(SUM(DSKH!$F41:$I41)>0,"PS","-") -> #NAME? | L41: =NTH? -> #NAME? | M41: =NDH? -> #NAME? | N41: =TNQH? -> #NAME? | O41: =N41? -> #NAME? | P41: =N48? -> #NAME? | Q41: =N64? -> #NAME? | R41: =N65? -> #NAME?
A42: =IF(B42<>"",MAX($A$6:A41)+1,0) -> 0 | F42: =NDK? -> #NAME? | G42: =DS? -> #NAME? | H42: =TT? -> #NAME? | I42: =CK? -> #NAME? | J42: =NCK? -> #NAME? | K42: =IF(SUM(DSKH!$F42:$I42)>0,"PS","-") -> #NAME? | L42: =NTH? -> #NAME? | M42: =NDH? -> #NAME? | N42: =TNQH? -> #NAME? | O42: =N42? -> #NAME? | P42: =N49? -> #NAME? | Q42: =N65? -> #NAME? | R42: =N66? -> #NAME?
A43: =IF(B43<>"",MAX($A$6:A42)+1,0) -> 0 | F43: =NDK? -> #NAME? | G43: =DS? -> #NAME? | H43: =TT? -> #NAME? | I43: =CK? -> #NAME? | J43: =NCK? -> #NAME? | K43: =IF(SUM(DSKH!$F43:$I43)>0,"PS","-") -> #NAME? | L43: =NTH? -> #NAME? | M43: =NDH? -> #NAME? | N43: =TNQH? -> #NAME? | O43: =N43? -> #NAME? | P43: =N50? -> #NAME? | Q43: =N66? -> #NAME? | R43: =N67? -> #NAME?
A44: =IF(B44<>"",MAX($A$6:A43)+1,0) -> 0 | F44: =NDK? -> #NAME? | G44: =DS? -> #NAME? | H44: =TT? -> #NAME? | I44: =CK? -> #NAME? | J44: =NCK? -> #NAME? | K44: =IF(SUM(DSKH!$F44:$I44)>0,"PS","-") -> #NAME? | L44: =NTH? -> #NAME? | M44: =NDH? -> #NAME? | N44: =TNQH? -> #NAME? | O44: =N44? -> #NAME? | P44: =N51? -> #NAME? | Q44: =N67? -> #NAME? | R44: =N68? -> #NAME?
A45: =IF(B45<>"",MAX($A$6:A44)+1,0) -> 0 | F45: =NDK? -> #NAME? | G45: =DS? -> #NAME? | H45: =TT? -> #NAME? | I45: =CK? -> #NAME? | J45: =NCK? -> #NAME? | K45: =IF(SUM(DSKH!$F45:$I45)>0,"PS","-") -> #NAME? | L45: =NTH? -> #NAME? | M45: =NDH? -> #NAME? | N45: =TNQH? -> #NAME? | O45: =N45? -> #NAME? | P45: =N52? -> #NAME? | Q45: =N68? -> #NAME? | R45: =N69? -> #NAME?
A46: =IF(B46<>"",MAX($A$6:A45)+1,0) -> 0 | F46: =NDK? -> #NAME? | G46: =DS? -> #NAME? | H46: =TT? -> #NAME? | I46: =CK? -> #NAME? | J46: =NCK? -> #NAME? | K46: =IF(SUM(DSKH!$F46:$I46)>0,"PS","-") -> #NAME? | L46: =NTH? -> #NAME? | M46: =NDH? -> #NAME? | N46: =TNQH? -> #NAME? | O46: =N46? -> #NAME? | P46: =N53? -> #NAME? | Q46: =N69? -> #NAME? | R46: =N70? -> #NAME?
A47: =IF(B47<>"",MAX($A$6:A46)+1,0) -> 0 | F47: =NDK? -> #NAME? | G47: =DS? -> #NAME? | H47: =TT? -> #NAME? | I47: =CK? -> #NAME? | J47: =NCK? -> #NAME? | K47: =IF(SUM(DSKH!$F47:$I47)>0,"PS","-") -> #NAME? | L47: =NTH? -> #NAME? | M47: =NDH? -> #NAME? | N47: =TNQH? -> #NAME? | O47: =N47? -> #NAME? | P47: =N54? -> #NAME? | Q47: =N70? -> #NAME? | R47: =N71? -> #NAME?
A48: =IF(B48<>"",MAX($A$6:A47)+1,0) -> 0 | F48: =NDK? -> #NAME? | G48: =DS? -> #NAME? | H48: =TT? -> #NAME? | I48: =CK? -> #NAME? | J48: =NCK? -> #NAME? | K48: =IF(SUM(DSKH!$F48:$I48)>0,"PS","-") -> #NAME? | L48: =NTH? -> #NAME? | M48: =NDH? -> #NAME? | N48: =TNQH? -> #NAME? | O48: =N48? -> #NAME? | P48: =N55? -> #NAME? | Q48: =N71? -> #NAME? | R48: =N72? -> #NAME?
A49: =IF(B49<>"",MAX($A$6:A48)+1,0) -> 0 | F49: =NDK? -> #NAME? | G49: =DS? -> #NAME? | H49: =TT? -> #NAME? | I49: =CK? -> #NAME? | J49: =NCK? -> #NAME? | K49: =IF(SUM(DSKH!$F49:$I49)>0,"PS","-") -> #NAME? | L49: =NTH? -> #NAME? | M49: =NDH? -> #NAME? | N49: =TNQH? -> #NAME? | O49: =N49? -> #NAME? | P49: =N56? -> #NAME? | Q49: =N72? -> #NAME? | R49: =N73? -> #NAME?
... A261: =IF(B261<>"",MAX($A$6:A260)+1,0) -> 0 | F261: =NDK? -> #NAME? | G261: =DS? -> #NAME? | H261: =TT? -> #NAME? | I261: =CK? -> #NAME? | J261: =NCK? -> #NAME? | K261: =IF(SUM(DSKH!$F261:$I261)>0,"PS","-") -> #NAME? | L261: =NTH? -> #NAME? | M261: =NDH? -> #NAME? | N261: =TNQH? -> #NAME? | O261: =N261? -> #NAME? | P261: =N268? -> #NAME? | Q261: =N284? -> #NAME? | R261: =N285? -> #NAME?
A262: =IF(B262<>"",MAX($A$6:A261)+1,0) -> 0 | F262: =NDK? -> #NAME? | G262: =DS? -> #NAME? | H262: =TT? -> #NAME? | I262: =CK? -> #NAME? | J262: =NCK? -> #NAME? | K262: =IF(SUM(DSKH!$F262:$I262)>0,"PS","-") -> #NAME? | L262: =NTH? -> #NAME? | M262: =NDH? -> #NAME? | N262: =TNQH? -> #NAME? | O262: =N7? -> #NAME? | P262: =N14? -> #NAME? | Q262: =N30? -> #NAME? | R262: =N31? -> #NAME?
A263: =IF(B263<>"",MAX($A$6:A262)+1,0) -> 0 | F263: =NDK? -> #NAME? | G263: =DS? -> #NAME? | H263: =TT? -> #NAME? | I263: =CK? -> #NAME? | J263: =NCK? -> #NAME? | K263: =IF(SUM(DSKH!$F263:$I263)>0,"PS","-") -> #NAME? | L263: =NTH? -> #NAME? | M263: =NDH? -> #NAME? | N263: =TNQH? -> #NAME? | O263: =N8? -> #NAME? | P263: =N15? -> #NAME? | Q263: =N31? -> #NAME? | R263: =N32? -> #NAME?
A264: =IF(B264<>"",MAX($A$6:A263)+1,0) -> 0 | F264: =NDK? -> #NAME? | G264: =DS? -> #NAME? | H264: =TT? -> #NAME? | I264: =CK? -> #NAME? | J264: =NCK? -> #NAME? | K264: =IF(SUM(DSKH!$F264:$I264)>0,"PS","-") -> #NAME? | L264: =NTH? -> #NAME? | M264: =NDH? -> #NAME? | N264: =TNQH? -> #NAME? | O264: =N9? -> #NAME? | P264: =N16? -> #NAME? | Q264: =N32? -> #NAME? | R264: =N33? -> #NAME?
A265: =IF(B265<>"",MAX($A$6:A264)+1,0) -> 0 | F265: =NDK? -> #NAME? | G265: =DS? -> #NAME? | H265: =TT? -> #NAME? | I265: =CK? -> #NAME? | J265: =NCK? -> #NAME? | K265: =IF(SUM(DSKH!$F265:$I265)>0,"PS","-") -> #NAME? | L265: =NTH? -> #NAME? | M265: =NDH? -> #NAME? | N265: =TNQH? -> #NAME? | O265: =N10? -> #NAME? | P265: =N17? -> #NAME? | Q265: =N33? -> #NAME? | R265: =N34? -> #NAME?
A266: =IF(B266<>"",MAX($A$6:A265)+1,0) -> 0 | F266: =NDK? -> #NAME? | G266: =DS? -> #NAME? | H266: =TT? -> #NAME? | I266: =CK? -> #NAME? | J266: =NCK? -> #NAME? | K266: =IF(SUM(DSKH!$F266:$I266)>0,"PS","-") -> #NAME? | L266: =NTH? -> #NAME? | M266: =NDH? -> #NAME? | N266: =TNQH? -> #NAME? | O266: =N11? -> #NAME? | P266: =N18? -> #NAME? | Q266: =N34? -> #NAME? | R266: =N35? -> #NAME?
A267: =IF(B267<>"",MAX($A$6:A266)+1,0) -> 0 | F267: =NDK? -> #NAME? | G267: =DS? -> #NAME? | H267: =TT? -> #NAME? | I267: =CK? -> #NAME? | J267: =NCK? -> #NAME? | K267: =IF(SUM(DSKH!$F267:$I267)>0,"PS","-") -> #NAME? | L267: =NTH? -> #NAME? | M267: =NDH? -> #NAME? | N267: =TNQH? -> #NAME? | O267: =N12? -> #NAME? | P267: =N19? -> #NAME? | Q267: =N35? -> #NAME? | R267: =N36? -> #NAME?
A268: =IF(B268<>"",MAX($A$6:A267)+1,0) -> 0 | F268: =NDK? -> #NAME? | G268: =DS? -> #NAME? | H268: =TT? -> #NAME? | I268: =CK? -> #NAME? | J268: =NCK? -> #NAME? | K268: =IF(SUM(DSKH!$F268:$I268)>0,"PS","-") -> #NAME? | L268: =NTH? -> #NAME? | M268: =NDH? -> #NAME? | N268: =TNQH? -> #NAME? | O268: =N13? -> #NAME? | P268: =N20? -> #NAME? | Q268: =N36? -> #NAME? | R268: =N37? -> #NAME?
A269: =IF(B269<>"",MAX($A$6:A268)+1,0) -> 0 | F269: =NDK? -> #NAME? | G269: =DS? -> #NAME? | H269: =TT? -> #NAME? | I269: =CK? -> #NAME? | J269: =NCK? -> #NAME? | K269: =IF(SUM(DSKH!$F269:$I269)>0,"PS","-") -> #NAME? | L269: =NTH? -> #NAME? | M269: =NDH? -> #NAME? | N269: =TNQH? -> #NAME? | O269: =N14? -> #NAME? | P269: =N21? -> #NAME? | Q269: =N37? -> #NAME? | R269: =N38? -> #NAME?
A270: =IF(B270<>"",MAX($A$6:A269)+1,0) -> 0 | F270: =NDK? -> #NAME? | G270: =DS? -> #NAME? | H270: =TT? -> #NAME? | I270: =CK? -> #NAME? | J270: =NCK? -> #NAME? | K270: =IF(SUM(DSKH!$F270:$I270)>0,"PS","-") -> #NAME? | L270: =NTH? -> #NAME? | M270: =NDH? -> #NAME? | N270: =TNQH? -> #NAME? | O270: =N15? -> #NAME? | P270: =N22? -> #NAME? | Q270: =N38? -> #NAME? | R270: =N39? -> #NAME?
A271: =IF(B271<>"",MAX($A$6:A270)+1,0) -> 0 | F271: =NDK? -> #NAME? | G271: =DS? -> #NAME? | H271: =TT? -> #NAME? | I271: =CK? -> #NAME? | J271: =NCK? -> #NAME? | K271: =IF(SUM(DSKH!$F271:$I271)>0,"PS","-") -> #NAME? | L271: =NTH? -> #NAME? | M271: =NDH? -> #NAME? | N271: =TNQH? -> #NAME? | O271: =N16? -> #NAME? | P271: =N23? -> #NAME? | Q271: =N39? -> #NAME? | R271: =N40? -> #NAME?
A272: =IF(B272<>"",MAX($A$6:A271)+1,0) -> 0 | F272: =NDK? -> #NAME? | G272: =DS? -> #NAME? | H272: =TT? -> #NAME? | I272: =CK? -> #NAME? | J272: =NCK? -> #NAME? | K272: =IF(SUM(DSKH!$F272:$I272)>0,"PS","-") -> #NAME? | L272: =NTH? -> #NAME? | M272: =NDH? -> #NAME? | N272: =TNQH? -> #NAME? | O272: =N17? -> #NAME? | P272: =N24? -> #NAME? | Q272: =N40? -> #NAME? | R272: =N41? -> #NAME?
A273: =IF(B273<>"",MAX($A$6:A272)+1,0) -> 0 | F273: =NDK? -> #NAME? | G273: =DS? -> #NAME? | H273: =TT? -> #NAME? | I273: =CK? -> #NAME? | J273: =NCK? -> #NAME? | K273: =IF(SUM(DSKH!$F273:$I273)>0,"PS","-") -> #NAME? | L273: =NTH? -> #NAME? | M273: =NDH? -> #NAME? | N273: =TNQH? -> #NAME? | O273: =N18? -> #NAME? | P273: =N25? -> #NAME? | Q273: =N41? -> #NAME? | R273: =N42? -> #NAME?
... A299: =IF(B299<>"",MAX($A$6:A298)+1,0) -> 0 | F299: =NDK? -> #NAME? | G299: =DS? -> #NAME? | H299: =TT? -> #NAME? | I299: =CK? -> #NAME? | J299: =NCK? -> #NAME? | K299: =IF(SUM(DSKH!$F299:$I299)>0,"PS","-") -> #NAME? | L299: =NTH? -> #NAME? | M299: =NDH? -> #NAME? | N299: =TNQH? -> #NAME? | O299: =N44? -> #NAME? | P299: =N51? -> #NAME? | Q299: =N67? -> #NAME? | R299: =N68? -> #NAME?
A300: =IF(B300<>"",MAX($A$6:A299)+1,0) -> 0
C301: TỔNG CỘNG | F301: =SUBTOTAL(9,F7:F300) -> #NAME? | G301: =SUBTOTAL(9,G7:G300) -> #NAME? | H301: =SUBTOTAL(9,H7:H300) -> #NAME? | I301: =SUBTOTAL(9,I7:I300) -> #NAME? | J301: =SUBTOTAL(9,J7:J300) -> #NAME? | K301: PS | L301: =SUBTOTAL(9,L7:L300) -> #NAME? | M301: =SUBTOTAL(9,M7:M300) -> #NAME? | N301: =SUBTOTAL(9,N7:N300) -> #NAME? | O301: =SUBTOTAL(9,O7:O300) -> #NAME? | P301: =SUBTOTAL(9,P7:P300) -> #NAME? | Q301: =SUBTOTAL(9,Q7:Q300) -> #NAME? | R301: =SUBTOTAL(9,R7:R300) -> #NAME? | S301: =SUBTOTAL(9,S7:S300) -> 3300 | ... AD301: =SUBTOTAL(9,AD7:AD300) -> 0
F302: =IF(DSKH!$H$5="",DSKH!$S301,CHOOSE(DSKH!$H$5,DSKH!$S301,DSKH!$T301,DSKH!$U301,DSKH!$V301,DSKH!$W301,DSKH!$X301,DSKH!$Y301,DSKH!$Z301,DSKH!$AA301,DSKH!$AB301,DSKH!$AC301,DSKH!$AD301)) -> 0 | G302: =IF(DSKH!$H$5="",SUMPRODUCT(DKNAMMB?*(ST1)),SUMPRODUCT(DKNAMMB?*DKTHANGMB2?*(ST1))) -> #NAME? | H302: =IF(DSKH!$H$5="",SUMPRODUCT(DKNAMMB?*TRANGAY)+SUMPRODUCT(DKNAMTT?*ST2),SUMPRODUCT(DKNAMMB?*DKTHANGMB2?*TRANGAY)+SUMPRODUCT(DKNAMTT?*DKTHANGTT2?*ST2)) -> #NAME? | I302: =IF(DSKH!$H$5="",SUMPRODUCT(DKNAMMB?*CK),SUMPRODUCT(DKNAMMB?*DKTHANGMB2?*CK)) -> #NAME? | J302: =F301+G301-H301-I301 -> #NAME? | L302: =SUMPRODUCT((TGQH<0)*NCL) -> #NAME? | M302: =SUMPRODUCT((TGQH=0)*NCL) -> #NAME? | N302: =O301+P301+Q301+R301 -> #NAME? | O302: =SUMPRODUCT((TGQH>0)*(TGQH<=7)*NCL) -> #NAME? | P302: =SUMPRODUCT((TGQH>7)*(TGQH<=14)*NCL) -> #NAME? | Q302: =SUMPRODUCT((TGQH>14)*(TGQH<=30)*NCL) -> #NAME? | R302: =SUMPRODUCT((TGQH>30)*NCL) -> #NAME?
F303: =F301-F302 -> #NAME? | G303: =G301-G302 -> #NAME? | H303: =H301-H302 -> #NAME? | I303: =I301-I302 -> #NAME? | J303: =J301-J302 -> #NAME? | L303: =L301-L302 -> #NAME? | M303: =M301-M302 -> #NAME? | N303: =N301-N302 -> #NAME? | O303: =O301-O302 -> #NAME? | P303: =P301-P302 -> #NAME? | Q303: =Q301-Q302 -> #NAME? | R303: =R301-R302 -> #NAME?
A306: Mời trải nghiệm Free Bộ ứng dụng Quản trị quan hệ khách hàng và bán hàng: Quản trị xuyên suốt dữ liệu khách hàng/bán hàng từ Phòng Marketing, Phòng Telesales, Phòng kinh doanh và Phòng chăm sóc khách hàng

Sheet NKMB
A1: ="NHẬT KÝ MUA - BÁN HÀNG HÓA NĂM "&NAM -> NHẬT KÝ MUA - BÁN HÀNG HÓA NĂM 2008
A2: HD
A3: =MAX(A7:A1000) -> 30 | C3: =IF(OR(N1001-NKTT!J501<>0,K1001-L1001-M1001-N1001-O1001<>0),"SAI","-") -> #NAME? | F3: =NOW() -> 45798.357 | K3: =K1001 -> 73500 | L3: =L1001 -> 693 | M3: =M1001 -> 18363 | N3: =N1001 -> #NAME? | O3: =O1001 -> #NAME? | P3: =MAX(P7:P1000) -> #NAME?
A4: STT | B4: CT | C4: NGÀY | D4: MĐH | E4: MKH | F4: TÊN KHÁCH HÀNG | G4: LOẠI | H4: MSM | I4: DIỄN GẢI | J4: TH TT | K4: SỐ TIỀN | L4: CK | M4: THANH TOÁN | O4: NỢ CÒN LẠI | P4: TG QH | Q4: LỌC
M5: TRẢ NGAY | N5: TRẢ SAU | Q5: NĂM | R5: THÁNG | S5: NGÀY
B6: 2 | C6: 3 | D6: 4 | E6: 5 | F6: 6 | G6: 7 | H6: 8 | I6: 9 | J6: 10 | K6: 11 | L6: 12 | M6: 13 | N6: 14 | O6: 15 | P6: 16 | Q6: 17 | R6: 18 | S6: 19
A7: =IF(B7<>"",MAX($A$6:A6)+1,0) -> 1 | B7: 12345 | C7: 39407 | D7: =MDH1? -> #NAME? | E7: A005 | F7: =TKH1? -> #NAME? | G7: =L1? -> #NAME? | H7: =MSM1? -> #NAME? | J7: 90 | K7: 1000 | N7: =TRASAU? -> #NAME? | O7: =NCL? -> #NAME? | P7: =TGQH? -> #NAME? | Q7: =IF(C7<>"",YEAR(C7),"-") -> 2007 | R7: =IF(C7<>"",MONTH(C7),"-") -> 11 | S7: =IF(C7<>"",DAY(C7),"-") -> 21
A8: =IF(B8<>"",MAX($A$6:A7)+1,0) -> 2 | B8: 67891 | C8: 39428 | D8: =MDH2? -> #NAME? | E8: A001 | F8: =TKH2? -> #NAME? | G8: =L2? -> #NAME? | H8: =MSM2? -> #NAME? | J8: 80 | K8: 1100 | N8: =TRASAU? -> #NAME? | O8: =NCL? -> #NAME? | P8: =TGQH? -> #NAME? | Q8: =IF(C8<>"",YEAR(C8),"-") -> 2007 | R8: =IF(C8<>"",MONTH(C8),"-") -> 12 | S8: =IF(C8<>"",DAY(C8),"-") -> 12
A9: =IF(B9<>"",MAX($A$6:A8)+1,0) -> 3 | B9: 1111 | C9: 39447 | D9: =MDH3? -> #NAME? | E9: A002 | F9: =TKH3? -> #NAME? | G9: =L3? -> #NAME? | H9: =MSM3? -> #NAME? | J9: 60 | K9: 1200 | N9: =TRASAU? -> #NAME? | O9: =NCL? -> #NAME? | P9: =TGQH? -> #NAME? | Q9: =IF(C9<>"",YEAR(C9),"-") -> 2007 | R9: =IF(C9<>"",MONTH(C9),"-") -> 12 | S9: =IF(C9<>"",DAY(C9),"-") -> 31
A10: =IF(B10<>"",MAX($A$6:A9)+1,0) -> 4 | B10: 1112 | C10: 39451 | D10: =MDH4? -> #NAME? | E10: BL | F10: =TKH4? -> #NAME? | G10: =L4? -> #NAME? | H10: =MSM4? -> #NAME? | I10: Nguyễn Thị Lan Anh | J10: 16 | K10: 1300 | L10: 13 | M10: 1287 | N10: =TRASAU? -> #NAME? | O10: =NCL? -> #NAME? | P10: =TGQH? -> #NAME? | Q10: =IF(C10<>"",YEAR(C10),"-") -> 2008 | R10: =IF(C10<>"",MONTH(C10),"-") -> 1 | S10: =IF(C10<>"",DAY(C10),"-") -> 4
A11: =IF(B11<>"",MAX($A$6:A10)+1,0) -> 5 | B11: 1113 | C11: 39452 | D11: =MDH5? -> #NAME? | E11: A004 | F11: =TKH5? -> #NAME? | G11: =L5? -> #NAME? | H11: =MSM5? -> #NAME? | J11: 85 | K11: 1400 | L11: 14 | M11: 300 | N11: =TRASAU? -> #NAME? | O11: =NCL? -> #NAME? | P11: =TGQH? -> #NAME? | Q11: =IF(C11<>"",YEAR(C11),"-") -> 2008 | R11: =IF(C11<>"",MONTH(C11),"-") -> 1 | S11: =IF(C11<>"",DAY(C11),"-") -> 5
A12: =IF(B12<>"",MAX($A$6:A11)+1,0) -> 6 | B12: 1114 | C12: 39484 | D12: =MDH6? -> #NAME? | E12: A005 | F12: =TKH6? -> #NAME? | G12: =L6? -> #NAME? | H12: =MSM6? -> #NAME? | J12: 12 | K12: 1500 | L12: 15 | M12: 400 | N12: =TRASAU? -> #NAME? | O12: =NCL? -> #NAME? | P12: =TGQH? -> #NAME? | Q12: =IF(C12<>"",YEAR(C12),"-") -> 2008 | R12: =IF(C12<>"",MONTH(C12),"-") -> 2 | S12: =IF(C12<>"",DAY(C12),"-") -> 6
A13: =IF(B13<>"",MAX($A$6:A12)+1,0) -> 7 | B13: 1115 | C13: 39514 | D13: =MDH7? -> #NAME? | E13: B001 | F13: =TKH7? -> #NAME? | G13: =L7? -> #NAME? | H13: =MSM7? -> #NAME? | J13: 5 | K13: 1600 | L13: 16 | M13: 100 | N13: =TRASAU? -> #NAME? | O13: =NCL? -> #NAME? | P13: =TGQH? -> #NAME? | Q13: =IF(C13<>"",YEAR(C13),"-") -> 2008 | R13: =IF(C13<>"",MONTH(C13),"-") -> 3 | S13: =IF(C13<>"",DAY(C13),"-") -> 7
A14: =IF(B14<>"",MAX($A$6:A13)+1,0) -> 8 | B14: 1116 | C14: 39515 | D14: =MDH8? -> #NAME? | E14: B002 | F14: =TKH8? -> #NAME? | G14: =L8? -> #NAME? | H14: =MSM8? -> #NAME? | J14: 22 | K14: 1700 | L14: 17 | M14: 500 | N14: =TRASAU? -> #NAME? | O14: =NCL? -> #NAME? | P14: =TGQH? -> #NAME? | Q14: =IF(C14<>"",YEAR(C14),"-") -> 2008 | R14: =IF(C14<>"",MONTH(C14),"-") -> 3 | S14: =IF(C14<>"",DAY(C14),"-") -> 8
A15: =IF(B15<>"",MAX($A$6:A14)+1,0) -> 9 | B15: 1117 | C15: 39516 | D15: =MDH9? -> #NAME? | E15: B003 | F15: =TKH9? -> #NAME? | G15: =L9? -> #NAME? | H15: =MSM9? -> #NAME? | J15: 6 | K15: 1800 | L15: 18 | M15: 600 | N15: =TRASAU? -> #NAME? | O15: =NCL? -> #NAME? | P15: =TGQH? -> #NAME? | Q15: =IF(C15<>"",YEAR(C15),"-") -> 2008 | R15: =IF(C15<>"",MONTH(C15),"-") -> 3 | S15: =IF(C15<>"",DAY(C15),"-") -> 9
A16: =IF(B16<>"",MAX($A$6:A15)+1,0) -> 10 | B16: 1118 | C16: 39548 | D16: =MDH10? -> #NAME? | E16: B004 | F16: =TKH10? -> #NAME? | G16: =L10? -> #NAME? | H16: =MSM10? -> #NAME? | J16: 4 | K16: 1900 | L16: 10 | M16: 700 | N16: =TRASAU? -> #NAME? | O16: =NCL? -> #NAME? | P16: =TGQH? -> #NAME? | Q16: =IF(C16<>"",YEAR(C16),"-") -> 2008 | R16: =IF(C16<>"",MONTH(C16),"-") -> 4 | S16: =IF(C16<>"",DAY(C16),"-") -> 10
A17: =IF(B17<>"",MAX($A$6:A16)+1,0) -> 11 | B17: 1119 | C17: 39549 | D17: =MDH11? -> #NAME? | E17: B005 | F17: =TKH11? -> #NAME? | G17: =L11? -> #NAME? | H17: =MSM11? -> #NAME? | J17: 2 | K17: 2000 | L17: 20 | M17: 800 | N17: =TRASAU? -> #NAME? | O17: =NCL? -> #NAME? | P17: =TGQH? -> #NAME? | Q17: =IF(C17<>"",YEAR(C17),"-") -> 2008 | R17: =IF(C17<>"",MONTH(C17),"-") -> 4 | S17: =IF(C17<>"",DAY(C17),"-") -> 11
A18: =IF(B18<>"",MAX($A$6:A17)+1,0) -> 12 | B18: 1120 | C18: 39580 | D18: =MDH12? -> #NAME? | E18: C001 | F18: =TKH12? -> #NAME? | G18: =L12? -> #NAME? | H18: =MSM12? -> #NAME? | J18: 4 | K18: 2100 | L18: 21 | M18: 200 | N18: =TRASAU? -> #NAME? | O18: =NCL? -> #NAME? | P18: =TGQH? -> #NAME? | Q18: =IF(C18<>"",YEAR(C18),"-") -> 2008 | R18: =IF(C18<>"",MONTH(C18),"-") -> 5 | S18: =IF(C18<>"",DAY(C18),"-") -> 12
A19: =IF(B19<>"",MAX($A$6:A18)+1,0) -> 13 | B19: 1121 | C19: 39581 | D19: =MDH13? -> #NAME? | E19: C002 | F19: =TKH13? -> #NAME? | G19: =L13? -> #NAME? | H19: =MSM13? -> #NAME? | J19: 6 | K19: 2200 | L19: 22 | M19: 900 | N19: =TRASAU? -> #NAME? | O19: =NCL? -> #NAME? | P19: =TGQH? -> #NAME? | Q19: =IF(C19<>"",YEAR(C19),"-") -> 2008 | R19: =IF(C19<>"",MONTH(C19),"-") -> 5 | S19: =IF(C19<>"",DAY(C19),"-") -> 13
A20: =IF(B20<>"",MAX($A$6:A19)+1,0) -> 14 | B20: 1122 | C20: 39582 | D20: =MDH14? -> #NAME? | E20: C003 | F20: =TKH14? -> #NAME? | G20: =L14? -> #NAME? | H20: =MSM14? -> #NAME? | J20: 10 | K20: 2300 | L20: 23 | M20: 1000 | N20: =TRASAU? -> #NAME? | O20: =NCL? -> #NAME? | P20: =TGQH? -> #NAME? | Q20: =IF(C20<>"",YEAR(C20),"-") -> 2008 | R20: =IF(C20<>"",MONTH(C20),"-") -> 5 | S20: =IF(C20<>"",DAY(C20),"-") -> 14
A21: =IF(B21<>"",MAX($A$6:A20)+1,0) -> 15 | B21: 1123 | C21: 39614 | D21: =MDH15? -> #NAME? | E21: BL1 | F21: =TKH15? -> #NAME? | G21: =L15? -> #NAME? | H21: =MSM15? -> #NAME? | I21: Lê Thị Thu | J21: 10 | K21: 2400 | L21: 24 | M21: 2376 | N21: =TRASAU? -> #NAME? | O21: =NCL? -> #NAME? | P21: =TGQH? -> #NAME? | Q21: =IF(C21<>"",YEAR(C21),"-") -> 2008 | R21: =IF(C21<>"",MONTH(C21),"-") -> 6 | S21: =IF(C21<>"",DAY(C21),"-") -> 15
A22: =IF(B22<>"",MAX($A$6:A21)+1,0) -> 16 | B22: 1124 | C22: 39615 | D22: =MDH16? -> #NAME? | E22: C005 | F22: =TKH16? -> #NAME? | G22: =L16? -> #NAME? | H22: =MSM16? -> #NAME? | J22: 12 | K22: 2500 | L22: 25 | M22: 1200 | N22: =TRASAU? -> #NAME? | O22: =NCL? -> #NAME? | P22: =TGQH? -> #NAME? | Q22: =IF(C22<>"",YEAR(C22),"-") -> 2008 | R22: =IF(C22<>"",MONTH(C22),"-") -> 6 | S22: =IF(C22<>"",DAY(C22),"-") -> 16
A23: =IF(B23<>"",MAX($A$6:A22)+1,0) -> 17 | B23: 1125 | C23: 39616 | D23: =MDH17? -> #NAME? | E23: D001 | F23: =TKH17? -> #NAME? | G23: =L17? -> #NAME? | H23: =MSM17? -> #NAME? | J23: 14 | K23: 2600 | L23: 26 | M23: 1300 | N23: =TRASAU? -> #NAME? | O23: =NCL? -> #NAME? | P23: =TGQH? -> #NAME? | Q23: =IF(C23<>"",YEAR(C23),"-") -> 2008 | R23: =IF(C23<>"",MONTH(C23),"-") -> 6 | S23: =IF(C23<>"",DAY(C23),"-") -> 17
A24: =IF(B24<>"",MAX($A$6:A23)+1,0) -> 18 | B24: 1126 | C24: 39647 | D24: =MDH18? -> #NAME? | E24: D002 | F24: =TKH18? -> #NAME? | G24: =L18? -> #NAME? | H24: =MSM18? -> #NAME? | J24: 16 | K24: 2700 | L24: 27 | M24: 500 | N24: =TRASAU? -> #NAME? | O24: =NCL? -> #NAME? | P24: =TGQH? -> #NAME? | Q24: =IF(C24<>"",YEAR(C24),"-") -> 2008 | R24: =IF(C24<>"",MONTH(C24),"-") -> 7 | S24: =IF(C24<>"",DAY(C24),"-") -> 18
A25: =IF(B25<>"",MAX($A$6:A24)+1,0) -> 19 | B25: 1127 | C25: 39648 | D25: =MDH19? -> #NAME? | E25: D003 | F25: =TKH19? -> #NAME? | G25: =L19? -> #NAME? | H25: =MSM19? -> #NAME? | J25: 18 | K25: 2800 | L25: 28 | M25: 100 | N25: =TRASAU? -> #NAME? | O25: =NCL? -> #NAME? | P25: =TGQH? -> #NAME? | Q25: =IF(C25<>"",YEAR(C25),"-") -> 2008 | R25: =IF(C25<>"",MONTH(C25),"-") -> 7 | S25: =IF(C25<>"",DAY(C25),"-") -> 19
A26: =IF(B26<>"",MAX($A$6:A25)+1,0) -> 20 | B26: 1128 | C26: 39680 | D26: =MDH20? -> #NAME? | E26: D004 | F26: =TKH20? -> #NAME? | G26: =L20? -> #NAME? | H26: =MSM20? -> #NAME? | J26: 20 | K26: 2900 | L26: 29 | M26: 200 | N26: =TRASAU? -> #NAME? | O26: =NCL? -> #NAME? | P26: =TGQH? -> #NAME? | Q26: =IF(C26<>"",YEAR(C26),"-") -> 2008 | R26: =IF(C26<>"",MONTH(C26),"-") -> 8 | S26: =IF(C26<>"",DAY(C26),"-") -> 20
A27: =IF(B27<>"",MAX($A$6:A26)+1,0) -> 21 | B27: 1129 | C27: 39712 | D27: =MDH21? -> #NAME? | E27: D005 | F27: =TKH21? -> #NAME? | G27: =L21? -> #NAME? | H27: =MSM21? -> #NAME? | J27: 22 | K27: 3000 | L27: 30 | M27: 300 | N27: =TRASAU? -> #NAME? | O27: =NCL? -> #NAME? | P27: =TGQH? -> #NAME? | Q27: =IF(C27<>"",YEAR(C27),"-") -> 2008 | R27: =IF(C27<>"",MONTH(C27),"-") -> 9 | S27: =IF(C27<>"",DAY(C27),"-") -> 21
A28: =IF(B28<>"",MAX($A$6:A27)+1,0) -> 22 | B28: 1130 | C28: 39713 | D28: =MDH22? -> #NAME? | E28: E001 | F28: =TKH22? -> #NAME? | G28: =L22? -> #NAME? | H28: =MSM22? -> #NAME? | J28: 24 | K28: 3100 | L28: 31 | M28: 400 | N28: =TRASAU? -> #NAME? | O28: =NCL? -> #NAME? | P28: =TGQH? -> #NAME? | Q28: =IF(C28<>"",YEAR(C28),"-") -> 2008 | R28: =IF(C28<>"",MONTH(C28),"-") -> 9 | S28: =IF(C28<>"",DAY(C28),"-") -> 22
A29: =IF(B29<>"",MAX($A$6:A28)+1,0) -> 23 | B29: 1131 | C29: 39714 | D29: =MDH23? -> #NAME? | E29: E002 | F29: =TKH23? -> #NAME? | G29: =L23? -> #NAME? | H29: =MSM23? -> #NAME? | J29: 26 | K29: 3200 | L29: 32 | M29: 500 | N29: =TRASAU? -> #NAME? | O29: =NCL? -> #NAME? | P29: =TGQH? -> #NAME? | Q29: =IF(C29<>"",YEAR(C29),"-") -> 2008 | R29: =IF(C29<>"",MONTH(C29),"-") -> 9 | S29: =IF(C29<>"",DAY(C29),"-") -> 23
A30: =IF(B30<>"",MAX($A$6:A29)+1,0) -> 24 | B30: 1132 | C30: 39715 | D30: =MDH24? -> #NAME? | E30: E003 | F30: =TKH24? -> #NAME? | G30: =L24? -> #NAME? | H30: =MSM24? -> #NAME? | J30: 27 | K30: 3300 | L30: 33 | M30: 600 | N30: =TRASAU? -> #NAME? | O30: =NCL? -> #NAME? | P30: =TGQH? -> #NAME? | Q30: =IF(C30<>"",YEAR(C30),"-") -> 2008 | R30: =IF(C30<>"",MONTH(C30),"-") -> 9 | S30: =IF(C30<>"",DAY(C30),"-") -> 24
A31: =IF(B31<>"",MAX($A$6:A30)+1,0) -> 25 | B31: 1133 | C31: 39746 | D31: =MDH25? -> #NAME? | E31: E004 | F31: =TKH25? -> #NAME? | G31: =L25? -> #NAME? | H31: =MSM25? -> #NAME? | J31: 30 | K31: 3400 | L31: 34 | M31: 700 | N31: =TRASAU? -> #NAME? | O31: =NCL? -> #NAME? | P31: =TGQH? -> #NAME? | Q31: =IF(C31<>"",YEAR(C31),"-") -> 2008 | R31: =IF(C31<>"",MONTH(C31),"-") -> 10 | S31: =IF(C31<>"",DAY(C31),"-") -> 25
A32: =IF(B32<>"",MAX($A$6:A31)+1,0) -> 26 | B32: 1134 | C32: 39747 | D32: =MDH26? -> #NAME? | E32: E005 | F32: =TKH26? -> #NAME? | G32: =L26? -> #NAME? | H32: =MSM26? -> #NAME? | J32: 32 | K32: 3500 | L32: 35 | M32: 800 | N32: =TRASAU? -> #NAME? | O32: =NCL? -> #NAME? | P32: =TGQH? -> #NAME? | Q32: =IF(C32<>"",YEAR(C32),"-") -> 2008 | R32: =IF(C32<>"",MONTH(C32),"-") -> 10 | S32: =IF(C32<>"",DAY(C32),"-") -> 26
A33: =IF(B33<>"",MAX($A$6:A32)+1,0) -> 27 | B33: 1135 | C33: 39779 | D33: =MDH27? -> #NAME? | E33: E006 | F33: =TKH27? -> #NAME? | G33: =L27? -> #NAME? | H33: =MSM27? -> #NAME? | J33: 34 | K33: 3600 | L33: 36 | M33: 900 | N33: =TRASAU? -> #NAME? | O33: =NCL? -> #NAME? | P33: =TGQH? -> #NAME? | Q33: =IF(C33<>"",YEAR(C33),"-") -> 2008 | R33: =IF(C33<>"",MONTH(C33),"-") -> 11 | S33: =IF(C33<>"",DAY(C33),"-") -> 27
... A36: =IF(B36<>"",MAX($A$6:A35)+1,0) -> 30 | B36: 1138 | C36: 39812 | D36: =MDH30? -> #NAME? | E36: H003 | F36: =TKH30? -> #NAME? | G36: =L30? -> #NAME? | H36: =MSM30? -> #NAME? | J36: 40 | K36: 3900 | L36: 39 | M36: 400 | N36: =TRASAU? -> #NAME? | O36: =NCL? -> #NAME? | P36: =TGQH? -> #NAME? | Q36: =IF(C36<>"",YEAR(C36),"-") -> 2008 | R36: =IF(C36<>"",MONTH(C36),"-") -> 12 | S36: =IF(C36<>"",DAY(C36),"-") -> 30
A37: =IF(B37<>"",MAX($A$6:A36)+1,0) -> 0 | D37: =MDH31? -> #NAME? | F37: =TKH31? -> #NAME? | G37: =L31? -> #NAME? | H37: =MSM31? -> #NAME? | N37: =TRASAU? -> #NAME? | O37: =NCL? -> #NAME? | P37: =TGQH? -> #NAME? | Q37: =IF(C37<>"",YEAR(C37),"-") -> - | R37: =IF(C37<>"",MONTH(C37),"-") -> - | S37: =IF(C37<>"",DAY(C37),"-") -> -
A38: =IF(B38<>"",MAX($A$6:A37)+1,0) -> 0 | D38: =MDH32? -> #NAME? | F38: =TKH32? -> #NAME? | G38: =L32? -> #NAME? | H38: =MSM32? -> #NAME? | N38: =TRASAU? -> #NAME? | O38: =NCL? -> #NAME? | P38: =TGQH? -> #NAME? | Q38: =IF(C38<>"",YEAR(C38),"-") -> - | R38: =IF(C38<>"",MONTH(C38),"-") -> - | S38: =IF(C38<>"",DAY(C38),"-") -> -
A39: =IF(B39<>"",MAX($A$6:A38)+1,0) -> 0 | D39: =MDH33? -> #NAME? | F39: =TKH33? -> #NAME? | G39: =L33? -> #NAME? | H39: =MSM33? -> #NAME? | N39: =TRASAU? -> #NAME? | O39: =NCL? -> #NAME? | P39: =TGQH? -> #NAME? | Q39: =IF(C39<>"",YEAR(C39),"-") -> - | R39: =IF(C39<>"",MONTH(C39),"-") -> - | S39: =IF(C39<>"",DAY(C39),"-") -> -
A40: =IF(B40<>"",MAX($A$6:A39)+1,0) -> 0 | D40: =MDH34? -> #NAME? | F40: =TKH34? -> #NAME? | G40: =L34? -> #NAME? | H40: =MSM34? -> #NAME? | N40: =TRASAU? -> #NAME? | O40: =NCL? -> #NAME? | P40: =TGQH? -> #NAME? | Q40: =IF(C40<>"",YEAR(C40),"-") -> - | R40: =IF(C40<>"",MONTH(C40),"-") -> - | S40: =IF(C40<>"",DAY(C40),"-") -> -
A41: =IF(B41<>"",MAX($A$6:A40)+1,0) -> 0 | D41: =MDH35? -> #NAME? | F41: =TKH35? -> #NAME? | G41: =L35? -> #NAME? | H41: =MSM35? -> #NAME? | N41: =TRASAU? -> #NAME? | O41: =NCL? -> #NAME? | P41: =TGQH? -> #NAME? | Q41: =IF(C41<>"",YEAR(C41),"-") -> - | R41: =IF(C41<>"",MONTH(C41),"-") -> - | S41: =IF(C41<>"",DAY(C41),"-") -> -
A42: =IF(B42<>"",MAX($A$6:A41)+1,0) -> 0 | D42: =MDH36? -> #NAME? | F42: =TKH36? -> #NAME? | G42: =L36? -> #NAME? | H42: =MSM36? -> #NAME? | N42: =TRASAU? -> #NAME? | O42: =NCL? -> #NAME? | P42: =TGQH? -> #NAME? | Q42: =IF(C42<>"",YEAR(C42),"-") -> - | R42: =IF(C42<>"",MONTH(C42),"-") -> - | S42: =IF(C42<>"",DAY(C42),"-") -> -
A43: =IF(B43<>"",MAX($A$6:A42)+1,0) -> 0 | D43: =MDH37? -> #NAME? | F43: =TKH37? -> #NAME? | G43: =L37? -> #NAME? | H43: =MSM37? -> #NAME? | N43: =TRASAU? -> #NAME? | O43: =NCL? -> #NAME? | P43: =TGQH? -> #NAME? | Q43: =IF(C43<>"",YEAR(C43),"-") -> - | R43: =IF(C43<>"",MONTH(C43),"-") -> - | S43: =IF(C43<>"",DAY(C43),"-") -> -
A44: =IF(B44<>"",MAX($A$6:A43)+1,0) -> 0 | D44: =MDH38? -> #NAME? | F44: =TKH38? -> #NAME? | G44: =L38? -> #NAME? | H44: =MSM38? -> #NAME? | N44: =TRASAU? -> #NAME? | O44: =NCL? -> #NAME? | P44: =TGQH? -> #NAME? | Q44: =IF(C44<>"",YEAR(C44),"-") -> - | R44: =IF(C44<>"",MONTH(C44),"-") -> - | S44: =IF(C44<>"",DAY(C44),"-") -> -
A45: =IF(B45<>"",MAX($A$6:A44)+1,0) -> 0 | D45: =MDH39? -> #NAME? | F45: =TKH39? -> #NAME? | G45: =L39? -> #NAME? | H45: =MSM39? -> #NAME? | N45: =TRASAU? -> #NAME? | O45: =NCL? -> #NAME? | P45: =TGQH? -> #NAME? | Q45: =IF(C45<>"",YEAR(C45),"-") -> - | R45: =IF(C45<>"",MONTH(C45),"-") -> - | S45: =IF(C45<>"",DAY(C45),"-") -> -
A46: =IF(B46<>"",MAX($A$6:A45)+1,0) -> 0 | D46: =MDH40? -> #NAME? | F46: =TKH40? -> #NAME? | G46: =L40? -> #NAME? | H46: =MSM40? -> #NAME? | N46: =TRASAU? -> #NAME? | O46: =NCL? -> #NAME? | P46: =TGQH? -> #NAME? | Q46: =IF(C46<>"",YEAR(C46),"-") -> - | R46: =IF(C46<>"",MONTH(C46),"-") -> - | S46: =IF(C46<>"",DAY(C46),"-") -> -
A47: =IF(B47<>"",MAX($A$6:A46)+1,0) -> 0 | D47: =MDH41? -> #NAME? | F47: =TKH41? -> #NAME? | G47: =L41? -> #NAME? | H47: =MSM41? -> #NAME? | N47: =TRASAU? -> #NAME? | O47: =NCL? -> #NAME? | P47: =TGQH? -> #NAME? | Q47: =IF(C47<>"",YEAR(C47),"-") -> - | R47: =IF(C47<>"",MONTH(C47),"-") -> - | S47: =IF(C47<>"",DAY(C47),"-") -> -
A48: =IF(B48<>"",MAX($A$6:A47)+1,0) -> 0 | D48: =MDH42? -> #NAME? | F48: =TKH42? -> #NAME? | G48: =L42? -> #NAME? | H48: =MSM42? -> #NAME? | N48: =TRASAU? -> #NAME? | O48: =NCL? -> #NAME? | P48: =TGQH? -> #NAME? | Q48: =IF(C48<>"",YEAR(C48),"-") -> - | R48: =IF(C48<>"",MONTH(C48),"-") -> - | S48: =IF(C48<>"",DAY(C48),"-") -> -
... A261: =IF(B261<>"",MAX($A$6:A260)+1,0) -> 0 | D261: =MDH255? -> #NAME? | F261: =TKH255? -> #NAME? | G261: =L255? -> #NAME? | H261: =MSM255? -> #NAME? | N261: =TRASAU? -> #NAME? | O261: =NCL? -> #NAME? | P261: =TGQH? -> #NAME? | Q261: =IF(C261<>"",YEAR(C261),"-") -> - | R261: =IF(C261<>"",MONTH(C261),"-") -> - | S261: =IF(C261<>"",DAY(C261),"-") -> -
A262: =IF(B262<>"",MAX($A$6:A261)+1,0) -> 0 | D262: =MDH1? -> #NAME? | F262: =TKH1? -> #NAME? | G262: =L1? -> #NAME? | H262: =MSM1? -> #NAME? | N262: =TRASAU? -> #NAME? | O262: =NCL? -> #NAME? | P262: =TGQH? -> #NAME? | Q262: =IF(C262<>"",YEAR(C262),"-") -> - | R262: =IF(C262<>"",MONTH(C262),"-") -> - | S262: =IF(C262<>"",DAY(C262),"-") -> -
A263: =IF(B263<>"",MAX($A$6:A262)+1,0) -> 0 | D263: =MDH2? -> #NAME? | F263: =TKH2? -> #NAME? | G263: =L2? -> #NAME? | H263: =MSM2? -> #NAME? | N263: =TRASAU? -> #NAME? | O263: =NCL? -> #NAME? | P263: =TGQH? -> #NAME? | Q263: =IF(C263<>"",YEAR(C263),"-") -> - | R263: =IF(C263<>"",MONTH(C263),"-") -> - | S263: =IF(C263<>"",DAY(C263),"-") -> -
A264: =IF(B264<>"",MAX($A$6:A263)+1,0) -> 0 | D264: =MDH3? -> #NAME? | F264: =TKH3? -> #NAME? | G264: =L3? -> #NAME? | H264: =MSM3? -> #NAME? | N264: =TRASAU? -> #NAME? | O264: =NCL? -> #NAME? | P264: =TGQH? -> #NAME? | Q264: =IF(C264<>"",YEAR(C264),"-") -> - | R264: =IF(C264<>"",MONTH(C264),"-") -> - | S264: =IF(C264<>"",DAY(C264),"-") -> -
A265: =IF(B265<>"",MAX($A$6:A264)+1,0) -> 0 | D265: =MDH4? -> #NAME? | F265: =TKH4? -> #NAME? | G265: =L4? -> #NAME? | H265: =MSM4? -> #NAME? | N265: =TRASAU? -> #NAME? | O265: =NCL? -> #NAME? | P265: =TGQH? -> #NAME? | Q265: =IF(C265<>"",YEAR(C265),"-") -> - | R265: =IF(C265<>"",MONTH(C265),"-") -> - | S265: =IF(C265<>"",DAY(C265),"-") -> -
A266: =IF(B266<>"",MAX($A$6:A265)+1,0) -> 0 | D266: =MDH5? -> #NAME? | F266: =TKH5? -> #NAME? | G266: =L5? -> #NAME? | H266: =MSM5? -> #NAME? | N266: =TRASAU? -> #NAME? | O266: =NCL? -> #NAME? | P266: =TGQH? -> #NAME? | Q266: =IF(C266<>"",YEAR(C266),"-") -> - | R266: =IF(C266<>"",MONTH(C266),"-") -> - | S266: =IF(C266<>"",DAY(C266),"-") -> -
A267: =IF(B267<>"",MAX($A$6:A266)+1,0) -> 0 | D267: =MDH6? -> #NAME? | F267: =TKH6? -> #NAME? | G267: =L6? -> #NAME? | H267: =MSM6? -> #NAME? | N267: =TRASAU? -> #NAME? | O267: =NCL? -> #NAME? | P267: =TGQH? -> #NAME? | Q267: =IF(C267<>"",YEAR(C267),"-") -> - | R267: =IF(C267<>"",MONTH(C267),"-") -> - | S267: =IF(C267<>"",DAY(C267),"-") -> -
A268: =IF(B268<>"",MAX($A$6:A267)+1,0) -> 0 | D268: =MDH7? -> #NAME? | F268: =TKH7? -> #NAME? | G268: =L7? -> #NAME? | H268: =MSM7? -> #NAME? | N268: =TRASAU? -> #NAME? | O268: =NCL? -> #NAME? | P268: =TGQH? -> #NAME? | Q268: =IF(C268<>"",YEAR(C268),"-") -> - | R268: =IF(C268<>"",MONTH(C268),"-") -> - | S268: =IF(C268<>"",DAY(C268),"-") -> -
A269: =IF(B269<>"",MAX($A$6:A268)+1,0) -> 0 | D269: =MDH8? -> #NAME? | F269: =TKH8? -> #NAME? | G269: =L8? -> #NAME? | H269: =MSM8? -> #NAME? | N269: =TRASAU? -> #NAME? | O269: =NCL? -> #NAME? | P269: =TGQH? -> #NAME? | Q269: =IF(C269<>"",YEAR(C269),"-") -> - | R269: =IF(C269<>"",MONTH(C269),"-") -> - | S269: =IF(C269<>"",DAY(C269),"-") -> -
A270: =IF(B270<>"",MAX($A$6:A269)+1,0) -> 0 | D270: =MDH9? -> #NAME? | F270: =TKH9? -> #NAME? | G270: =L9? -> #NAME? | H270: =MSM9? -> #NAME? | N270: =TRASAU? -> #NAME? | O270: =NCL? -> #NAME? | P270: =TGQH? -> #NAME? | Q270: =IF(C270<>"",YEAR(C270),"-") -> - | R270: =IF(C270<>"",MONTH(C270),"-") -> - | S270: =IF(C270<>"",DAY(C270),"-") -> -
A271: =IF(B271<>"",MAX($A$6:A270)+1,0) -> 0 | D271: =MDH10? -> #NAME? | F271: =TKH10? -> #NAME? | G271: =L10? -> #NAME? | H271: =MSM10? -> #NAME? | N271: =TRASAU? -> #NAME? | O271: =NCL? -> #NAME? | P271: =TGQH? -> #NAME? | Q271: =IF(C271<>"",YEAR(C271),"-") -> - | R271: =IF(C271<>"",MONTH(C271),"-") -> - | S271: =IF(C271<>"",DAY(C271),"-") -> -
A272: =IF(B272<>"",MAX($A$6:A271)+1,0) -> 0 | D272: =MDH11? -> #NAME? | F272: =TKH11? -> #NAME? | G272: =L11? -> #NAME? | H272: =MSM11? -> #NAME? | N272: =TRASAU? -> #NAME? | O272: =NCL? -> #NAME? | P272: =TGQH? -> #NAME? | Q272: =IF(C272<>"",YEAR(C272),"-") -> - | R272: =IF(C272<>"",MONTH(C272),"-") -> - | S272: =IF(C272<>"",DAY(C272),"-") -> -
A273: =IF(B273<>"",MAX($A$6:A272)+1,0) -> 0 | D273: =MDH12? -> #NAME? | F273: =TKH12? -> #NAME? | G273: =L12? -> #NAME? | H273: =MSM12? -> #NAME? | N273: =TRASAU? -> #NAME? | O273: =NCL? -> #NAME? | P273: =TGQH? -> #NAME? | Q273: =IF(C273<>"",YEAR(C273),"-") -> - | R273: =IF(C273<>"",MONTH(C273),"-") -> - | S273: =IF(C273<>"",DAY(C273),"-") -> -
... A516: =IF(B516<>"",MAX($A$6:A515)+1,0) -> 0 | D516: =MDH255? -> #NAME? | F516: =TKH255? -> #NAME? | G516: =L255? -> #NAME? | H516: =MSM255? -> #NAME? | N516: =TRASAU? -> #NAME? | O516: =NCL? -> #NAME? | P516: =TGQH? -> #NAME? | Q516: =IF(C516<>"",YEAR(C516),"-") -> - | R516: =IF(C516<>"",MONTH(C516),"-") -> - | S516: =IF(C516<>"",DAY(C516),"-") -> -
A517: =IF(B517<>"",MAX($A$6:A516)+1,0) -> 0 | D517: =MDH1? -> #NAME? | F517: =TKH1? -> #NAME? | G517: =L1? -> #NAME? | H517: =MSM1? -> #NAME? | N517: =TRASAU? -> #NAME? | O517: =NCL? -> #NAME? | P517: =TGQH? -> #NAME? | Q517: =IF(C517<>"",YEAR(C517),"-") -> - | R517: =IF(C517<>"",MONTH(C517),"-") -> - | S517: =IF(C517<>"",DAY(C517),"-") -> -
A518: =IF(B518<>"",MAX($A$6:A517)+1,0) -> 0 | D518: =MDH2? -> #NAME? | F518: =TKH2? -> #NAME? | G518: =L2? -> #NAME? | H518: =MSM2? -> #NAME? | N518: =TRASAU? -> #NAME? | O518: =NCL? -> #NAME? | P518: =TGQH? -> #NAME? | Q518: =IF(C518<>"",YEAR(C518),"-") -> - | R518: =IF(C518<>"",MONTH(C518),"-") -> - | S518: =IF(C518<>"",DAY(C518),"-") -> -
A519: =IF(B519<>"",MAX($A$6:A518)+1,0) -> 0 | D519: =MDH3? -> #NAME? | F519: =TKH3? -> #NAME? | G519: =L3? -> #NAME? | H519: =MSM3? -> #NAME? | N519: =TRASAU? -> #NAME? | O519: =NCL? -> #NAME? | P519: =TGQH? -> #NAME? | Q519: =IF(C519<>"",YEAR(C519),"-") -> - | R519: =IF(C519<>"",MONTH(C519),"-") -> - | S519: =IF(C519<>"",DAY(C519),"-") -> -
A520: =IF(B520<>"",MAX($A$6:A519)+1,0) -> 0 | D520: =MDH4? -> #NAME? | F520: =TKH4? -> #NAME? | G520: =L4? -> #NAME? | H520: =MSM4? -> #NAME? | N520: =TRASAU? -> #NAME? | O520: =NCL? -> #NAME? | P520: =TGQH? -> #NAME? | Q520: =IF(C520<>"",YEAR(C520),"-") -> - | R520: =IF(C520<>"",MONTH(C520),"-") -> - | S520: =IF(C520<>"",DAY(C520),"-") -> -
A521: =IF(B521<>"",MAX($A$6:A520)+1,0) -> 0 | D521: =MDH5? -> #NAME? | F521: =TKH5? -> #NAME? | G521: =L5? -> #NAME? | H521: =MSM5? -> #NAME? | N521: =TRASAU? -> #NAME? | O521: =NCL? -> #NAME? | P521: =TGQH? -> #NAME? | Q521: =IF(C521<>"",YEAR(C521),"-") -> - | R521: =IF(C521<>"",MONTH(C521),"-") -> - | S521: =IF(C521<>"",DAY(C521),"-") -> -
A522: =IF(B522<>"",MAX($A$6:A521)+1,0) -> 0 | D522: =MDH6? -> #NAME? | F522: =TKH6? -> #NAME? | G522: =L6? -> #NAME? | H522: =MSM6? -> #NAME? | N522: =TRASAU? -> #NAME? | O522: =NCL? -> #NAME? | P522: =TGQH? -> #NAME? | Q522: =IF(C522<>"",YEAR(C522),"-") -> - | R522: =IF(C522<>"",MONTH(C522),"-") -> - | S522: =IF(C522<>"",DAY(C522),"-") -> -
A523: =IF(B523<>"",MAX($A$6:A522)+1,0) -> 0 | D523: =MDH7? -> #NAME? | F523: =TKH7? -> #NAME? | G523: =L7? -> #NAME? | H523: =MSM7? -> #NAME? | N523: =TRASAU? -> #NAME? | O523: =NCL? -> #NAME? | P523: =TGQH? -> #NAME? | Q523: =IF(C523<>"",YEAR(C523),"-") -> - | R523: =IF(C523<>"",MONTH(C523),"-") -> - | S523: =IF(C523<>"",DAY(C523),"-") -> -
A524: =IF(B524<>"",MAX($A$6:A523)+1,0) -> 0 | D524: =MDH8? -> #NAME? | F524: =TKH8? -> #NAME? | G524: =L8? -> #NAME? | H524: =MSM8? -> #NAME? | N524: =TRASAU? -> #NAME? | O524: =NCL? -> #NAME? | P524: =TGQH? -> #NAME? | Q524: =IF(C524<>"",YEAR(C524),"-") -> - | R524: =IF(C524<>"",MONTH(C524),"-") -> - | S524: =IF(C524<>"",DAY(C524),"-") -> -
A525: =IF(B525<>"",MAX($A$6:A524)+1,0) -> 0 | D525: =MDH9? -> #NAME? | F525: =TKH9? -> #NAME? | G525: =L9? -> #NAME? | H525: =MSM9? -> #NAME? | N525: =TRASAU? -> #NAME? | O525: =NCL? -> #NAME? | P525: =TGQH? -> #NAME? | Q525: =IF(C525<>"",YEAR(C525),"-") -> - | R525: =IF(C525<>"",MONTH(C525),"-") -> - | S525: =IF(C525<>"",DAY(C525),"-") -> -
A526: =IF(B526<>"",MAX($A$6:A525)+1,0) -> 0 | D526: =MDH10? -> #NAME? | F526: =TKH10? -> #NAME? | G526: =L10? -> #NAME? | H526: =MSM10? -> #NAME? | N526: =TRASAU? -> #NAME? | O526: =NCL? -> #NAME? | P526: =TGQH? -> #NAME? | Q526: =IF(C526<>"",YEAR(C526),"-") -> - | R526: =IF(C526<>"",MONTH(C526),"-") -> - | S526: =IF(C526<>"",DAY(C526),"-") -> -
A527: =IF(B527<>"",MAX($A$6:A526)+1,0) -> 0 | D527: =MDH11? -> #NAME? | F527: =TKH11? -> #NAME? | G527: =L11? -> #NAME? | H527: =MSM11? -> #NAME? | N527: =TRASAU? -> #NAME? | O527: =NCL? -> #NAME? | P527: =TGQH? -> #NAME? | Q527: =IF(C527<>"",YEAR(C527),"-") -> - | R527: =IF(C527<>"",MONTH(C527),"-") -> - | S527: =IF(C527<>"",DAY(C527),"-") -> -
A528: =IF(B528<>"",MAX($A$6:A527)+1,0) -> 0 | D528: =MDH12? -> #NAME? | F528: =TKH12? -> #NAME? | G528: =L12? -> #NAME? | H528: =MSM12? -> #NAME? | N528: =TRASAU? -> #NAME? | O528: =NCL? -> #NAME? | P528: =TGQH? -> #NAME? | Q528: =IF(C528<>"",YEAR(C528),"-") -> - | R528: =IF(C528<>"",MONTH(C528),"-") -> - | S528: =IF(C528<>"",DAY(C528),"-") -> -
... A771: =IF(B771<>"",MAX($A$6:A770)+1,0) -> 0 | D771: =MDH255? -> #NAME? | F771: =TKH255? -> #NAME? | G771: =L255? -> #NAME? | H771: =MSM255? -> #NAME? | N771: =TRASAU? -> #NAME? | O771: =NCL? -> #NAME? | P771: =TGQH? -> #NAME? | Q771: =IF(C771<>"",YEAR(C771),"-") -> - | R771: =IF(C771<>"",MONTH(C771),"-") -> - | S771: =IF(C771<>"",DAY(C771),"-") -> -
A772: =IF(B772<>"",MAX($A$6:A771)+1,0) -> 0 | D772: =MDH1? -> #NAME? | F772: =TKH1? -> #NAME? | G772: =L1? -> #NAME? | H772: =MSM1? -> #NAME? | N772: =TRASAU? -> #NAME? | O772: =NCL? -> #NAME? | P772: =TGQH? -> #NAME? | Q772: =IF(C772<>"",YEAR(C772),"-") -> - | R772: =IF(C772<>"",MONTH(C772),"-") -> - | S772: =IF(C772<>"",DAY(C772),"-") -> -
A773: =IF(B773<>"",MAX($A$6:A772)+1,0) -> 0 | D773: =MDH2? -> #NAME? | F773: =TKH2? -> #NAME? | G773: =L2? -> #NAME? | H773: =MSM2? -> #NAME? | N773: =TRASAU? -> #NAME? | O773: =NCL? -> #NAME? | P773: =TGQH? -> #NAME? | Q773: =IF(C773<>"",YEAR(C773),"-") -> - | R773: =IF(C773<>"",MONTH(C773),"-") -> - | S773: =IF(C773<>"",DAY(C773),"-") -> -
A774: =IF(B774<>"",MAX($A$6:A773)+1,0) -> 0 | D774: =MDH3? -> #NAME? | F774: =TKH3? -> #NAME? | G774: =L3? -> #NAME? | H774: =MSM3? -> #NAME? | N774: =TRASAU? -> #NAME? | O774: =NCL? -> #NAME? | P774: =TGQH? -> #NAME? | Q774: =IF(C774<>"",YEAR(C774),"-") -> - | R774: =IF(C774<>"",MONTH(C774),"-") -> - | S774: =IF(C774<>"",DAY(C774),"-") -> -
A775: =IF(B775<>"",MAX($A$6:A774)+1,0) -> 0 | D775: =MDH4? -> #NAME? | F775: =TKH4? -> #NAME? | G775: =L4? -> #NAME? | H775: =MSM4? -> #NAME? | N775: =TRASAU? -> #NAME? | O775: =NCL? -> #NAME? | P775: =TGQH? -> #NAME? | Q775: =IF(C775<>"",YEAR(C775),"-") -> - | R775: =IF(C775<>"",MONTH(C775),"-") -> - | S775: =IF(C775<>"",DAY(C775),"-") -> -
A776: =IF(B776<>"",MAX($A$6:A775)+1,0) -> 0 | D776: =MDH5? -> #NAME? | F776: =TKH5? -> #NAME? | G776: =L5? -> #NAME? | H776: =MSM5? -> #NAME? | N776: =TRASAU? -> #NAME? | O776: =NCL? -> #NAME? | P776: =TGQH? -> #NAME? | Q776: =IF(C776<>"",YEAR(C776),"-") -> - | R776: =IF(C776<>"",MONTH(C776),"-") -> - | S776: =IF(C776<>"",DAY(C776),"-") -> -
A777: =IF(B777<>"",MAX($A$6:A776)+1,0) -> 0 | D777: =MDH6? -> #NAME? | F777: =TKH6? -> #NAME? | G777: =L6? -> #NAME? | H777: =MSM6? -> #NAME? | N777: =TRASAU? -> #NAME? | O777: =NCL? -> #NAME? | P777: =TGQH? -> #NAME? | Q777: =IF(C777<>"",YEAR(C777),"-") -> - | R777: =IF(C777<>"",MONTH(C777),"-") -> - | S777: =IF(C777<>"",DAY(C777),"-") -> -
A778: =IF(B778<>"",MAX($A$6:A777)+1,0) -> 0 | D778: =MDH7? -> #NAME? | F778: =TKH7? -> #NAME? | G778: =L7? -> #NAME? | H778: =MSM7? -> #NAME? | N778: =TRASAU? -> #NAME? | O778: =NCL? -> #NAME? | P778: =TGQH? -> #NAME? | Q778: =IF(C778<>"",YEAR(C778),"-") -> - | R778: =IF(C778<>"",MONTH(C778),"-") -> - | S778: =IF(C778<>"",DAY(C778),"-") -> -
A779: =IF(B779<>"",MAX($A$6:A778)+1,0) -> 0 | D779: =MDH8? -> #NAME? | F779: =TKH8? -> #NAME? | G779: =L8? -> #NAME? | H779: =MSM8? -> #NAME? | N779: =TRASAU? -> #NAME? | O779: =NCL? -> #NAME? | P779: =TGQH? -> #NAME? | Q779: =IF(C779<>"",YEAR(C779),"-") -> - | R779: =IF(C779<>"",MONTH(C779),"-") -> - | S779: =IF(C779<>"",DAY(C779),"-") -> -
A780: =IF(B780<>"",MAX($A$6:A779)+1,0) -> 0 | D780: =MDH9? -> #NAME? | F780: =TKH9? -> #NAME? | G780: =L9? -> #NAME? | H780: =MSM9? -> #NAME? | N780: =TRASAU? -> #NAME? | O780: =NCL? -> #NAME? | P780: =TGQH? -> #NAME? | Q780: =IF(C780<>"",YEAR(C780),"-") -> - | R780: =IF(C780<>"",MONTH(C780),"-") -> - | S780: =IF(C780<>"",DAY(C780),"-") -> -
A781: =IF(B781<>"",MAX($A$6:A780)+1,0) -> 0 | D781: =MDH10? -> #NAME? | F781: =TKH10? -> #NAME? | G781: =L10? -> #NAME? | H781: =MSM10? -> #NAME? | N781: =TRASAU? -> #NAME? | O781: =NCL? -> #NAME? | P781: =TGQH? -> #NAME? | Q781: =IF(C781<>"",YEAR(C781),"-") -> - | R781: =IF(C781<>"",MONTH(C781),"-") -> - | S781: =IF(C781<>"",DAY(C781),"-") -> -
A782: =IF(B782<>"",MAX($A$6:A781)+1,0) -> 0 | D782: =MDH11? -> #NAME? | F782: =TKH11? -> #NAME? | G782: =L11? -> #NAME? | H782: =MSM11? -> #NAME? | N782: =TRASAU? -> #NAME? | O782: =NCL? -> #NAME? | P782: =TGQH? -> #NAME? | Q782: =IF(C782<>"",YEAR(C782),"-") -> - | R782: =IF(C782<>"",MONTH(C782),"-") -> - | S782: =IF(C782<>"",DAY(C782),"-") -> -
A783: =IF(B783<>"",MAX($A$6:A782)+1,0) -> 0 | D783: =MDH12? -> #NAME? | F783: =TKH12? -> #NAME? | G783: =L12? -> #NAME? | H783: =MSM12? -> #NAME? | N783: =TRASAU? -> #NAME? | O783: =NCL? -> #NAME? | P783: =TGQH? -> #NAME? | Q783: =IF(C783<>"",YEAR(C783),"-") -> - | R783: =IF(C783<>"",MONTH(C783),"-") -> - | S783: =IF(C783<>"",DAY(C783),"-") -> -
... A999: =IF(B999<>"",MAX($A$6:A998)+1,0) -> 0 | D999: =MDH228? -> #NAME? | F999: =TKH228? -> #NAME? | G999: =L228? -> #NAME? | H999: =MSM228? -> #NAME? | N999: =TRASAU? -> #NAME? | O999: =NCL? -> #NAME? | P999: =TGQH? -> #NAME? | Q999: =IF(C999<>"",YEAR(C999),"-") -> - | R999: =IF(C999<>"",MONTH(C999),"-") -> - | S999: =IF(C999<>"",DAY(C999),"-") -> -
A1000: =IF(B1000<>"",MAX($A$6:A999)+1,0) -> 0
F1001: TỔNG CỘNG | K1001: =SUBTOTAL(9,K7:K1000) -> 73500 | L1001: =SUBTOTAL(9,L7:L1000) -> 693 | M1001: =SUBTOTAL(9,M7:M1000) -> 18363 | N1001: =SUBTOTAL(9,N7:N1000) -> #NAME? | O1001: =SUBTOTAL(9,O7:O1000) -> #NAME? | P1001: =SUBTOTAL(9,P7:P1000) -> #NAME?

Sheet NKTT
A1: ="NHẬT KÝ THANH TOÁN NĂM "&NAM -> NHẬT KÝ THANH TOÁN NĂM 2008
A2: HD
A3: =MAX(A7:A500) -> 8 | F3: =NOW() -> 45798.357 | I3: =IF(J3<>NKMB!N3,"SAI : "&FIXED(J3-NKMB!N3,0),"-") -> #NAME? | J3: =J501 -> 3850
A4: STT | B4: CT | C4: NGÀY | D4: MĐH | E4: MKH | F4: TÊN KHÁCH HÀNG | G4: LOẠI | H4: MSM | I4: DIỄN GẢI | J4: SỐ TIỀN | K4: PS | L4: LỌC
L5: NĂM | M5: THÁNG | N5: NGÀY
B6: 2 | C6: 3 | D6: 4 | E6: 5 | F6: 6 | G6: 7 | H6: 8 | I6: 9 | J6: 10 | K6: 11 | L6: 12 | M6: 13 | N6: 14
A7: =IF(B7<>"",MAX($A$6:A6)+1,0) -> 1 | B7: 67891 | C7: 39448 | D7: =MDH2? -> #NAME? | E7: A001 | F7: =TKH2? -> #NAME? | G7: =L2? -> #NAME? | H7: =MSM2? -> #NAME? | J7: 200 | K7: =IF(NKTT!$J7>0,"PS","-") -> PS | L7: =IF(C7<>"",YEAR(C7),"-") -> 2008 | M7: =IF(C7<>"",MONTH(C7),"-") -> 1 | N7: =IF(C7<>"",DAY(C7),"-") -> 1
A8: =IF(B8<>"",MAX($A$6:A7)+1,0) -> 2 | B8: 12345 | C8: 39449 | D8: =MDH3? -> #NAME? | E8: A005 | F8: =TKH3? -> #NAME? | G8: =L3? -> #NAME? | H8: =MSM3? -> #NAME? | J8: 200 | K8: =IF(NKTT!$J8>0,"PS","-") -> PS | L8: =IF(C8<>"",YEAR(C8),"-") -> 2008 | M8: =IF(C8<>"",MONTH(C8),"-") -> 1 | N8: =IF(C8<>"",DAY(C8),"-") -> 2
A9: =IF(B9<>"",MAX($A$6:A8)+1,0) -> 3 | B9: 1111 | C9: 39481 | D9: =MDH4? -> #NAME? | E9: A002 | F9: =TKH4? -> #NAME? | G9: =L4? -> #NAME? | H9: =MSM4? -> #NAME? | I9: Thanh toán đơt 1 | J9: 800 | K9: =IF(NKTT!$J9>0,"PS","-") -> PS | L9: =IF(C9<>"",YEAR(C9),"-") -> 2008 | M9: =IF(C9<>"",MONTH(C9),"-") -> 2 | N9: =IF(C9<>"",DAY(C9),"-") -> 3
A10: =IF(B10<>"",MAX($A$6:A9)+1,0) -> 4 | B10: 1125 | C10: 39511 | D10: =MDH5? -> #NAME? | E10: D001 | F10: =TKH5? -> #NAME? | G10: =L5? -> #NAME? | H10: =MSM5? -> #NAME? | J10: 400 | K10: =IF(NKTT!$J10>0,"PS","-") -> PS | L10: =IF(C10<>"",YEAR(C10),"-") -> 2008 | M10: =IF(C10<>"",MONTH(C10),"-") -> 3 | N10: =IF(C10<>"",DAY(C10),"-") -> 4
A11: =IF(B11<>"",MAX($A$6:A10)+1,0) -> 5 | B11: 1130 | C11: 39512 | D11: =MDH6? -> #NAME? | E11: E001 | F11: =TKH6? -> #NAME? | G11: =L6? -> #NAME? | H11: =MSM6? -> #NAME? | J11: 500 | K11: =IF(NKTT!$J11>0,"PS","-") -> PS | L11: =IF(C11<>"",YEAR(C11),"-") -> 2008 | M11: =IF(C11<>"",MONTH(C11),"-") -> 3 | N11: =IF(C11<>"",DAY(C11),"-") -> 5
A12: =IF(B12<>"",MAX($A$6:A11)+1,0) -> 6 | B12: 1136 | C12: 39544 | D12: =MDH7? -> #NAME? | E12: H001 | F12: =TKH7? -> #NAME? | G12: =L7? -> #NAME? | H12: =MSM7? -> #NAME? | I12: Thanh toán đơt 2 | J12: 600 | K12: =IF(NKTT!$J12>0,"PS","-") -> PS | L12: =IF(C12<>"",YEAR(C12),"-") -> 2008 | M12: =IF(C12<>"",MONTH(C12),"-") -> 4 | N12: =IF(C12<>"",DAY(C12),"-") -> 6
A13: =IF(B13<>"",MAX($A$6:A12)+1,0) -> 7 | B13: 1122 | C13: 39545 | D13: =MDH8? -> #NAME? | E13: C003 | F13: =TKH8? -> #NAME? | G13: =L8? -> #NAME? | H13: =MSM8? -> #NAME? | J13: 750 | K13: =IF(NKTT!$J13>0,"PS","-") -> PS | L13: =IF(C13<>"",YEAR(C13),"-") -> 2008 | M13: =IF(C13<>"",MONTH(C13),"-") -> 4 | N13: =IF(C13<>"",DAY(C13),"-") -> 7
A14: =IF(B14<>"",MAX($A$6:A13)+1,0) -> 8 | B14: 1111 | C14: 39576 | D14: =MDH9? -> #NAME? | E14: A002 | F14: =TKH9? -> #NAME? | G14: =L9? -> #NAME? | H14: =MSM9? -> #NAME? | I14: Thanh toán đơt 2 | J14: 400 | K14: =IF(NKTT!$J14>0,"PS","-") -> PS | L14: =IF(C14<>"",YEAR(C14),"-") -> 2008 | M14: =IF(C14<>"",MONTH(C14),"-") -> 5 | N14: =IF(C14<>"",DAY(C14),"-") -> 8
A15: =IF(B15<>"",MAX($A$6:A14)+1,0) -> 0 | D15: =MDH10? -> #NAME? | F15: =TKH10? -> #NAME? | G15: =L10? -> #NAME? | H15: =MSM10? -> #NAME? | K15: =IF(NKTT!$J15>0,"PS","-") -> - | L15: =IF(C15<>"",YEAR(C15),"-") -> - | M15: =IF(C15<>"",MONTH(C15),"-") -> - | N15: =IF(C15<>"",DAY(C15),"-") -> -
A16: =IF(B16<>"",MAX($A$6:A15)+1,0) -> 0 | D16: =MDH11? -> #NAME? | F16: =TKH11? -> #NAME? | G16: =L11? -> #NAME? | H16: =MSM11? -> #NAME? | K16: =IF(NKTT!$J16>0,"PS","-") -> - | L16: =IF(C16<>"",YEAR(C16),"-") -> - | M16: =IF(C16<>"",MONTH(C16),"-") -> - | N16: =IF(C16<>"",DAY(C16),"-") -> -
A17: =IF(B17<>"",MAX($A$6:A16)+1,0) -> 0 | D17: =MDH12? -> #NAME? | F17: =TKH12? -> #NAME? | G17: =L12? -> #NAME? | H17: =MSM12? -> #NAME? | K17: =IF(NKTT!$J17>0,"PS","-") -> - | L17: =IF(C17<>"",YEAR(C17),"-") -> - | M17: =IF(C17<>"",MONTH(C17),"-") -> - | N17: =IF(C17<>"",DAY(C17),"-") -> -
A18: =IF(B18<>"",MAX($A$6:A17)+1,0) -> 0 | D18: =MDH13? -> #NAME? | F18: =TKH13? -> #NAME? | G18: =L13? -> #NAME? | H18: =MSM13? -> #NAME? | K18: =IF(NKTT!$J18>0,"PS","-") -> - | L18: =IF(C18<>"",YEAR(C18),"-") -> - | M18: =IF(C18<>"",MONTH(C18),"-") -> - | N18: =IF(C18<>"",DAY(C18),"-") -> -
A19: =IF(B19<>"",MAX($A$6:A18)+1,0) -> 0 | D19: =MDH14? -> #NAME? | F19: =TKH14? -> #NAME? | G19: =L14? -> #NAME? | H19: =MSM14? -> #NAME? | K19: =IF(NKTT!$J19>0,"PS","-") -> - | L19: =IF(C19<>"",YEAR(C19),"-") -> - | M19: =IF(C19<>"",MONTH(C19),"-") -> - | N19: =IF(C19<>"",DAY(C19),"-") -> -
A20: =IF(B20<>"",MAX($A$6:A19)+1,0) -> 0 | D20: =MDH15? -> #NAME? | F20: =TKH15? -> #NAME? | G20: =L15? -> #NAME? | H20: =MSM15? -> #NAME? | K20: =IF(NKTT!$J20>0,"PS","-") -> - | L20: =IF(C20<>"",YEAR(C20),"-") -> - | M20: =IF(C20<>"",MONTH(C20),"-") -> - | N20: =IF(C20<>"",DAY(C20),"-") -> -
A21: =IF(B21<>"",MAX($A$6:A20)+1,0) -> 0 | D21: =MDH16? -> #NAME? | F21: =TKH16? -> #NAME? | G21: =L16? -> #NAME? | H21: =MSM16? -> #NAME? | K21: =IF(NKTT!$J21>0,"PS","-") -> - | L21: =IF(C21<>"",YEAR(C21),"-") -> - | M21: =IF(C21<>"",MONTH(C21),"-") -> - | N21: =IF(C21<>"",DAY(C21),"-") -> -
A22: =IF(B22<>"",MAX($A$6:A21)+1,0) -> 0 | D22: =MDH17? -> #NAME? | F22: =TKH17? -> #NAME? | G22: =L17? -> #NAME? | H22: =MSM17? -> #NAME? | K22: =IF(NKTT!$J22>0,"PS","-") -> - | L22: =IF(C22<>"",YEAR(C22),"-") -> - | M22: =IF(C22<>"",MONTH(C22),"-") -> - | N22: =IF(C22<>"",DAY(C22),"-") -> -
A23: =IF(B23<>"",MAX($A$6:A22)+1,0) -> 0 | D23: =MDH18? -> #NAME? | F23: =TKH18? -> #NAME? | G23: =L18? -> #NAME? | H23: =MSM18? -> #NAME? | K23: =IF(NKTT!$J23>0,"PS","-") -> - | L23: =IF(C23<>"",YEAR(C23),"-") -> - | M23: =IF(C23<>"",MONTH(C23),"-") -> - | N23: =IF(C23<>"",DAY(C23),"-") -> -
A24: =IF(B24<>"",MAX($A$6:A23)+1,0) -> 0 | D24: =MDH19? -> #NAME? | F24: =TKH19? -> #NAME? | G24: =L19? -> #NAME? | H24: =MSM19? -> #NAME? | K24: =IF(NKTT!$J24>0,"PS","-") -> - | L24: =IF(C24<>"",YEAR(C24),"-") -> - | M24: =IF(C24<>"",MONTH(C24),"-") -> - | N24: =IF(C24<>"",DAY(C24),"-") -> -
A25: =IF(B25<>"",MAX($A$6:A24)+1,0) -> 0 | D25: =MDH20? -> #NAME? | F25: =TKH20? -> #NAME? | G25: =L20? -> #NAME? | H25: =MSM20? -> #NAME? | K25: =IF(NKTT!$J25>0,"PS","-") -> - | L25: =IF(C25<>"",YEAR(C25),"-") -> - | M25: =IF(C25<>"",MONTH(C25),"-") -> - | N25: =IF(C25<>"",DAY(C25),"-") -> -
A26: =IF(B26<>"",MAX($A$6:A25)+1,0) -> 0 | D26: =MDH21? -> #NAME? | F26: =TKH21? -> #NAME? | G26: =L21? -> #NAME? | H26: =MSM21? -> #NAME? | K26: =IF(NKTT!$J26>0,"PS","-") -> - | L26: =IF(C26<>"",YEAR(C26),"-") -> - | M26: =IF(C26<>"",MONTH(C26),"-") -> - | N26: =IF(C26<>"",DAY(C26),"-") -> -
... A261: =IF(B261<>"",MAX($A$6:A260)+1,0) -> 0 | D261: =MDH256? -> #NAME? | F261: =TKH256? -> #NAME? | G261: =L256? -> #NAME? | H261: =MSM256? -> #NAME? | K261: =IF(NKTT!$J261>0,"PS","-") -> - | L261: =IF(C261<>"",YEAR(C261),"-") -> - | M261: =IF(C261<>"",MONTH(C261),"-") -> - | N261: =IF(C261<>"",DAY(C261),"-") -> -
A262: =IF(B262<>"",MAX($A$6:A261)+1,0) -> 0 | D262: =MDH2? -> #NAME? | F262: =TKH2? -> #NAME? | G262: =L2? -> #NAME? | H262: =MSM2? -> #NAME? | K262: =IF(NKTT!$J262>0,"PS","-") -> - | L262: =IF(C262<>"",YEAR(C262),"-") -> - | M262: =IF(C262<>"",MONTH(C262),"-") -> - | N262: =IF(C262<>"",DAY(C262),"-") -> -
A263: =IF(B263<>"",MAX($A$6:A262)+1,0) -> 0 | D263: =MDH3? -> #NAME? | F263: =TKH3? -> #NAME? | G263: =L3? -> #NAME? | H263: =MSM3? -> #NAME? | K263: =IF(NKTT!$J263>0,"PS","-") -> - | L263: =IF(C263<>"",YEAR(C263),"-") -> - | M263: =IF(C263<>"",MONTH(C263),"-") -> - | N263: =IF(C263<>"",DAY(C263),"-") -> -
A264: =IF(B264<>"",MAX($A$6:A263)+1,0) -> 0 | D264: =MDH4? -> #NAME? | F264: =TKH4? -> #NAME? | G264: =L4? -> #NAME? | H264: =MSM4? -> #NAME? | K264: =IF(NKTT!$J264>0,"PS","-") -> - | L264: =IF(C264<>"",YEAR(C264),"-") -> - | M264: =IF(C264<>"",MONTH(C264),"-") -> - | N264: =IF(C264<>"",DAY(C264),"-") -> -
A265: =IF(B265<>"",MAX($A$6:A264)+1,0) -> 0 | D265: =MDH5? -> #NAME? | F265: =TKH5? -> #NAME? | G265: =L5? -> #NAME? | H265: =MSM5? -> #NAME? | K265: =IF(NKTT!$J265>0,"PS","-") -> - | L265: =IF(C265<>"",YEAR(C265),"-") -> - | M265: =IF(C265<>"",MONTH(C265),"-") -> - | N265: =IF(C265<>"",DAY(C265),"-") -> -
A266: =IF(B266<>"",MAX($A$6:A265)+1,0) -> 0 | D266: =MDH6? -> #NAME? | F266: =TKH6? -> #NAME? | G266: =L6? -> #NAME? | H266: =MSM6? -> #NAME? | K266: =IF(NKTT!$J266>0,"PS","-") -> - | L266: =IF(C266<>"",YEAR(C266),"-") -> - | M266: =IF(C266<>"",MONTH(C266),"-") -> - | N266: =IF(C266<>"",DAY(C266),"-") -> -
A267: =IF(B267<>"",MAX($A$6:A266)+1,0) -> 0 | D267: =MDH7? -> #NAME? | F267: =TKH7? -> #NAME? | G267: =L7? -> #NAME? | H267: =MSM7? -> #NAME? | K267: =IF(NKTT!$J267>0,"PS","-") -> - | L267: =IF(C267<>"",YEAR(C267),"-") -> - | M267: =IF(C267<>"",MONTH(C267),"-") -> - | N267: =IF(C267<>"",DAY(C267),"-") -> -
A268: =IF(B268<>"",MAX($A$6:A267)+1,0) -> 0 | D268: =MDH8? -> #NAME? | F268: =TKH8? -> #NAME? | G268: =L8? -> #NAME? | H268: =MSM8? -> #NAME? | K268: =IF(NKTT!$J268>0,"PS","-") -> - | L268: =IF(C268<>"",YEAR(C268),"-") -> - | M268: =IF(C268<>"",MONTH(C268),"-") -> - | N268: =IF(C268<>"",DAY(C268),"-") -> -
A269: =IF(B269<>"",MAX($A$6:A268)+1,0) -> 0 | D269: =MDH9? -> #NAME? | F269: =TKH9? -> #NAME? | G269: =L9? -> #NAME? | H269: =MSM9? -> #NAME? | K269: =IF(NKTT!$J269>0,"PS","-") -> - | L269: =IF(C269<>"",YEAR(C269),"-") -> - | M269: =IF(C269<>"",MONTH(C269),"-") -> - | N269: =IF(C269<>"",DAY(C269),"-") -> -
A270: =IF(B270<>"",MAX($A$6:A269)+1,0) -> 0 | D270: =MDH10? -> #NAME? | F270: =TKH10? -> #NAME? | G270: =L10? -> #NAME? | H270: =MSM10? -> #NAME? | K270: =IF(NKTT!$J270>0,"PS","-") -> - | L270: =IF(C270<>"",YEAR(C270),"-") -> - | M270: =IF(C270<>"",MONTH(C270),"-") -> - | N270: =IF(C270<>"",DAY(C270),"-") -> -
A271: =IF(B271<>"",MAX($A$6:A270)+1,0) -> 0 | D271: =MDH11? -> #NAME? | F271: =TKH11? -> #NAME? | G271: =L11? -> #NAME? | H271: =MSM11? -> #NAME? | K271: =IF(NKTT!$J271>0,"PS","-") -> - | L271: =IF(C271<>"",YEAR(C271),"-") -> - | M271: =IF(C271<>"",MONTH(C271),"-") -> - | N271: =IF(C271<>"",DAY(C271),"-") -> -
A272: =IF(B272<>"",MAX($A$6:A271)+1,0) -> 0 | D272: =MDH12? -> #NAME? | F272: =TKH12? -> #NAME? | G272: =L12? -> #NAME? | H272: =MSM12? -> #NAME? | K272: =IF(NKTT!$J272>0,"PS","-") -> - | L272: =IF(C272<>"",YEAR(C272),"-") -> - | M272: =IF(C272<>"",MONTH(C272),"-") -> - | N272: =IF(C272<>"",DAY(C272),"-") -> -
A273: =IF(B273<>"",MAX($A$6:A272)+1,0) -> 0 | D273: =MDH13? -> #NAME? | F273: =TKH13? -> #NAME? | G273: =L13? -> #NAME? | H273: =MSM13? -> #NAME? | K273: =IF(NKTT!$J273>0,"PS","-") -> - | L273: =IF(C273<>"",YEAR(C273),"-") -> - | M273: =IF(C273<>"",MONTH(C273),"-") -> - | N273: =IF(C273<>"",DAY(C273),"-") -> -
... A499: =IF(B499<>"",MAX($A$6:A498)+1,0) -> 0 | D499: =MDH239? -> #NAME? | F499: =TKH239? -> #NAME? | G499: =L239? -> #NAME? | H499: =MSM239? -> #NAME? | K499: =IF(NKTT!$J499>0,"PS","-") -> - | L499: =IF(C499<>"",YEAR(C499),"-") -> - | M499: =IF(C499<>"",MONTH(C499),"-") -> - | N499: =IF(C499<>"",DAY(C499),"-") -> -
A500: =IF(B500<>"",MAX($A$6:A499)+1,0) -> 0 | D500: =MDH240? -> #NAME? | G500: =L240? -> #NAME? | H500: =MSM240? -> #NAME?
F501: TỔNG CỘNG | J501: =SUBTOTAL(9,J7:J500) -> 3850 | K501: PS

Sheet BAOCAO
A1: BÁO CÁO CÔNG NỢ KHÁCH HÀNG | I1: 2008 | J1: 2009 | K1: 2010 | L1: 2011 | M1: 2012 | N1: 2013 | O1: 2014 | P1: 2015 | Q1: 2016 | R1: 2017 | S1: 2018 | T1: 2019 | U1: 2020 | V1: 2021 | W1: 2022 | X1: 2023 | Y1: 2024 | Z1: 2025 | AA1: 2026 | AB1: 2027 | AC1: 2028 | AD1: 2029 | AE1: 2030 | AF1: 2031 | AG1: 2032 | AH1: 2033 | AI1: 2034 | AJ1: 2035 | AK1: 2036 | AL1: 2037 | AM1: 2038 | AN1: 2039 | AO1: 2040 | AP1: 2041 | AQ1: 2042 | AR1: 2043 | AS1: 2044 | AT1: 2045 | AU1: 2046 | AV1: 2047 | AW1: 2048 | AX1: 2049 | AY1: 2050
I2: =IF(I1=NAM,COLUMN()-8,0) -> 1 | J2: =IF(J1=NAM,COLUMN()-8,0) -> 0 | K2: =IF(K1=NAM,COLUMN()-8,0) -> 0 | L2: =IF(L1=NAM,COLUMN()-8,0) -> 0 | M2: =IF(M1=NAM,COLUMN()-8,0) -> 0 | N2: =IF(N1=NAM,COLUMN()-8,0) -> 0 | O2: =IF(O1=NAM,COLUMN()-8,0) -> 0 | P2: =IF(P1=NAM,COLUMN()-8,0) -> 0 | ... AY2: =IF(AY1=NAM,COLUMN()-8,0) -> 0
A3: Từ ngày : | B3: 39569 | I3: I | J3: J | K3: K | L3: L | M3: M | N3: N | O3: O | P3: P | Q3: Q | R3: R | S3: S | T3: T | U3: U | V3: V | W3: W | X3: X | Y3: Y | Z3: Z | AA3: AA | AB3: AB | AC3: AC | AD3: AD | AE3: AE | AF3: AF | AG3: AG | AH3: AH | AI3: AI | AJ3: AJ | AK3: AK | AL3: AL | AM3: AM | AN3: AN | AO3: AO | AP3: AP | AQ3: AQ | AR3: AR | AS3: AS | AT3: AT | AU3: AU | AV3: AV | AW3: AW | AX3: AX | AY3: AY
A4: đến ngày : | B4: 39599 | I4: 39448 | J4: 39814 | K4: 40179 | L4: 40544 | M4: 40909 | N4: 41275 | O4: 41640 | P4: 42005 | Q4: 42370 | R4: 42736 | S4: 43101 | T4: 43466 | U4: 43831 | V4: 44197 | W4: 44562 | X4: 44927 | Y4: 45292 | Z4: 45658 | AA4: 46023 | AB4: 46388 | AC4: 46753 | AD4: 47119 | AE4: 47484 | AF4: 47849 | AG4: 48214 | AH4: 48580 | AI4: 48945 | AJ4: 49310 | AK4: 49675 | AL4: 50041 | AM4: 50406 | AN4: 50771 | AO4: 51136 | AP4: 51502 | AQ4: 51867 | AR4: 52232 | AS4: 52597 | AT4: 52963 | AU4: 53328 | AV4: 53693 | AW4: 54058 | AX4: 54424 | AY4: 54789
A5: Loại KH : | B5: KH | I5: 39449 | J5: 39815 | K5: 40180 | L5: 40545 | M5: 40910 | N5: 41276 | O5: 41641 | P5: 42006 | Q5: 42371 | R5: 42737 | S5: 43102 | T5: 43467 | U5: 43832 | V5: 44198 | W5: 44563 | X5: 44928 | Y5: 45293 | Z5: 45659 | AA5: 46024 | AB5: 46389 | AC5: 46754 | AD5: 47120 | AE5: 47485 | AF5: 47850 | AG5: 48215 | AH5: 48581 | AI5: 48946 | AJ5: 49311 | AK5: 49676 | AL5: 50042 | AM5: 50407 | AN5: 50772 | AO5: 51137 | AP5: 51503 | AQ5: 51868 | AR5: 52233 | AS5: 52598 | AT5: 52964 | AU5: 53329 | AV5: 53694 | AW5: 54059 | AX5: 54425 | AY5: 54790
A6: Tên KH : | D6: =IF(B6="","Tất cả khách hàng",VLOOKUP(B6,MKH1?,2,0)) -> Tất cả khách hàng | I6: 39450 | J6: 39816 | K6: 40181 | L6: 40546 | M6: 40911 | N6: 41277 | O6: 41642 | P6: 42007 | Q6: 42372 | R6: 42738 | S6: 43103 | T6: 43468 | U6: 43833 | V6: 44199 | W6: 44564 | X6: 44929 | Y6: 45294 | Z6: 45660 | AA6: 46025 | AB6: 46390 | AC6: 46755 | AD6: 47121 | AE6: 47486 | AF6: 47851 | AG6: 48216 | AH6: 48582 | AI6: 48947 | AJ6: 49312 | AK6: 49677 | AL6: 50043 | AM6: 50408 | AN6: 50773 | AO6: 51138 | AP6: 51504 | AQ6: 51869 | AR6: 52234 | AS6: 52599 | AT6: 52965 | AU6: 53330 | AV6: 53695 | AW6: 54060 | AX6: 54426 | AY6: 54791
A7: Nợ đầu kỳ : | B7: =NDKBC?+NDKDSPSBC?-NDKTT1PSBC?-NDKTT2PSBC? -> #NAME? | I7: 39451 | J7: 39817 | K7: 40182 | L7: 40547 | M7: 40912 | N7: 41278 | O7: 41643 | P7: 42008 | Q7: 42373 | R7: 42739 | S7: 43104 | T7: 43469 | U7: 43834 | V7: 44200 | W7: 44565 | X7: 44930 | Y7: 45295 | Z7: 45661 | AA7: 46026 | AB7: 46391 | AC7: 46756 | AD7: 47122 | AE7: 47487 | AF7: 47852 | AG7: 48217 | AH7: 48583 | AI7: 48948 | AJ7: 49313 | AK7: 49678 | AL7: 50044 | AM7: 50409 | AN7: 50774 | AO7: 51139 | AP7: 51505 | AQ7: 51870 | AR7: 52235 | AS7: 52600 | AT7: 52966 | AU7: 53331 | AV7: 53696 | AW7: 54061 | AX7: 54427 | AY7: 54792
A8: Doanh số : | B8: =DSBC? -> #NAME? | I8: 39452 | J8: 39818 | K8: 40183 | L8: 40548 | M8: 40913 | N8: 41279 | O8: 41644 | P8: 42009 | Q8: 42374 | R8: 42740 | S8: 43105 | T8: 43470 | U8: 43835 | V8: 44201 | W8: 44566 | X8: 44931 | Y8: 45296 | Z8: 45662 | AA8: 46027 | AB8: 46392 | AC8: 46757 | AD8: 47123 | AE8: 47488 | AF8: 47853 | AG8: 48218 | AH8: 48584 | AI8: 48949 | AJ8: 49314 | AK8: 49679 | AL8: 50045 | AM8: 50410 | AN8: 50775 | AO8: 51140 | AP8: 51506 | AQ8: 51871 | AR8: 52236 | AS8: 52601 | AT8: 52967 | AU8: 53332 | AV8: 53697 | AW8: 54062 | AX8: 54428 | AY8: 54793
A9: Chiết khấu : | B9: =CKBC? -> #NAME? | I9: 39453 | J9: 39819 | K9: 40184 | L9: 40549 | M9: 40914 | N9: 41280 | O9: 41645 | P9: 42010 | Q9: 42375 | R9: 42741 | S9: 43106 | T9: 43471 | U9: 43836 | V9: 44202 | W9: 44567 | X9: 44932 | Y9: 45297 | Z9: 45663 | AA9: 46028 | AB9: 46393 | AC9: 46758 | AD9: 47124 | AE9: 47489 | AF9: 47854 | AG9: 48219 | AH9: 48585 | AI9: 48950 | AJ9: 49315 | AK9: 49680 | AL9: 50046 | AM9: 50411 | AN9: 50776 | AO9: 51141 | AP9: 51507 | AQ9: 51872 | AR9: 52237 | AS9: 52602 | AT9: 52968 | AU9: 53333 | AV9: 53698 | AW9: 54063 | AX9: 54429 | AY9: 54794
A10: Thanh toán : | B10: =TT1PSBC?+TT2PSBC? -> #NAME? | I10: 39454 | J10: 39820 | K10: 40185 | L10: 40550 | M10: 40915 | N10: 41281 | O10: 41646 | P10: 42011 | Q10: 42376 | R10: 42742 | S10: 43107 | T10: 43472 | U10: 43837 | V10: 44203 | W10: 44568 | X10: 44933 | Y10: 45298 | Z10: 45664 | AA10: 46029 | AB10: 46394 | AC10: 46759 | AD10: 47125 | AE10: 47490 | AF10: 47855 | AG10: 48220 | AH10: 48586 | AI10: 48951 | AJ10: 49316 | AK10: 49681 | AL10: 50047 | AM10: 50412 | AN10: 50777 | AO10: 51142 | AP10: 51508 | AQ10: 51873 | AR10: 52238 | AS10: 52603 | AT10: 52969 | AU10: 53334 | AV10: 53699 | AW10: 54064 | AX10: 54430 | AY10: 54795
A11: Nợ cuối kỳ : | B11: =B7+B8-B9-B10 -> #NAME? | I11: 39455 | J11: 39821 | K11: 40186 | L11: 40551 | M11: 40916 | N11: 41282 | O11: 41647 | P11: 42012 | Q11: 42377 | R11: 42743 | S11: 43108 | T11: 43473 | U11: 43838 | V11: 44204 | W11: 44569 | X11: 44934 | Y11: 45299 | Z11: 45665 | AA11: 46030 | AB11: 46395 | AC11: 46760 | AD11: 47126 | AE11: 47491 | AF11: 47856 | AG11: 48221 | AH11: 48587 | AI11: 48952 | AJ11: 49317 | AK11: 49682 | AL11: 50048 | AM11: 50413 | AN11: 50778 | AO11: 51143 | AP11: 51509 | AQ11: 51874 | AR11: 52239 | AS11: 52604 | AT11: 52970 | AU11: 53335 | AV11: 53700 | AW11: 54065 | AX11: 54431 | AY11: 54796
A12: Nợ quá hạn : | B12: =NQHBC? -> #NAME? | D12: Với số ngày quá hạn từ : | E12: 1 | F12: đến | G12: 50 | I12: 39456 | J12: 39822 | K12: 40187 | L12: 40552 | M12: 40917 | N12: 41283 | O12: 41648 | P12: 42013 | Q12: 42378 | R12: 42744 | S12: 43109 | T12: 43474 | U12: 43839 | V12: 44205 | W12: 44570 | X12: 44935 | Y12: 45300 | Z12: 45666 | AA12: 46031 | AB12: 46396 | AC12: 46761 | AD12: 47127 | AE12: 47492 | AF12: 47857 | AG12: 48222 | AH12: 48588 | AI12: 48953 | AJ12: 49318 | AK12: 49683 | AL12: 50049 | AM12: 50414 | AN12: 50779 | AO12: 51144 | AP12: 51510 | AQ12: 51875 | AR12: 52240 | AS12: 52605 | AT12: 52971 | AU12: 53336 | AV12: 53701 | AW12: 54066 | AX12: 54432 | AY12: 54797
I13: 39457 | J13: 39823 | K13: 40188 | L13: 40553 | M13: 40918 | N13: 41284 | O13: 41649 | P13: 42014 | Q13: 42379 | R13: 42745 | S13: 43110 | T13: 43475 | U13: 43840 | V13: 44206 | W13: 44571 | X13: 44936 | Y13: 45301 | Z13: 45667 | AA13: 46032 | AB13: 46397 | AC13: 46762 | AD13: 47128 | AE13: 47493 | AF13: 47858 | AG13: 48223 | AH13: 48589 | AI13: 48954 | AJ13: 49319 | AK13: 49684 | AL13: 50050 | AM13: 50415 | AN13: 50780 | AO13: 51145 | AP13: 51511 | AQ13: 51876 | AR13: 52241 | AS13: 52606 | AT13: 52972 | AU13: 53337 | AV13: 53702 | AW13: 54067 | AX13: 54433 | AY13: 54798
I14: 39458 | J14: 39824 | K14: 40189 | L14: 40554 | M14: 40919 | N14: 41285 | O14: 41650 | P14: 42015 | Q14: 42380 | R14: 42746 | S14: 43111 | T14: 43476 | U14: 43841 | V14: 44207 | W14: 44572 | X14: 44937 | Y14: 45302 | Z14: 45668 | AA14: 46033 | AB14: 46398 | AC14: 46763 | AD14: 47129 | AE14: 47494 | AF14: 47859 | AG14: 48224 | AH14: 48590 | AI14: 48955 | AJ14: 49320 | AK14: 49685 | AL14: 50051 | AM14: 50416 | AN14: 50781 | AO14: 51146 | AP14: 51512 | AQ14: 51877 | AR14: 52242 | AS14: 52607 | AT14: 52973 | AU14: 53338 | AV14: 53703 | AW14: 54068 | AX14: 54434 | AY14: 54799
A15: BÁO CÁO DOANH SỐ SALEMAN | I15: 39459 | J15: 39825 | K15: 40190 | L15: 40555 | M15: 40920 | N15: 41286 | O15: 41651 | P15: 42016 | Q15: 42381 | R15: 42747 | S15: 43112 | T15: 43477 | U15: 43842 | V15: 44208 | W15: 44573 | X15: 44938 | Y15: 45303 | Z15: 45669 | AA15: 46034 | AB15: 46399 | AC15: 46764 | AD15: 47130 | AE15: 47495 | AF15: 47860 | AG15: 48225 | AH15: 48591 | AI15: 48956 | AJ15: 49321 | AK15: 49686 | AL15: 50052 | AM15: 50417 | AN15: 50782 | AO15: 51147 | AP15: 51513 | AQ15: 51878 | AR15: 52243 | AS15: 52608 | AT15: 52974 | AU15: 53339 | AV15: 53704 | AW15: 54069 | AX15: 54435 | AY15: 54800
I16: 39460 | J16: 39826 | K16: 40191 | L16: 40556 | M16: 40921 | N16: 41287 | O16: 41652 | P16: 42017 | Q16: 42382 | R16: 42748 | S16: 43113 | T16: 43478 | U16: 43843 | V16: 44209 | W16: 44574 | X16: 44939 | Y16: 45304 | Z16: 45670 | AA16: 46035 | AB16: 46400 | AC16: 46765 | AD16: 47131 | AE16: 47496 | AF16: 47861 | AG16: 48226 | AH16: 48592 | AI16: 48957 | AJ16: 49322 | AK16: 49687 | AL16: 50053 | AM16: 50418 | AN16: 50783 | AO16: 51148 | AP16: 51514 | AQ16: 51879 | AR16: 52244 | AS16: 52609 | AT16: 52975 | AU16: 53340 | AV16: 53705 | AW16: 54070 | AX16: 54436 | AY16: 54801
A17: Tên SM : | D17: =IF(B17="","Tất cả các Saleman",VLOOKUP(B17,MSMBC1?,2,0)) -> Tất cả các Saleman | I17: 39461 | J17: 39827 | K17: 40192 | L17: 40557 | M17: 40922 | N17: 41288 | O17: 41653 | P17: 42018 | Q17: 42383 | R17: 42749 | S17: 43114 | T17: 43479 | U17: 43844 | V17: 44210 | W17: 44575 | X17: 44940 | Y17: 45305 | Z17: 45671 | AA17: 46036 | AB17: 46401 | AC17: 46766 | AD17: 47132 | AE17: 47497 | AF17: 47862 | AG17: 48227 | AH17: 48593 | AI17: 48958 | AJ17: 49323 | AK17: 49688 | AL17: 50054 | AM17: 50419 | AN17: 50784 | AO17: 51149 | AP17: 51515 | AQ17: 51880 | AR17: 52245 | AS17: 52610 | AT17: 52976 | AU17: 53341 | AV17: 53706 | AW17: 54071 | AX17: 54437 | AY17: 54802
A18: Doanh số : | B18: =DSSMBC? -> #NAME? | I18: 39462 | J18: 39828 | K18: 40193 | L18: 40558 | M18: 40923 | N18: 41289 | O18: 41654 | P18: 42019 | Q18: 42384 | R18: 42750 | S18: 43115 | T18: 43480 | U18: 43845 | V18: 44211 | W18: 44576 | X18: 44941 | Y18: 45306 | Z18: 45672 | AA18: 46037 | AB18: 46402 | AC18: 46767 | AD18: 47133 | AE18: 47498 | AF18: 47863 | AG18: 48228 | AH18: 48594 | AI18: 48959 | AJ18: 49324 | AK18: 49689 | AL18: 50055 | AM18: 50420 | AN18: 50785 | AO18: 51150 | AP18: 51516 | AQ18: 51881 | AR18: 52246 | AS18: 52611 | AT18: 52977 | AU18: 53342 | AV18: 53707 | AW18: 54072 | AX18: 54438 | AY18: 54803
A19: Thu tiền mặt : | B19: =TTSMBC1? -> #NAME? | I19: 39463 | J19: 39829 | K19: 40194 | L19: 40559 | M19: 40924 | N19: 41290 | O19: 41655 | P19: 42020 | Q19: 42385 | R19: 42751 | S19: 43116 | T19: 43481 | U19: 43846 | V19: 44212 | W19: 44577 | X19: 44942 | Y19: 45307 | Z19: 45673 | AA19: 46038 | AB19: 46403 | AC19: 46768 | AD19: 47134 | AE19: 47499 | AF19: 47864 | AG19: 48229 | AH19: 48595 | AI19: 48960 | AJ19: 49325 | AK19: 49690 | AL19: 50056 | AM19: 50421 | AN19: 50786 | AO19: 51151 | AP19: 51517 | AQ19: 51882 | AR19: 52247 | AS19: 52612 | AT19: 52978 | AU19: 53343 | AV19: 53708 | AW19: 54073 | AX19: 54439 | AY19: 54804
A20: Thu công nợ : | B20: =TTSMBC2? -> #NAME? | I20: 39464 | J20: 39830 | K20: 40195 | L20: 40560 | M20: 40925 | N20: 41291 | O20: 41656 | P20: 42021 | Q20: 42386 | R20: 42752 | S20: 43117 | T20: 43482 | U20: 43847 | V20: 44213 | W20: 44578 | X20: 44943 | Y20: 45308 | Z20: 45674 | AA20: 46039 | AB20: 46404 | AC20: 46769 | AD20: 47135 | AE20: 47500 | AF20: 47865 | AG20: 48230 | AH20: 48596 | AI20: 48961 | AJ20: 49326 | AK20: 49691 | AL20: 50057 | AM20: 50422 | AN20: 50787 | AO20: 51152 | AP20: 51518 | AQ20: 51883 | AR20: 52248 | AS20: 52613 | AT20: 52979 | AU20: 53344 | AV20: 53709 | AW20: 54074 | AX20: 54440 | AY20: 54805
A21: Tổng thu : | B21: =B19+B20 -> #NAME? | I21: 39465 | J21: 39831 | K21: 40196 | L21: 40561 | M21: 40926 | N21: 41292 | O21: 41657 | P21: 42022 | Q21: 42387 | R21: 42753 | S21: 43118 | T21: 43483 | U21: 43848 | V21: 44214 | W21: 44579 | X21: 44944 | Y21: 45309 | Z21: 45675 | AA21: 46040 | AB21: 46405 | AC21: 46770 | AD21: 47136 | AE21: 47501 | AF21: 47866 | AG21: 48231 | AH21: 48597 | AI21: 48962 | AJ21: 49327 | AK21: 49692 | AL21: 50058 | AM21: 50423 | AN21: 50788 | AO21: 51153 | AP21: 51519 | AQ21: 51884 | AR21: 52249 | AS21: 52614 | AT21: 52980 | AU21: 53345 | AV21: 53710 | AW21: 54075 | AX21: 54441 | AY21: 54806
I22: 39466 | J22: 39832 | K22: 40197 | L22: 40562 | M22: 40927 | N22: 41293 | O22: 41658 | P22: 42023 | Q22: 42388 | R22: 42754 | S22: 43119 | T22: 43484 | U22: 43849 | V22: 44215 | W22: 44580 | X22: 44945 | Y22: 45310 | Z22: 45676 | AA22: 46041 | AB22: 46406 | AC22: 46771 | AD22: 47137 | AE22: 47502 | AF22: 47867 | AG22: 48232 | AH22: 48598 | AI22: 48963 | AJ22: 49328 | AK22: 49693 | AL22: 50059 | AM22: 50424 | AN22: 50789 | AO22: 51154 | AP22: 51520 | AQ22: 51885 | AR22: 52250 | AS22: 52615 | AT22: 52981 | AU22: 53346 | AV22: 53711 | AW22: 54076 | AX22: 54442 | AY22: 54807
I23: 39467 | J23: 39833 | K23: 40198 | L23: 40563 | M23: 40928 | N23: 41294 | O23: 41659 | P23: 42024 | Q23: 42389 | R23: 42755 | S23: 43120 | T23: 43485 | U23: 43850 | V23: 44216 | W23: 44581 | X23: 44946 | Y23: 45311 | Z23: 45677 | AA23: 46042 | AB23: 46407 | AC23: 46772 | AD23: 47138 | AE23: 47503 | AF23: 47868 | AG23: 48233 | AH23: 48599 | AI23: 48964 | AJ23: 49329 | AK23: 49694 | AL23: 50060 | AM23: 50425 | AN23: 50790 | AO23: 51155 | AP23: 51521 | AQ23: 51886 | AR23: 52251 | AS23: 52616 | AT23: 52982 | AU23: 53347 | AV23: 53712 | AW23: 54077 | AX23: 54443 | AY23: 54808
I24: 39468 | J24: 39834 | K24: 40199 | L24: 40564 | M24: 40929 | N24: 41295 | O24: 41660 | P24: 42025 | Q24: 42390 | R24: 42756 | S24: 43121 | T24: 43486 | U24: 43851 | V24: 44217 | W24: 44582 | X24: 44947 | Y24: 45312 | Z24: 45678 | AA24: 46043 | AB24: 46408 | AC24: 46773 | AD24: 47139 | AE24: 47504 | AF24: 47869 | AG24: 48234 | AH24: 48600 | AI24: 48965 | AJ24: 49330 | AK24: 49695 | AL24: 50061 | AM24: 50426 | AN24: 50791 | AO24: 51156 | AP24: 51522 | AQ24: 51887 | AR24: 52252 | AS24: 52617 | AT24: 52983 | AU24: 53348 | AV24: 53713 | AW24: 54078 | AX24: 54444 | AY24: 54809
I25: 39469 | J25: 39835 | K25: 40200 | L25: 40565 | M25: 40930 | N25: 41296 | O25: 41661 | P25: 42026 | Q25: 42391 | R25: 42757 | S25: 43122 | T25: 43487 | U25: 43852 | V25: 44218 | W25: 44583 | X25: 44948 | Y25: 45313 | Z25: 45679 | AA25: 46044 | AB25: 46409 | AC25: 46774 | AD25: 47140 | AE25: 47505 | AF25: 47870 | AG25: 48235 | AH25: 48601 | AI25: 48966 | AJ25: 49331 | AK25: 49696 | AL25: 50062 | AM25: 50427 | AN25: 50792 | AO25: 51157 | AP25: 51523 | AQ25: 51888 | AR25: 52253 | AS25: 52618 | AT25: 52984 | AU25: 53349 | AV25: 53714 | AW25: 54079 | AX25: 54445 | AY25: 54810
I26: 39470 | J26: 39836 | K26: 40201 | L26: 40566 | M26: 40931 | N26: 41297 | O26: 41662 | P26: 42027 | Q26: 42392 | R26: 42758 | S26: 43123 | T26: 43488 | U26: 43853 | V26: 44219 | W26: 44584 | X26: 44949 | Y26: 45314 | Z26: 45680 | AA26: 46045 | AB26: 46410 | AC26: 46775 | AD26: 47141 | AE26: 47506 | AF26: 47871 | AG26: 48236 | AH26: 48602 | AI26: 48967 | AJ26: 49332 | AK26: 49697 | AL26: 50063 | AM26: 50428 | AN26: 50793 | AO26: 51158 | AP26: 51524 | AQ26: 51889 | AR26: 52254 | AS26: 52619 | AT26: 52985 | AU26: 53350 | AV26: 53715 | AW26: 54080 | AX26: 54446 | AY26: 54811
I27: 39471 | J27: 39837 | K27: 40202 | L27: 40567 | M27: 40932 | N27: 41298 | O27: 41663 | P27: 42028 | Q27: 42393 | R27: 42759 | S27: 43124 | T27: 43489 | U27: 43854 | V27: 44220 | W27: 44585 | X27: 44950 | Y27: 45315 | Z27: 45681 | AA27: 46046 | AB27: 46411 | AC27: 46776 | AD27: 47142 | AE27: 47507 | AF27: 47872 | AG27: 48237 | AH27: 48603 | AI27: 48968 | AJ27: 49333 | AK27: 49698 | AL27: 50064 | AM27: 50429 | AN27: 50794 | AO27: 51159 | AP27: 51525 | AQ27: 51890 | AR27: 52255 | AS27: 52620 | AT27: 52986 | AU27: 53351 | AV27: 53716 | AW27: 54081 | AX27: 54447 | AY27: 54812
I28: 39472 | J28: 39838 | K28: 40203 | L28: 40568 | M28: 40933 | N28: 41299 | O28: 41664 | P28: 42029 | Q28: 42394 | R28: 42760 | S28: 43125 | T28: 43490 | U28: 43855 | V28: 44221 | W28: 44586 | X28: 44951 | Y28: 45316 | Z28: 45682 | AA28: 46047 | AB28: 46412 | AC28: 46777 | AD28: 47143 | AE28: 47508 | AF28: 47873 | AG28: 48238 | AH28: 48604 | AI28: 48969 | AJ28: 49334 | AK28: 49699 | AL28: 50065 | AM28: 50430 | AN28: 50795 | AO28: 51160 | AP28: 51526 | AQ28: 51891 | AR28: 52256 | AS28: 52621 | AT28: 52987 | AU28: 53352 | AV28: 53717 | AW28: 54082 | AX28: 54448 | AY28: 54813
I29: 39473 | J29: 39839 | K29: 40204 | L29: 40569 | M29: 40934 | N29: 41300 | O29: 41665 | P29: 42030 | Q29: 42395 | R29: 42761 | S29: 43126 | T29: 43491 | U29: 43856 | V29: 44222 | W29: 44587 | X29: 44952 | Y29: 45317 | Z29: 45683 | AA29: 46048 | AB29: 46413 | AC29: 46778 | AD29: 47144 | AE29: 47509 | AF29: 47874 | AG29: 48239 | AH29: 48605 | AI29: 48970 | AJ29: 49335 | AK29: 49700 | AL29: 50066 | AM29: 50431 | AN29: 50796 | AO29: 51161 | AP29: 51527 | AQ29: 51892 | AR29: 52257 | AS29: 52622 | AT29: 52988 | AU29: 53353 | AV29: 53718 | AW29: 54083 | AX29: 54449 | AY29: 54814
I30: 39474 | J30: 39840 | K30: 40205 | L30: 40570 | M30: 40935 | N30: 41301 | O30: 41666 | P30: 42031 | Q30: 42396 | R30: 42762 | S30: 43127 | T30: 43492 | U30: 43857 | V30: 44223 | W30: 44588 | X30: 44953 | Y30: 45318 | Z30: 45684 | AA30: 46049 | AB30: 46414 | AC30: 46779 | AD30: 47145 | AE30: 47510 | AF30: 47875 | AG30: 48240 | AH30: 48606 | AI30: 48971 | AJ30: 49336 | AK30: 49701 | AL30: 50067 | AM30: 50432 | AN30: 50797 | AO30: 51162 | AP30: 51528 | AQ30: 51893 | AR30: 52258 | AS30: 52623 | AT30: 52989 | AU30: 53354 | AV30: 53719 | AW30: 54084 | AX30: 54450 | AY30: 54815
I31: 39475 | J31: 39841 | K31: 40206 | L31: 40571 | M31: 40936 | N31: 41302 | O31: 41667 | P31: 42032 | Q31: 42397 | R31: 42763 | S31: 43128 | T31: 43493 | U31: 43858 | V31: 44224 | W31: 44589 | X31: 44954 | Y31: 45319 | Z31: 45685 | AA31: 46050 | AB31: 46415 | AC31: 46780 | AD31: 47146 | AE31: 47511 | AF31: 47876 | AG31: 48241 | AH31: 48607 | AI31: 48972 | AJ31: 49337 | AK31: 49702 | AL31: 50068 | AM31: 50433 | AN31: 50798 | AO31: 51163 | AP31: 51529 | AQ31: 51894 | AR31: 52259 | AS31: 52624 | AT31: 52990 | AU31: 53355 | AV31: 53720 | AW31: 54085 | AX31: 54451 | AY31: 54816
I32: 39476 | J32: 39842 | K32: 40207 | L32: 40572 | M32: 40937 | N32: 41303 | O32: 41668 | P32: 42033 | Q32: 42398 | R32: 42764 | S32: 43129 | T32: 43494 | U32: 43859 | V32: 44225 | W32: 44590 | X32: 44955 | Y32: 45320 | Z32: 45686 | AA32: 46051 | AB32: 46416 | AC32: 46781 | AD32: 47147 | AE32: 47512 | AF32: 47877 | AG32: 48242 | AH32: 48608 | AI32: 48973 | AJ32: 49338 | AK32: 49703 | AL32: 50069 | AM32: 50434 | AN32: 50799 | AO32: 51164 | AP32: 51530 | AQ32: 51895 | AR32: 52260 | AS32: 52625 | AT32: 52991 | AU32: 53356 | AV32: 53721 | AW32: 54086 | AX32: 54452 | AY32: 54817
I33: 39477 | J33: 39843 | K33: 40208 | L33: 40573 | M33: 40938 | N33: 41304 | O33: 41669 | P33: 42034 | Q33: 42399 | R33: 42765 | S33: 43130 | T33: 43495 | U33: 43860 | V33: 44226 | W33: 44591 | X33: 44956 | Y33: 45321 | Z33: 45687 | AA33: 46052 | AB33: 46417 | AC33: 46782 | AD33: 47148 | AE33: 47513 | AF33: 47878 | AG33: 48243 | AH33: 48609 | AI33: 48974 | AJ33: 49339 | AK33: 49704 | AL33: 50070 | AM33: 50435 | AN33: 50800 | AO33: 51165 | AP33: 51531 | AQ33: 51896 | AR33: 52261 | AS33: 52626 | AT33: 52992 | AU33: 53357 | AV33: 53722 | AW33: 54087 | AX33: 54453 | AY33: 54818
... I368: 39812 | J368: 40178 | K368: 40543 | L368: 40908 | M368: 41273 | N368: 41639 | O368: 42004 | P368: 42369 | Q368: 42734 | R368: 43100 | S368: 43465 | T368: 43830 | U368: 44195 | V368: 44561 | W368: 44926 | X368: 45291 | Y368: 45656 | Z368: 46022 | AA368: 46387 | AB368: 46752 | AC368: 47117 | AD368: 47483 | AE368: 47848 | AF368: 48213 | AG368: 48578 | AH368: 48944 | AI368: 49309 | AJ368: 49674 | AK368: 50039 | AL368: 50405 | AM368: 50770 | AN368: 51135 | AO368: 51500 | AP368: 51866 | AQ368: 52231 | AR368: 52596 | AS368: 52961 | AT368: 53327 | AU368: 53692 | AV368: 54057 | AW368: 54422 | AX368: 54788 | AY368: 55153
I369: 39813 | M369: 41274 | Q369: 42735 | U369: 44196 | Y369: 45657 | AC369: 47118 | AG369: 48579 | AK369: 50040 | AO369: 51501 | AS369: 52962 | AW369: 54423
A377: - Thống kê, cập nhật realtime báo cáo mua hàng, công nợ phải trả - Cập nhật tổng giá trị nhập, xuất & tổng giá trị tồn kho tới thời điểm hiện tại tại từng kho hàng, kho chi nhánh - Kiểm soát chặt chẽ tình trạng công nợ tại từng kho. Toàn bộ số liệu đều được cập nhật theo thời gian thực - Báo cáo chi tiết nguồn khách đặt hàng chủ yếu từ các kênh nào, phát hiện kênh bán hàng tiềm năng - Báo cáo doanh thu theo từng khách hàng, đơn hàng và doanh thu... Tìm hiểu chi tiết
