Workbook
Name CK: NKMB!$L$7:$L$1000
Name LOAI: DSSM!$K$7:$K$9
Name LOAI1: NKMB!$G$7:$G$1000
Name LOAI2: NKTT!$G$7:$G$500
Name MDHTT: NKTT!$D$7:$D$500
Name MKHMB: NKMB!$E$7:$E$1000
Name MKHTT: NKTT!$E$7:$E$500
Name MSMMB: NKMB!$H$7:$H$1000
Name MSMTT: NKTT!$H$7:$H$500
Name NAM: HD!$I$2
Name NCL: NKMB!$O$7:$O$1000
Name NGAYMB: NKMB!$C$7:$C$1000
Name NGAYTT: NKTT!$C$7:$C$500
Name TGQH: NKMB!$P$7:$P$1000
Name THANGLIST: DSSM!$J$7:$J$19
Name TRANGAY: NKMB!$M$7:$M$1000
Name TRASAU: NKMB!$N$7:$N$1000

Sheet HD
A1: Vui lòng: Vào Tệp -> Tạo bản sao hoặc Tải xuống để sử dụng File
A2: FILE QUẢN LÝ CÔNG NỢ D8.1 | H2: NĂM : | I2: 2008 | P2: 2008 | Q2: YES
A3: I. CHỨC NĂNG | P3: 2009 | Q3: NO
B4: - Báo cáo chi tiết, tổng hợp tình hình bán hàng, thu tiền của sale man. | P4: 2010
B5: - Báo cáo chi tiết, tổng hợp tình hình mua bán hàng hóa đối với khách hàng và nhà cung cấp. | P5: 2011
B6: - Theo dõi công nợ đối với từng khách hàng,nhà cung cấp, từng đơn hàng và trong từng thời điểm. | P6: 2012
A7: II. HƯỚNG DẪN SỬ DỤNG | F7: XEM : | G7: NO | P7: 2013
B8: 1. Sheet DSSM | P8: 2014
C9: - Sheet này dùng cho các Công ty thương mại có Nhân viên kinh doanh, nếu không thì không cần dùng đến. | P9: 2015
C10: - Cột B là cột Mã saleman, cột C là cột Tên saleman, dòng đầu tiên trong danh sách có mã là Cty, mã này dùng cho | P10: 2016
C11: trường hợp Cty bán lẻ, không vào doanh số hay thu tiền cho bất kỳ saleman nào, đừng nên thay đổi. | P11: 2017
C12: - Cột D là cột Doanh số Saleman, là tổng số tiền hàng mà Saleman bán được cho khách hàng. Số tiền trong cột này | P12: 2018
C13: được lấy từ cột Số tiền trong Sheet NKBH (sau khi đã trừ đi Doanh số của Nhà cung cấp). | P13: 2019
C14: - Cột E là cột Thu tiền, là tổng số tiền bán hàng mà Saleman thu được, bao gồm số tiền thu ngay khi bán hàng và | P14: 2020
C15: số tiền thu được từ các đơn hàng trước mà khách hàng còn nợ. Số tiền này là tổng số tiền trong cột Trả ngay và | P15: 2021
C16: Trả sau trong Sheet NKMB (sau khi trừ đi số tiền thanh toán cho Nhà cung cấp). | P16: 2022
C17: ô E5 là ô chọn tháng để xem báo cáo, nếu để trống thì xem báo cáo đến thời điểm cuối cùng trong sheet Nhật ký(Báo Cáo Năm) | P17: 2023
C18: - Cột F, G là tổng số tiền (Doanh số và Thu tiền) mà Ban Giám Đốc đặt ra chỉ tiêu cho từng Saleman trong tháng. | P18: 2024
C19: ta sẽ nhập chỉ tiêu này vào đầu mỗi tháng để đánh giá tình hình bán hàng của saleman trong tháng đó. | P19: 2025
C20: - Cột H là cột tỉ lệ % hoàn thành chỉ tiêu Doanh số và Thu tiền đã đặt ra trong tháng so với thức tế đạt được (Thực tế / Kế hoạch). | P20: 2026
... C27: toán cuối cùng (hay Cáo cáo năm). Chọn PS trong cột I để lọc ra danh sách Có phát sinh. | P27: 2033
B28: 2. Sheet DSKH | P28: 2034
C29: - Sheet này chứa bảng kê Danh sách Khách hàng và Nhà cung cấp, đồng thời là bảng Báo cáo chi tiết công nợ. | P29: 2035
C30: - Cột B là cột Mã khách hàng, cột C là cột Tên khách hàng. Mã và Tên ở đây dùng chung cho cho cả Khách hàng và Nhà | P30: 2036
C31: cung cấp. Đối với trường hợp là Khách hàng lẻ (Cty bán hàng trực tiếp không tính vào doanh số Saleman) thì ta đặt mã | P31: 2037
C32: là BL, nếu là Khách hàng lẻ do Saleman bán và được tính vào doanh số cho saleman thì đặt là BL1, BL2…ứng với từng Mã saleman. | P32: 2038
C33: - Cột D là cột Loại khách hàng, nếu là Nhà cung cấp thì ta chọn là NCC, là Khách hàng thì chọn KH. | P33: 2039
C34: - Cột E là cột Mã Saleman, một saleman có thể có nhiều Khách hàng khác nhau. Nếu là Nhà cung cấp hay Khách hàng | P34: 2040
C35: lẻ không được tính vào doanh số cho saleman thì đặt MSM là Cty. | P35: 2041
C36: - Cột F->I là cột Nợ đầu kỳ, Tổng Doanh số phát sinh (Công nợ tăng), Tổng thu tiền, chiết khấu (Công nợ giảm). | P36: 2042
C37: - Cột J là cột Tổng Nợ cuối kỳ. Cột J = Cột (F+G-H-I) hay Cột J = Cột (L+M+N) với điều kiện ô chọn tháng xem báo cáo để trống | P37: 2043
C38: - Ô H5 là ô chọn tháng để xem báo cáo. Nếu để trống thì xem báo cáo cả năm hay xem từ đầu kỳ đến ngày cuối cùng của dữ liệu). | P38: 2044
C39: - Ô C3 là ô kiểm tra lỗi công thức, nếu Báo SAI thì xem lại công thức và xem chênh lệch tại dòng cuối cùng của bảng báo cáo. | P39: 2045
C40: - Cột K là cột lọc ra những dòng phát sinh. | P40: 2046
... C44: - Cột N là cột Tổng nợ quá hạn, là tổng Nợ cuối kỳ đã vượt quá thời hạn thanh toán. Cột N = Cột (O+P+Q+R). | P44: 2050
C45: - Cột O là cột tổng Nợ quá hạn từ 1 đến 7 ngày.
C46: - Cột P là cột tổng Nợ quá hạn từ 8 đến 14 ngày.
C47: - Cột Q là cột tổng Nợ quá hạn từ 15 đến 30 ngày.
C48: - Cột R là cột tổng Nợ quá hạn đã quá hạn hơn 30 ngày.
C49: - Cột S->AD là cột lưu Tổng số Nợ đầu kỳ của từng tháng. Nợ đầu kỳ tháng 1/2008 là Nợ cuối kỳ tháng 12/2007.
...

Sheet DSSM
A1: ="DANH SÁCH SALE MAN NĂM "&NAM -> DANH SÁCH SALE MAN NĂM 2008
A2: HD
A3: =MAX($A$7:$A$100) -> 10 | C3: =IF(D103+E103<>0,"SAI","-") -> #NAME? | D3: =D101 -> #NAME? | E3: =E101 -> #NAME? | F3: =F101 -> 43890 | G3: =G101 -> 12925
A4: STT | B4: MSM | C4: SALE MAN | D4: DOANH SỐ | E4: THU TIỀN | F4: TARGET | H4: % HOÀN THÀNH | I4: PS
D5: THÁNG : => | F5: DS | G5: TT
A6: 0 | B6: 2 | C6: 3 | D6: 4 | E6: 5 | F6: 6 | G6: 7 | H6: 8 | I6: 9
A7: =IF($B7<>"",MAX($A$6:$A6)+1,0) -> 1 | B7: CTY | C7: Công ty | D7: =DSSALEMAN? -> #NAME? | E7: =TTSM? -> #NAME? | F7: 1500 | G7: 1300 | H7: =IF(DSSM!$D7>0,ROUND(DSSM!$D7*100/DSSM!$F7,1),"")&" -- "&IF(DSSM!$E7>0,ROUND(DSSM!$E7*100/DSSM!$G7,1),"") -> #NAME? | I7: =IF(DSSM!$D7+DSSM!$E7>0,"PS","-") -> #NAME? | J7: 1 | K7: KH
A8: =IF($B8<>"",MAX($A$6:$A7)+1,0) -> 2 | B8: HDANH | C8: Nguyễn Hoàng Danh | D8: =DSSALEMAN? -> #NAME? | E8: =TTSM? -> #NAME? | F8: 4500 | G8: 750 | H8: =IF(DSSM!$D8>0,ROUND(DSSM!$D8*100/DSSM!$F8,1),"")&" -- "&IF(DSSM!$E8>0,ROUND(DSSM!$E8*100/DSSM!$G8,1),"") -> #NAME? | I8: =IF(DSSM!$D8+DSSM!$E8>0,"PS","-") -> #NAME? | J8: 2 | K8: NCC
A9: =IF($B9<>"",MAX($A$6:$A8)+1,0) -> 3 | B9: NLONG | C9: Trần Nam Long | D9: =DSSALEMAN? -> #NAME? | E9: =TTSM? -> #NAME? | F9: 4390 | G9: 1200 | H9: =IF(DSSM!$D9>0,ROUND(DSSM!$D9*100/DSSM!$F9,1),"")&" -- "&IF(DSSM!$E9>0,ROUND(DSSM!$E9*100/DSSM!$G9,1),"") -> #NAME? | I9: =IF(DSSM!$D9+DSSM!$E9>0,"PS","-") -> #NAME? | J9: 3
A10: =IF($B10<>"",MAX($A$6:$A9)+1,0) -> 4 | B10: NKY | C10: Lê Nhã Kỳ | D10: =DSSALEMAN? -> #NAME? | E10: =TTSM? -> #NAME? | F10: 4750 | G10: 800 | H10: =IF(DSSM!$D10>0,ROUND(DSSM!$D10*100/DSSM!$F10,1),"")&" -- "&IF(DSSM!$E10>0,ROUND(DSSM!$E10*100/DSSM!$G10,1),"") -> #NAME? | I10: =IF(DSSM!$D10+DSSM!$E10>0,"PS","-") -> #NAME? | J10: 4
A11: =IF($B11<>"",MAX($A$6:$A10)+1,0) -> 5 | B11: HNAM | C11: Nguyễn Hoài Nam | D11: =DSSALEMAN? -> #NAME? | E11: =TTSM? -> #NAME? | F11: 2800 | G11: 800 | H11: =IF(DSSM!$D11>0,ROUND(DSSM!$D11*100/DSSM!$F11,1),"")&" -- "&IF(DSSM!$E11>0,ROUND(DSSM!$E11*100/DSSM!$G11,1),"") -> #NAME? | I11: =IF(DSSM!$D11+DSSM!$E11>0,"PS","-") -> #NAME? | J11: 5
A12: =IF($B12<>"",MAX($A$6:$A11)+1,0) -> 6 | B12: TTRANG | C12: Lê Thị Thu Trang | D12: =DSSALEMAN? -> #NAME? | E12: =TTSM? -> #NAME? | F12: 3300 | G12: 1100 | H12: =IF(DSSM!$D12>0,ROUND(DSSM!$D12*100/DSSM!$F12,1),"")&" -- "&IF(DSSM!$E12>0,ROUND(DSSM!$E12*100/DSSM!$G12,1),"") -> #NAME? | I12: =IF(DSSM!$D12+DSSM!$E12>0,"PS","-") -> #NAME? | J12: 6
A13: =IF($B13<>"",MAX($A$6:$A12)+1,0) -> 7 | B13: VSON | C13: Nguyễn Văn Sơn | D13: =DSSALEMAN? -> #NAME? | E13: =TTSM? -> #NAME? | F13: 7380 | G13: 1200 | H13: =IF(DSSM!$D13>0,ROUND(DSSM!$D13*100/DSSM!$F13,1),"")&" -- "&IF(DSSM!$E13>0,ROUND(DSSM!$E13*100/DSSM!$G13,1),"") -> #NAME? | I13: =IF(DSSM!$D13+DSSM!$E13>0,"PS","-") -> #NAME? | J13: 7
A14: =IF($B14<>"",MAX($A$6:$A13)+1,0) -> 8 | B14: HPHONG | C14: Trịnh Hoài Phong | D14: =DSSALEMAN? -> #NAME? | E14: =TTSM? -> #NAME? | F14: 8870 | G14: 2875 | H14: =IF(DSSM!$D14>0,ROUND(DSSM!$D14*100/DSSM!$F14,1),"")&" -- "&IF(DSSM!$E14>0,ROUND(DSSM!$E14*100/DSSM!$G14,1),"") -> #NAME? | I14: =IF(DSSM!$D14+DSSM!$E14>0,"PS","-") -> #NAME? | J14: 8
A15: =IF($B15<>"",MAX($A$6:$A14)+1,0) -> 9 | B15: HSIEU | C15: Trương Hán Siêu | D15: =DSSALEMAN? -> #NAME? | E15: =TTSM? -> #NAME? | F15: 6400 | G15: 2900 | H15: =IF(DSSM!$D15>0,ROUND(DSSM!$D15*100/DSSM!$F15,1),"")&" -- "&IF(DSSM!$E15>0,ROUND(DSSM!$E15*100/DSSM!$G15,1),"") -> #NAME? | I15: =IF(DSSM!$D15+DSSM!$E15>0,"PS","-") -> #NAME? | J15: 9
A16: =IF($B16<>"",MAX($A$6:$A15)+1,0) -> 10 | B16: SDFG | D16: =DSSALEMAN? -> #NAME? | E16: =TTSM? -> #NAME? | H16: =IF(DSSM!$D16>0,ROUND(DSSM!$D16*100/DSSM!$F16,1),"")&" -- "&IF(DSSM!$E16>0,ROUND(DSSM!$E16*100/DSSM!$G16,1),"") -> #NAME? | I16: =IF(DSSM!$D16+DSSM!$E16>0,"PS","-") -> #NAME? | J16: 10
A17: =IF($B17<>"",MAX($A$6:$A16)+1,0) -> 0 | D17: =DSSALEMAN? -> #NAME? | E17: =TTSM? -> #NAME? | H17: =IF(DSSM!$D17>0,ROUND(DSSM!$D17*100/DSSM!$F17,1),"")&" -- "&IF(DSSM!$E17>0,ROUND(DSSM!$E17*100/DSSM!$G17,1),"") -> #NAME? | I17: =IF(DSSM!$D17+DSSM!$E17>0,"PS","-") -> #NAME? | J17: 11
A18: =IF($B18<>"",MAX($A$6:$A17)+1,0) -> 0 | D18: =DSSALEMAN? -> #NAME? | E18: =TTSM? -> #NAME? | H18: =IF(DSSM!$D18>0,ROUND(DSSM!$D18*100/DSSM!$F18,1),"")&" -- "&IF(DSSM!$E18>0,ROUND(DSSM!$E18*100/DSSM!$G18,1),"") -> #NAME? | I18: =IF(DSSM!$D18+DSSM!$E18>0,"PS","-") -> #NAME? | J18: 12
A19: =IF($B19<>"",MAX($A$6:$A18)+1,0) -> 0 | D19: =DSSALEMAN? -> #NAME? | E19: =TTSM? -> #NAME? | H19: =IF(DSSM!$D19>0,ROUND(DSSM!$D19*100/DSSM!$F19,1),"")&" -- "&IF(DSSM!$E19>0,ROUND(DSSM!$E19*100/DSSM!$G19,1),"") -> #NAME? | I19: =IF(DSSM!$D19+DSSM!$E19>0,"PS","-") -> #NAME?
A20: =IF($B20<>"",MAX($A$6:$A19)+1,0) -> 0 | D20: =DSSALEMAN? -> #NAME? | E20: =TTSM? -> #NAME? | H20: =IF(DSSM!$D20>0,ROUND(DSSM!$D20*100/DSSM!$F20,1),"")&" -- "&IF(DSSM!$E20>0,ROUND(DSSM!$E20*100/DSSM!$G20,1),"") -> #NAME? | I20: =IF(DSSM!$D20+DSSM!$E20>0,"PS","-") -> #NAME?
A21: =IF($B21<>"",MAX($A$6:$A20)+1,0) -> 0 | D21: =DSSALEMAN? -> #NAME? | E21: =TTSM? -> #NAME? | H21: =IF(DSSM!$D21>0,ROUND(DSSM!$D21*100/DSSM!$F21,1),"")&" -- "&IF(DSSM!$E21>0,ROUND(DSSM!$E21*100/DSSM!$G21,1),"") -> #NAME? | I21: =IF(DSSM!$D21+DSSM!$E21>0,"PS","-") -> #NAME?
A22: =IF($B22<>"",MAX($A$6:$A21)+1,0) -> 0 | D22: =DSSALEMAN? -> #NAME? | E22: =TTSM? -> #NAME? | H22: =IF(DSSM!$D22>0,ROUND(DSSM!$D22*100/DSSM!$F22,1),"")&" -- "&IF(DSSM!$E22>0,ROUND(DSSM!$E22*100/DSSM!$G22,1),"") -> #NAME? | I22: =IF(DSSM!$D22+DSSM!$E22>0,"PS","-") -> #NAME?
A23: =IF($B23<>"",MAX($A$6:$A22)+1,0) -> 0 | D23: =DSSALEMAN? -> #NAME? | E23: =TTSM? -> #NAME? | H23: =IF(DSSM!$D23>0,ROUND(DSSM!$D23*100/DSSM!$F23,1),"")&" -- "&IF(DSSM!$E23>0,ROUND(DSSM!$E23*100/DSSM!$G23,1),"") -> #NAME? | I23: =IF(DSSM!$D23+DSSM!$E23>0,"PS","-") -> #NAME?
A24: =IF($B24<>"",MAX($A$6:$A23)+1,0) -> 0 | D24: =DSSALEMAN? -> #NAME? | E24: =TTSM? -> #NAME? | H24: =IF(DSSM!$D24>0,ROUND(DSSM!$D24*100/DSSM!$F24,1),"")&" -- "&IF(DSSM!$E24>0,ROUND(DSSM!$E24*100/DSSM!$G24,1),"") -> #NAME? | I24: =IF(DSSM!$D24+DSSM!$E24>0,"PS","-") -> #NAME?
A25: =IF($B25<>"",MAX($A$6:$A24)+1,0) -> 0 | D25: =DSSALEMAN? -> #NAME? | E25: =TTSM? -> #NAME? | H25: =IF(DSSM!$D25>0,ROUND(DSSM!$D25*100/DSSM!$F25,1),"")&" -- "&IF(DSSM!$E25>0,ROUND(DSSM!$E25*100/DSSM!$G25,1),"") -> #NAME? | I25: =IF(DSSM!$D25+DSSM!$E25>0,"PS","-") -> #NAME?
A26: =IF($B26<>"",MAX($A$6:$A25)+1,0) -> 0 | D26: =DSSALEMAN? -> #NAME? | E26: =TTSM? -> #NAME? | H26: =IF(DSSM!$D26>0,ROUND(DSSM!$D26*100/DSSM!$F26,1),"")&" -- "&IF(DSSM!$E26>0,ROUND(DSSM!$E26*100/DSSM!$G26,1),"") -> #NAME? | I26: =IF(DSSM!$D26+DSSM!$E26>0,"PS","-") -> #NAME?
A27: =IF($B27<>"",MAX($A$6:$A26)+1,0) -> 0 | D27: =DSSALEMAN? -> #NAME? | E27: =TTSM? -> #NAME? | H27: =IF(DSSM!$D27>0,ROUND(DSSM!$D27*100/DSSM!$F27,1),"")&" -- "&IF(DSSM!$E27>0,ROUND(DSSM!$E27*100/DSSM!$G27,1),"") -> #NAME? | I27: =IF(DSSM!$D27+DSSM!$E27>0,"PS","-") -> #NAME?
A28: =IF($B28<>"",MAX($A$6:$A27)+1,0) -> 0 | D28: =DSSALEMAN? -> #NAME? | E28: =TTSM? -> #NAME? | H28: =IF(DSSM!$D28>0,ROUND(DSSM!$D28*100/DSSM!$F28,1),"")&" -- "&IF(DSSM!$E28>0,ROUND(DSSM!$E28*100/DSSM!$G28,1),"") -> #NAME? | I28: =IF(DSSM!$D28+DSSM!$E28>0,"PS","-") -> #NAME?
A29: =IF($B29<>"",MAX($A$6:$A28)+1,0) -> 0 | D29: =DSSALEMAN? -> #NAME? | E29: =TTSM? -> #NAME? | H29: =IF(DSSM!$D29>0,ROUND(DSSM!$D29*100/DSSM!$F29,1),"")&" -- "&IF(DSSM!$E29>0,ROUND(DSSM!$E29*100/DSSM!$G29,1),"") -> #NAME? | I29: =IF(DSSM!$D29+DSSM!$E29>0,"PS","-") -> #NAME?
A30: =IF($B30<>"",MAX($A$6:$A29)+1,0) -> 0 | D30: =DSSALEMAN? -> #NAME? | E30: =TTSM? -> #NAME? | H30: =IF(DSSM!$D30>0,ROUND(DSSM!$D30*100/DSSM!$F30,1),"")&" -- "&IF(DSSM!$E30>0,ROUND(DSSM!$E30*100/DSSM!$G30,1),"") -> #NAME? | I30: =IF(DSSM!$D30+DSSM!$E30>0,"PS","-") -> #NAME?
... A99: =IF($B99<>"",MAX($A$6:$A98)+1,0) -> 0 | D99: =DSSALEMAN? -> #NAME? | E99: =TTSM? -> #NAME? | H99: =IF(DSSM!$D99>0,ROUND(DSSM!$D99*100/DSSM!$F99,1),"")&" -- "&IF(DSSM!$E99>0,ROUND(DSSM!$E99*100/DSSM!$G99,1),"") -> #NAME? | I99: =IF(DSSM!$D99+DSSM!$E99>0,"PS","-") -> #NAME?
A100: =IF($B100<>"",MAX($A$6:$A99)+1,0) -> 0
C101: TỔNG CỘNG | D101: =SUBTOTAL(9,D7:D100) -> #NAME? | E101: =SUBTOTAL(9,E7:E100) -> #NAME? | F101: =SUBTOTAL(9,F7:F100) -> 43890 | G101: =SUBTOTAL(9,G7:G100) -> 12925 | I101: PS
D102: =IF(DSSM!$E$5="",SUMPRODUCT(DKNAMMB?*("KH"=LOAI1)*ST1),SUMPRODUCT(DKNAMMB?*DKTHANGMB1?*("KH"=LOAI1)*ST1)) -> #NAME? | E102: =IF(DSSM!$E$5="",SUMPRODUCT(DKNAMMB?*("KH"=LOAI1)*TRANGAY)+SUMPRODUCT(DKNAMTT?*("KH"=LOAI2)*ST2),SUMPRODUCT(DKNAMMB?*DKTHANGMB1?*("KH"=LOAI1)*TRANGAY)+SUMPRODUCT(DKNAMTT?*DKTHANGTT1?*("KH"=LOAI2)*ST2)) -> #NAME?
D103: =D101-D102 -> #NAME? | E103: =E101-E102 -> #NAME?

Sheet DSKH
A1: ="DANH SÁCH KHÁCH HÀNG VÀ NHÀ CUNG CẤP NĂM "&NAM -> DANH SÁCH KHÁCH HÀNG VÀ NHÀ CUNG CẤP NĂM 2008
A2: HD
A3: =MAX(A7:A300) -> 31 | C3: =IF(SUM(F303:R303)<>0,"SAI","-") -> #NAME? | F3: =F301 -> #NAME? | G3: =G301 -> #NAME? | H3: =H301 -> #NAME? | I3: =I301 -> #NAME? | J3: =J301 -> #NAME? | K3: =IF(MIN(J7:J300)<0,"SAI","-") -> #NAME? | L3: =L301 -> #NAME? | M3: =M301 -> #NAME? | N3: =N301 -> #NAME? | O3: =O301 -> #NAME? | P3: =P301 -> #NAME? | Q3: =Q301 -> #NAME? | R3: =R301 -> #NAME? | S3: =S301 -> 3300 | ... AD3: =AD301 -> 0
A4: STT | B4: MKH | C4: TÊN KHÁCH HÀNG | D4: LOẠI | E4: MSM | F4: NỢ ĐK | G4: DOANH SỐ | H4: THU TIỀN | I4: CHIẾT KHẤU | J4: NỢ CK | K4: PS | L4: NỢ TRH | M4: NỢ ĐH | N4: CHI TIẾT NỢ QUÁ HẠN | S4: LƯU CHI TIẾT NỢ CUỐI KỲ NĂM 2008
G5: THÁNG : => | H5: 6 | N5: TỔNG NQH | O5: 7N | P5: 14N | Q5: 30N | R5: >30N | S5: THÁNG 1 | T5: THÁNG 2 | U5: THÁNG 3 | V5: THÁNG 4 | W5: THÁNG 5 | X5: THÁNG 6 | Y5: THÁNG 7 | Z5: THÁNG 8 | AA5: THÁNG 9 | AB5: THÁNG 10 | AC5: THÁNG 11 | AD5: THÁNG 12
B6: 2 | C6: 3 | D6: 4 | E6: 5 | F6: 6 | G6: 7 | H6: 8 | I6: 9 | J6: 10 | K6: 11 | L6: 12 | M6: 13 | N6: 14 | O6: 15 | P6: 16 | Q6: 17 | R6: 20 | S6: 21 | T6: 22 | U6: 23 | V6: 24 | W6: 25 | X6: 26 | Y6: 27 | Z6: 28 | AA6: 29 | AB6: 30 | AC6: 31 | AD6: 32
A7: =IF(B7<>"",MAX($A$6:A6)+1,0) -> 1 | B7: BL | C7: Bán Lẻ | D7: KH | E7: CTY | F7: =NDK? -> #NAME? | G7: =DS? -> #NAME? | H7: =TT? -> #NAME? | I7: =CK? -> #NAME? | J7: =NCK? -> #NAME? | K7: =IF(SUM(DSKH!$F7:$I7)>0,"PS","-") -> #NAME? | L7: =NTH? -> #NAME? | M7: =NDH? -> #NAME? | N7: =TNQH? -> #NAME? | O7: =N7? -> #NAME? | P7: =N14? -> #NAME? | Q7: =N30? -> #NAME? | R7: =N31? -> #NAME? | T7: 0 | U7: 0 | V7: 0 | W7: 0
A8: =IF(B8<>"",MAX($A$6:A7)+1,0) -> 2 | B8: A001 | C8: Dương Cúc | D8: KH | E8: HDANH | F8: =NDK? -> #NAME? | G8: =DS? -> #NAME? | H8: =TT? -> #NAME? | I8: =CK? -> #NAME? | J8: =NCK? -> #NAME? | K8: =IF(SUM(DSKH!$F8:$I8)>0,"PS","-") -> #NAME? | L8: =NTH? -> #NAME? | M8: =NDH? -> #NAME? | N8: =TNQH? -> #NAME? | O8: =N8? -> #NAME? | P8: =N15? -> #NAME? | Q8: =N31? -> #NAME? | R8: =N32? -> #NAME? | S8: 1100 | T8: 900 | U8: 900 | V8: 900 | W8: 900
A9: =IF(B9<>"",MAX($A$6:A8)+1,0) -> 3 | B9: A002 | C9: CH Chấn Nam | D9: KH | E9: NLONG | F9: =NDK? -> #NAME? | G9: =DS? -> #NAME? | H9: =TT? -> #NAME? | I9: =CK? -> #NAME? | J9: =NCK? -> #NAME? | K9: =IF(SUM(DSKH!$F9:$I9)>0,"PS","-") -> #NAME? | L9: =NTH? -> #NAME? | M9: =NDH? -> #NAME? | N9: =TNQH? -> #NAME? | O9: =N9? -> #NAME? | P9: =N16? -> #NAME? | Q9: =N32? -> #NAME? | R9: =N33? -> #NAME? | S9: 1200 | T9: 1200 | U9: 400 | V9: 400 | W9: 400
A10: =IF(B10<>"",MAX($A$6:A9)+1,0) -> 4 | B10: A003 | C10: CH Hoàng Phát | D10: KH | E10: NKY | F10: =NDK? -> #NAME? | G10: =DS? -> #NAME? | H10: =TT? -> #NAME? | I10: =CK? -> #NAME? | J10: =NCK? -> #NAME? | K10: =IF(SUM(DSKH!$F10:$I10)>0,"PS","-") -> #NAME? | L10: =NTH? -> #NAME? | M10: =NDH? -> #NAME? | N10: =TNQH? -> #NAME? | O10: =N10? -> #NAME? | P10: =N17? -> #NAME? | Q10: =N33? -> #NAME? | R10: =N34? -> #NAME? | T10: 0 | U10: 0 | V10: 0 | W10: 0
A11: =IF(B11<>"",MAX($A$6:A10)+1,0) -> 5 | B11: A004 | C11: CH Hữu Lộc | D11: KH | E11: HNAM | F11: =NDK? -> #NAME? | G11: =DS? -> #NAME? | H11: =TT? -> #NAME? | I11: =CK? -> #NAME? | J11: =NCK? -> #NAME? | K11: =IF(SUM(DSKH!$F11:$I11)>0,"PS","-") -> #NAME? | L11: =NTH? -> #NAME? | M11: =NDH? -> #NAME? | N11: =TNQH? -> #NAME? | O11: =N11? -> #NAME? | P11: =N18? -> #NAME? | Q11: =N34? -> #NAME? | R11: =N35? -> #NAME? | T11: 1086 | U11: 1086 | V11: 1086 | W11: 1086
A12: =IF(B12<>"",MAX($A$6:A11)+1,0) -> 6 | B12: A005 | C12: CH Huy | D12: KH | E12: TTRANG | F12: =NDK? -> #NAME? | G12: =DS? -> #NAME? | H12: =TT? -> #NAME? | I12: =CK? -> #NAME? | J12: =NCK? -> #NAME? | K12: =IF(SUM(DSKH!$F12:$I12)>0,"PS","-") -> #NAME? | L12: =NTH? -> #NAME? | M12: =NDH? -> #NAME? | N12: =TNQH? -> #NAME? | O12: =N12? -> #NAME? | P12: =N19? -> #NAME? | Q12: =N35? -> #NAME? | R12: =N36? -> #NAME? | S12: 1000 | T12: 800 | U12: 1885 | V12: 1885 | W12: 1885
A13: =IF(B13<>"",MAX($A$6:A12)+1,0) -> 7 | B13: B001 | C13: CH Huỳnh Long II | D13: KH | E13: VSON | F13: =NDK? -> #NAME? | G13: =DS? -> #NAME? | H13: =TT? -> #NAME? | I13: =CK? -> #NAME? | J13: =NCK? -> #NAME? | K13: =IF(SUM(DSKH!$F13:$I13)>0,"PS","-") -> #NAME? | L13: =NTH? -> #NAME? | M13: =NDH? -> #NAME? | N13: =TNQH? -> #NAME? | O13: =N13? -> #NAME? | P13: =N20? -> #NAME? | Q13: =N36? -> #NAME? | R13: =N37? -> #NAME? | V13: 1484 | W13: 1484
A14: =IF(B14<>"",MAX($A$6:A13)+1,0) -> 8 | B14: B002 | C14: CH Huỳnh Tráng | D14: KH | E14: HPHONG | F14: =NDK? -> #NAME? | G14: =DS? -> #NAME? | H14: =TT? -> #NAME? | I14: =CK? -> #NAME? | J14: =NCK? -> #NAME? | K14: =IF(SUM(DSKH!$F14:$I14)>0,"PS","-") -> #NAME? | L14: =NTH? -> #NAME? | M14: =NDH? -> #NAME? | N14: =TNQH? -> #NAME? | O14: =N14? -> #NAME? | P14: =N21? -> #NAME? | Q14: =N37? -> #NAME? | R14: =N38? -> #NAME? | V14: 1183 | W14: 1183
A15: =IF(B15<>"",MAX($A$6:A14)+1,0) -> 9 | B15: B003 | C15: CH Đại Phước Hàng | D15: KH | E15: HSIEU | F15: =NDK? -> #NAME? | G15: =DS? -> #NAME? | H15: =TT? -> #NAME? | I15: =CK? -> #NAME? | J15: =NCK? -> #NAME? | K15: =IF(SUM(DSKH!$F15:$I15)>0,"PS","-") -> #NAME? | L15: =NTH? -> #NAME? | M15: =NDH? -> #NAME? | N15: =TNQH? -> #NAME? | O15: =N15? -> #NAME? | P15: =N22? -> #NAME? | Q15: =N38? -> #NAME? | R15: =N39? -> #NAME? | V15: 1182 | W15: 1182
A16: =IF(B16<>"",MAX($A$6:A15)+1,0) -> 10 | B16: B004 | C16: CH Nguyễn Huệ | D16: KH | E16: HDANH | F16: =NDK? -> #NAME? | G16: =DS? -> #NAME? | H16: =TT? -> #NAME? | I16: =CK? -> #NAME? | J16: =NCK? -> #NAME? | K16: =IF(SUM(DSKH!$F16:$I16)>0,"PS","-") -> #NAME? | L16: =NTH? -> #NAME? | M16: =NDH? -> #NAME? | N16: =TNQH? -> #NAME? | O16: =N16? -> #NAME? | P16: =N23? -> #NAME? | Q16: =N39? -> #NAME? | R16: =N40? -> #NAME? | V16: 0 | W16: 1190
A17: =IF(B17<>"",MAX($A$6:A16)+1,0) -> 11 | B17: B005 | C17: CH Thanh Loan | D17: KH | E17: NLONG | F17: =NDK? -> #NAME? | G17: =DS? -> #NAME? | H17: =TT? -> #NAME? | I17: =CK? -> #NAME? | J17: =NCK? -> #NAME? | K17: =IF(SUM(DSKH!$F17:$I17)>0,"PS","-") -> #NAME? | L17: =NTH? -> #NAME? | M17: =NDH? -> #NAME? | N17: =TNQH? -> #NAME? | O17: =N17? -> #NAME? | P17: =N24? -> #NAME? | Q17: =N40? -> #NAME? | R17: =N41? -> #NAME? | V17: 0 | W17: 1180
A18: =IF(B18<>"",MAX($A$6:A17)+1,0) -> 12 | B18: C001 | C18: CH Thanh Niên II | D18: KH | E18: NKY | F18: =NDK? -> #NAME? | G18: =DS? -> #NAME? | H18: =TT? -> #NAME? | I18: =CK? -> #NAME? | J18: =NCK? -> #NAME? | K18: =IF(SUM(DSKH!$F18:$I18)>0,"PS","-") -> #NAME? | L18: =NTH? -> #NAME? | M18: =NDH? -> #NAME? | N18: =TNQH? -> #NAME? | O18: =N18? -> #NAME? | P18: =N25? -> #NAME? | Q18: =N41? -> #NAME? | R18: =N42? -> #NAME? | V18: 0 | W18: 0
A19: =IF(B19<>"",MAX($A$6:A18)+1,0) -> 13 | B19: C002 | C19: CH Trung Trung | D19: KH | E19: HNAM | F19: =NDK? -> #NAME? | G19: =DS? -> #NAME? | H19: =TT? -> #NAME? | I19: =CK? -> #NAME? | J19: =NCK? -> #NAME? | K19: =IF(SUM(DSKH!$F19:$I19)>0,"PS","-") -> #NAME? | L19: =NTH? -> #NAME? | M19: =NDH? -> #NAME? | N19: =TNQH? -> #NAME? | O19: =N19? -> #NAME? | P19: =N26? -> #NAME? | Q19: =N42? -> #NAME? | R19: =N43? -> #NAME? | V19: 0 | W19: 0
A20: =IF(B20<>"",MAX($A$6:A19)+1,0) -> 14 | B20: C003 | C20: CH Tùng Châu | D20: KH | E20: TTRANG | F20: =NDK? -> #NAME? | G20: =DS? -> #NAME? | H20: =TT? -> #NAME? | I20: =CK? -> #NAME? | J20: =NCK? -> #NAME? | K20: =IF(SUM(DSKH!$F20:$I20)>0,"PS","-") -> #NAME? | L20: =NTH? -> #NAME? | M20: =NDH? -> #NAME? | N20: =TNQH? -> #NAME? | O20: =N20? -> #NAME? | P20: =N27? -> #NAME? | Q20: =N43? -> #NAME? | R20: =N44? -> #NAME? | V20: 0 | W20: -750
A21: =IF(B21<>"",MAX($A$6:A20)+1,0) -> 15 | B21: C004 | C21: CH Vạn Phát | D21: KH | E21: VSON | F21: =NDK? -> #NAME? | G21: =DS? -> #NAME? | H21: =TT? -> #NAME? | I21: =CK? -> #NAME? | J21: =NCK? -> #NAME? | K21: =IF(SUM(DSKH!$F21:$I21)>0,"PS","-") -> #NAME? | L21: =NTH? -> #NAME? | M21: =NDH? -> #NAME? | N21: =TNQH? -> #NAME? | O21: =N21? -> #NAME? | P21: =N28? -> #NAME? | Q21: =N44? -> #NAME? | R21: =N45? -> #NAME? | V21: 0 | W21: 0
A22: =IF(B22<>"",MAX($A$6:A21)+1,0) -> 16 | B22: C005 | C22: CH Thanh Long | D22: KH | E22: HPHONG | F22: =NDK? -> #NAME? | G22: =DS? -> #NAME? | H22: =TT? -> #NAME? | I22: =CK? -> #NAME? | J22: =NCK? -> #NAME? | K22: =IF(SUM(DSKH!$F22:$I22)>0,"PS","-") -> #NAME? | L22: =NTH? -> #NAME? | M22: =NDH? -> #NAME? | N22: =TNQH? -> #NAME? | O22: =N22? -> #NAME? | P22: =N29? -> #NAME? | Q22: =N45? -> #NAME? | R22: =N46? -> #NAME? | V22: 0 | W22: 0
A23: =IF(B23<>"",MAX($A$6:A22)+1,0) -> 17 | B23: D001 | C23: CH Hùng | D23: KH | E23: HSIEU | F23: =NDK? -> #NAME? | G23: =DS? -> #NAME? | H23: =TT? -> #NAME? | I23: =CK? -> #NAME? | J23: =NCK? -> #NAME? | K23: =IF(SUM(DSKH!$F23:$I23)>0,"PS","-") -> #NAME? | L23: =NTH? -> #NAME? | M23: =NDH? -> #NAME? | N23: =TNQH? -> #NAME? | O23: =N23? -> #NAME? | P23: =N30? -> #NAME? | Q23: =N46? -> #NAME? | R23: =N47? -> #NAME? | V23: -400 | W23: -400
A24: =IF(B24<>"",MAX($A$6:A23)+1,0) -> 18 | B24: D002 | C24: CH Vĩnh Phú | D24: KH | E24: VSON | F24: =NDK? -> #NAME? | G24: =DS? -> #NAME? | H24: =TT? -> #NAME? | I24: =CK? -> #NAME? | J24: =NCK? -> #NAME? | K24: =IF(SUM(DSKH!$F24:$I24)>0,"PS","-") -> #NAME? | L24: =NTH? -> #NAME? | M24: =NDH? -> #NAME? | N24: =TNQH? -> #NAME? | O24: =N24? -> #NAME? | P24: =N31? -> #NAME? | Q24: =N47? -> #NAME? | R24: =N48? -> #NAME? | V24: 0 | W24: 0
... A28: =IF(B28<>"",MAX($A$6:A27)+1,0) -> 22 | B28: E001 | C28: Cty Tài Phong | D28: KH | E28: NLONG | F28: =NDK? -> #NAME? | G28: =DS? -> #NAME? | H28: =TT? -> #NAME? | I28: =CK? -> #NAME? | J28: =NCK? -> #NAME? | K28: =IF(SUM(DSKH!$F28:$I28)>0,"PS","-") -> #NAME? | L28: =NTH? -> #NAME? | M28: =NDH? -> #NAME? | N28: =TNQH? -> #NAME? | O28: =N28? -> #NAME? | P28: =N35? -> #NAME? | Q28: =N51? -> #NAME? | R28: =N52? -> #NAME? | V28: -500 | W28: -500
A29: =IF(B29<>"",MAX($A$6:A28)+1,0) -> 23 | B29: E002 | C29: DNTN An Tánh | D29: KH | E29: NKY | F29: =NDK? -> #NAME? | G29: =DS? -> #NAME? | H29: =TT? -> #NAME? | I29: =CK? -> #NAME? | J29: =NCK? -> #NAME? | K29: =IF(SUM(DSKH!$F29:$I29)>0,"PS","-") -> #NAME? | L29: =NTH? -> #NAME? | M29: =NDH? -> #NAME? | N29: =TNQH? -> #NAME? | O29: =N29? -> #NAME? | P29: =N36? -> #NAME? | Q29: =N52? -> #NAME? | R29: =N53? -> #NAME?
A30: =IF(B30<>"",MAX($A$6:A29)+1,0) -> 24 | B30: E003 | C30: DNTN Đức Ký | D30: KH | E30: HPHONG | F30: =NDK? -> #NAME? | G30: =DS? -> #NAME? | H30: =TT? -> #NAME? | I30: =CK? -> #NAME? | J30: =NCK? -> #NAME? | K30: =IF(SUM(DSKH!$F30:$I30)>0,"PS","-") -> #NAME? | L30: =NTH? -> #NAME? | M30: =NDH? -> #NAME? | N30: =TNQH? -> #NAME? | O30: =N30? -> #NAME? | P30: =N37? -> #NAME? | Q30: =N53? -> #NAME? | R30: =N54? -> #NAME?
A31: =IF(B31<>"",MAX($A$6:A30)+1,0) -> 25 | B31: E004 | C31: DNTN Đức Quang | D31: KH | E31: HSIEU | F31: =NDK? -> #NAME? | G31: =DS? -> #NAME? | H31: =TT? -> #NAME? | I31: =CK? -> #NAME? | J31: =NCK? -> #NAME? | K31: =IF(SUM(DSKH!$F31:$I31)>0,"PS","-") -> #NAME? | L31: =NTH? -> #NAME? | M31: =NDH? -> #NAME? | N31: =TNQH? -> #NAME? | O31: =N31? -> #NAME? | P31: =N38? -> #NAME? | Q31: =N54? -> #NAME? | R31: =N55? -> #NAME?
A32: =IF(B32<>"",MAX($A$6:A31)+1,0) -> 26 | B32: E005 | C32: ĐM Quang | D32: KH | E32: VSON | F32: =NDK? -> #NAME? | G32: =DS? -> #NAME? | H32: =TT? -> #NAME? | I32: =CK? -> #NAME? | J32: =NCK? -> #NAME? | K32: =IF(SUM(DSKH!$F32:$I32)>0,"PS","-") -> #NAME? | L32: =NTH? -> #NAME? | M32: =NDH? -> #NAME? | N32: =TNQH? -> #NAME? | O32: =N32? -> #NAME? | P32: =N39? -> #NAME? | Q32: =N55? -> #NAME? | R32: =N56? -> #NAME?
A33: =IF(B33<>"",MAX($A$6:A32)+1,0) -> 27 | B33: E006 | C33: CH Thanh Liêm | D33: KH | E33: HPHONG | F33: =NDK? -> #NAME? | G33: =DS? -> #NAME? | H33: =TT? -> #NAME? | I33: =CK? -> #NAME? | J33: =NCK? -> #NAME? | K33: =IF(SUM(DSKH!$F33:$I33)>0,"PS","-") -> #NAME? | L33: =NTH? -> #NAME? | M33: =NDH? -> #NAME? | N33: =TNQH? -> #NAME? | O33: =N33? -> #NAME? | P33: =N40? -> #NAME? | Q33: =N56? -> #NAME? | R33: =N57? -> #NAME?
A34: =IF(B34<>"",MAX($A$6:A33)+1,0) -> 28 | B34: H001 | C34: Cty TNHH Quang Thanh | D34: NCC | E34: CTY | F34: =NDK? -> #NAME? | G34: =DS? -> #NAME? | H34: =TT? -> #NAME? | I34: =CK? -> #NAME? | J34: =NCK? -> #NAME? | K34: =IF(SUM(DSKH!$F34:$I34)>0,"PS","-") -> #NAME? | L34: =NTH? -> #NAME? | M34: =NDH? -> #NAME? | N34: =TNQH? -> #NAME? | O34: =N34? -> #NAME? | P34: =N41? -> #NAME? | Q34: =N57? -> #NAME? | R34: =N58? -> #NAME?
A35: =IF(B35<>"",MAX($A$6:A34)+1,0) -> 29 | B35: H002 | C35: CH ĐM Thông | D35: NCC | E35: CTY | F35: =NDK? -> #NAME? | G35: =DS? -> #NAME? | H35: =TT? -> #NAME? | I35: =CK? -> #NAME? | J35: =NCK? -> #NAME? | K35: =IF(SUM(DSKH!$F35:$I35)>0,"PS","-") -> #NAME? | L35: =NTH? -> #NAME? | M35: =NDH? -> #NAME? | N35: =TNQH? -> #NAME? | O35: =N35? -> #NAME? | P35: =N42? -> #NAME? | Q35: =N58? -> #NAME? | R35: =N59? -> #NAME?
A36: =IF(B36<>"",MAX($A$6:A35)+1,0) -> 30 | B36: H003 | C36: Cty CP Hùng Anh | D36: NCC | E36: CTY | F36: =NDK? -> #NAME? | G36: =DS? -> #NAME? | H36: =TT? -> #NAME? | I36: =CK? -> #NAME? | J36: =NCK? -> #NAME? | K36: =IF(SUM(DSKH!$F36:$I36)>0,"PS","-") -> #NAME? | L36: =NTH? -> #NAME? | M36: =NDH? -> #NAME? | N36: =TNQH? -> #NAME? | O36: =N36? -> #NAME? | P36: =N43? -> #NAME? | Q36: =N59? -> #NAME? | R36: =N60? -> #NAME?
A37: =IF(B37<>"",MAX($A$6:A36)+1,0) -> 31 | B37: BL1 | C37: Bán Lẻ - Hoàng Danh | D37: KH | E37: HDANH | F37: =NDK? -> #NAME? | G37: =DS? -> #NAME? | H37: =TT? -> #NAME? | I37: =CK? -> #NAME? | J37: =NCK? -> #NAME? | K37: =IF(SUM(DSKH!$F37:$I37)>0,"PS","-") -> #NAME? | L37: =NTH? -> #NAME? | M37: =NDH? -> #NAME? | N37: =TNQH? -> #NAME? | O37: =N37? -> #NAME? | P37: =N44? -> #NAME? | Q37: =N60? -> #NAME? | R37: =N61? -> #NAME?
A38: =IF(B38<>"",MAX($A$6:A37)+1,0) -> 0 | F38: =NDK? -> #NAME? | G38: =DS? -> #NAME? | H38: =TT? -> #NAME? | I38: =CK? -> #NAME? | J38: =NCK? -> #NAME? | K38: =IF(SUM(DSKH!$F38:$I38)>0,"PS","-") -> #NAME? | L38: =NTH? -> #NAME? | M38: =NDH? -> #NAME? | N38: =TNQH? -> #NAME? | O38: =N38? -> #NAME? | P38: =N45? -> #NAME? | Q38: =N61? -> #NAME? | R38: =N62? -> #NAME?
A39: =IF(B39<>"",MAX($A$6:A38)+1,0) -> 0 | F39: =NDK? -> #NAME? | G39: =DS? -> #NAME? | H39: =TT? -> #NAME? | I39: =CK? -> #NAME? | J39: =NCK? -> #NAME? | K39: =IF(SUM(DSKH!$F39:$I39)>0,"PS","-") -> #NAME? | L39: =NTH? -> #NAME? | M39: =NDH? -> #NAME? | N39: =TNQH? -> #NAME? | O39: =N39? -> #NAME? | P39: =N46? -> #NAME? | Q39: =N62? -> #NAME? | R39: =N63? -> #NAME?
A40: =IF(B40<>"",MAX($A$6:A39)+1,0) -> 0 | F40: =NDK? -> #NAME? | G40: =DS? -> #NAME? | H40: =TT? -> #NAME? | I40: =CK? -> #NAME? | J40: =NCK? -> #NAME? | K40: =IF(SUM(DSKH!$F40:$I40)>0,"PS","-") -> #NAME? | L40: =NTH? -> #NAME? | M40: =NDH? -> #NAME? | N40: =TNQH? -> #NAME? | O40: =N40? -> #NAME? | P40: =N47? -> #NAME? | Q40: =N63? -> #NAME? | R40: =N64? -> #NAME?
A41: =IF(B41<>"",MAX($A$6:A40)+1,0) -> 0 | F41: =NDK? -> #NAME? | G41: =DS? -> #NAME? | H41: =TT? -> #NAME? | I41: =CK? -> #NAME? | J41: =NCK? -> #NAME? | K41: =IF(SUM(DSKH!$F41:$I41)>0,"PS","-") -> #NAME? | L41: =NTH? -> #NAME? | M41: =NDH? -> #NAME? | N41: =TNQH? -> #NAME? | O41: =N41? -> #NAME? | P41: =N48? -> #NAME? | Q41: =N64? -> #NAME? | R41: =N65? -> #NAME?
A42: =IF(B42<>"",MAX($A$6:A41)+1,0) -> 0 | F42: =NDK? -> #NAME? | G42: =DS? -> #NAME? | H42: =TT? -> #NAME? | I42: =CK? -> #NAME? | J42: =NCK? -> #NAME? | K42: =IF(SUM(DSKH!$F42:$I42)>0,"PS","-") -> #NAME? | L42: =NTH? -> #NAME? | M42: =NDH? -> #NAME? | N42: =TNQH? -> #NAME? | O42: =N42? -> #NAME? | P42: =N49? -> #NAME? | Q42: =N65? -> #NAME? | R42: =N66? -> #NAME?
A43: =IF(B43<>"",MAX($A$6:A42)+1,0) -> 0 | F43: =NDK? -> #NAME? | G43: =DS? -> #NAME? | H43: =TT? -> #NAME? | I43: =CK? -> #NAME? | J43: =NCK? -> #NAME? | K43: =IF(SUM(DSKH!$F43:$I43)>0,"PS","-") -> #NAME? | L43: =NTH? -> #NAME? | M43: =NDH? -> #NAME? | N43: =TNQH? -> #NAME? | O43: =N43? -> #NAME? | P43: =N50? -> #NAME? | Q43: =N66? -> #NAME? | R43: =N67? -> #NAME?
...

Sheet NKMB
A1: ="NHẬT KÝ MUA - BÁN HÀNG HÓA NĂM "&NAM -> NHẬT KÝ MUA - BÁN HÀNG HÓA NĂM 2008
A2: HD
A3: =MAX(A7:A1000) -> 30 | C3: =IF(OR(N1001-NKTT!J501<>0,K1001-L1001-M1001-N1001-O1001<>0),"SAI","-") -> #NAME? | F3: =NOW() -> 45798.357 | K3: =K1001 -> 73500 | L3: =L1001 -> 693 | M3: =M1001 -> 18363 | N3: =N1001 -> #NAME? | O3: =O1001 -> #NAME? | P3: =MAX(P7:P1000) -> #NAME?
A4: STT | B4: CT | C4: NGÀY | D4: MĐH | E4: MKH | F4: TÊN KHÁCH HÀNG | G4: LOẠI | H4: MSM | I4: DIỄN GẢI | J4: TH TT | K4: SỐ TIỀN | L4: CK | M4: THANH TOÁN | O4: NỢ CÒN LẠI | P4: TG QH | Q4: LỌC
M5: TRẢ NGAY | N5: TRẢ SAU | Q5: NĂM | R5: THÁNG | S5: NGÀY
B6: 2 | C6: 3 | D6: 4 | E6: 5 | F6: 6 | G6: 7 | H6: 8 | I6: 9 | J6: 10 | K6: 11 | L6: 12 | M6: 13 | N6: 14 | O6: 15 | P6: 16 | Q6: 17 | R6: 18 | S6: 19
A7: =IF(B7<>"",MAX($A$6:A6)+1,0) -> 1 | B7: 12345 | C7: 39407 | D7: =MDH1? -> #NAME? | E7: A005 | F7: =TKH1? -> #NAME? | G7: =L1? -> #NAME? | H7: =MSM1? -> #NAME? | J7: 90 | K7: 1000 | N7: =TRASAU? -> #NAME? | O7: =NCL? -> #NAME? | P7: =TGQH? -> #NAME? | Q7: =IF(C7<>"",YEAR(C7),"-") -> 2007 | R7: =IF(C7<>"",MONTH(C7),"-") -> 11 | S7: =IF(C7<>"",DAY(C7),"-") -> 21
A8: =IF(B8<>"",MAX($A$6:A7)+1,0) -> 2 | B8: 67891 | C8: 39428 | D8: =MDH2? -> #NAME? | E8: A001 | F8: =TKH2? -> #NAME? | G8: =L2? -> #NAME? | H8: =MSM2? -> #NAME? | J8: 80 | K8: 1100 | N8: =TRASAU? -> #NAME? | O8: =NCL? -> #NAME? | P8: =TGQH? -> #NAME? | Q8: =IF(C8<>"",YEAR(C8),"-") -> 2007 | R8: =IF(C8<>"",MONTH(C8),"-") -> 12 | S8: =IF(C8<>"",DAY(C8),"-") -> 12
A9: =IF(B9<>"",MAX($A$6:A8)+1,0) -> 3 | B9: 1111 | C9: 39447 | D9: =MDH3? -> #NAME? | E9: A002 | F9: =TKH3? -> #NAME? | G9: =L3? -> #NAME? | H9: =MSM3? -> #NAME? | J9: 60 | K9: 1200 | N9: =TRASAU? -> #NAME? | O9: =NCL? -> #NAME? | P9: =TGQH? -> #NAME? | Q9: =IF(C9<>"",YEAR(C9),"-") -> 2007 | R9: =IF(C9<>"",MONTH(C9),"-") -> 12 | S9: =IF(C9<>"",DAY(C9),"-") -> 31
A10: =IF(B10<>"",MAX($A$6:A9)+1,0) -> 4 | B10: 1112 | C10: 39451 | D10: =MDH4? -> #NAME? | E10: BL | F10: =TKH4? -> #NAME? | G10: =L4? -> #NAME? | H10: =MSM4? -> #NAME? | I10: Nguyễn Thị Lan Anh | J10: 16 | K10: 1300 | L10: 13 | M10: 1287 | N10: =TRASAU? -> #NAME? | O10: =NCL? -> #NAME? | P10: =TGQH? -> #NAME? | Q10: =IF(C10<>"",YEAR(C10),"-") -> 2008 | R10: =IF(C10<>"",MONTH(C10),"-") -> 1 | S10: =IF(C10<>"",DAY(C10),"-") -> 4
A11: =IF(B11<>"",MAX($A$6:A10)+1,0) -> 5 | B11: 1113 | C11: 39452 | D11: =MDH5? -> #NAME? | E11: A004 | F11: =TKH5? -> #NAME? | G11: =L5? -> #NAME? | H11: =MSM5? -> #NAME? | J11: 85 | K11: 1400 | L11: 14 | M11: 300 | N11: =TRASAU? -> #NAME? | O11: =NCL? -> #NAME? | P11: =TGQH? -> #NAME? | Q11: =IF(C11<>"",YEAR(C11),"-") -> 2008 | R11: =IF(C11<>"",MONTH(C11),"-") -> 1 | S11: =IF(C11<>"",DAY(C11),"-") -> 5
A12: =IF(B12<>"",MAX($A$6:A11)+1,0) -> 6 | B12: 1114 | C12: 39484 | D12: =MDH6? -> #NAME? | E12: A005 | F12: =TKH6? -> #NAME? | G12: =L6? -> #NAME? | H12: =MSM6? -> #NAME? | J12: 12 | K12: 1500 | L12: 15 | M12: 400 | N12: =TRASAU? -> #NAME? | O12: =NCL? -> #NAME? | P12: =TGQH? -> #NAME? | Q12: =IF(C12<>"",YEAR(C12),"-") -> 2008 | R12: =IF(C12<>"",MONTH(C12),"-") -> 2 | S12: =IF(C12<>"",DAY(C12),"-") -> 6
A13: =IF(B13<>"",MAX($A$6:A12)+1,0) -> 7 | B13: 1115 | C13: 39514 | D13: =MDH7? -> #NAME? | E13: B001 | F13: =TKH7? -> #NAME? | G13: =L7? -> #NAME? | H13: =MSM7? -> #NAME? | J13: 5 | K13: 1600 | L13: 16 | M13: 100 | N13: =TRASAU? -> #NAME? | O13: =NCL? -> #NAME? | P13: =TGQH? -> #NAME? | Q13: =IF(C13<>"",YEAR(C13),"-") -> 2008 | R13: =IF(C13<>"",MONTH(C13),"-") -> 3 | S13: =IF(C13<>"",DAY(C13),"-") -> 7
A14: =IF(B14<>"",MAX($A$6:A13)+1,0) -> 8 | B14: 1116 | C14: 39515 | D14: =MDH8? -> #NAME? | E14: B002 | F14: =TKH8? -> #NAME? | G14: =L8? -> #NAME? | H14: =MSM8? -> #NAME? | J14: 22 | K14: 1700 | L14: 17 | M14: 500 | N14: =TRASAU? -> #NAME? | O14: =NCL? -> #NAME? | P14: =TGQH? -> #NAME? | Q14: =IF(C14<>"",YEAR(C14),"-") -> 2008 | R14: =IF(C14<>"",MONTH(C14),"-") -> 3 | S14: =IF(C14<>"",DAY(C14),"-") -> 8
A15: =IF(B15<>"",MAX($A$6:A14)+1,0) -> 9 | B15: 1117 | C15: 39516 | D15: =MDH9? -> #NAME? | E15: B003 | F15: =TKH9? -> #NAME? | G15: =L9? -> #NAME? | H15: =MSM9? -> #NAME? | J15: 6 | K15: 1800 | L15: 18 | M15: 600 | N15: =TRASAU? -> #NAME? | O15: =NCL? -> #NAME? | P15: =TGQH? -> #NAME? | Q15: =IF(C15<>"",YEAR(C15),"-") -> 2008 | R15: =IF(C15<>"",MONTH(C15),"-") -> 3 | S15: =IF(C15<>"",DAY(C15),"-") -> 9
A16: =IF(B16<>"",MAX($A$6:A15)+1,0) -> 10 | B16: 1118 | C16: 39548 | D16: =MDH10? -> #NAME? | E16: B004 | F16: =TKH10? -> #NAME? | G16: =L10? -> #NAME? | H16: =MSM10? -> #NAME? | J16: 4 | K16: 1900 | L16: 10 | M16: 700 | N16: =TRASAU? -> #NAME? | O16: =NCL? -> #NAME? | P16: =TGQH? -> #NAME? | Q16: =IF(C16<>"",YEAR(C16),"-") -> 2008 | R16: =IF(C16<>"",MONTH(C16),"-") -> 4 | S16: =IF(C16<>"",DAY(C16),"-") -> 10
A17: =IF(B17<>"",MAX($A$6:A16)+1,0) -> 11 | B17: 1119 | C17: 39549 | D17: =MDH11? -> #NAME? | E17: B005 | F17: =TKH11? -> #NAME? | G17: =L11? -> #NAME? | H17: =MSM11? -> #NAME? | J17: 2 | K17: 2000 | L17: 20 | M17: 800 | N17: =TRASAU? -> #NAME? | O17: =NCL? -> #NAME? | P17: =TGQH? -> #NAME? | Q17: =IF(C17<>"",YEAR(C17),"-") -> 2008 | R17: =IF(C17<>"",MONTH(C17),"-") -> 4 | S17: =IF(C17<>"",DAY(C17),"-") -> 11
A18: =IF(B18<>"",MAX($A$6:A17)+1,0) -> 12 | B18: 1120 | C18: 39580 | D18: =MDH12? -> #NAME? | E18: C001 | F18: =TKH12? -> #NAME? | G18: =L12? -> #NAME? | H18: =MSM12? -> #NAME? | J18: 4 | K18: 2100 | L18: 21 | M18: 200 | N18: =TRASAU? -> #NAME? | O18: =NCL? -> #NAME? | P18: =TGQH? -> #NAME? | Q18: =IF(C18<>"",YEAR(C18),"-") -> 2008 | R18: =IF(C18<>"",MONTH(C18),"-") -> 5 | S18: =IF(C18<>"",DAY(C18),"-") -> 12
A19: =IF(B19<>"",MAX($A$6:A18)+1,0) -> 13 | B19: 1121 | C19: 39581 | D19: =MDH13? -> #NAME? | E19: C002 | F19: =TKH13? -> #NAME? | G19: =L13? -> #NAME? | H19: =MSM13? -> #NAME? | J19: 6 | K19: 2200 | L19: 22 | M19: 900 | N19: =TRASAU? -> #NAME? | O19: =NCL? -> #NAME? | P19: =TGQH? -> #NAME? | Q19: =IF(C19<>"",YEAR(C19),"-") -> 2008 | R19: =IF(C19<>"",MONTH(C19),"-") -> 5 | S19: =IF(C19<>"",DAY(C19),"-") -> 13
A20: =IF(B20<>"",MAX($A$6:A19)+1,0) -> 14 | B20: 1122 | C20: 39582 | D20: =MDH14? -> #NAME? | E20: C003 | F20: =TKH14? -> #NAME? | G20: =L14? -> #NAME? | H20: =MSM14? -> #NAME? | J20: 10 | K20: 2300 | L20: 23 | M20: 1000 | N20: =TRASAU? -> #NAME? | O20: =NCL? -> #NAME? | P20: =TGQH? -> #NAME? | Q20: =IF(C20<>"",YEAR(C20),"-") -> 2008 | R20: =IF(C20<>"",MONTH(C20),"-") -> 5 | S20: =IF(C20<>"",DAY(C20),"-") -> 14
A21: =IF(B21<>"",MAX($A$6:A20)+1,0) -> 15 | B21: 1123 | C21: 39614 | D21: =MDH15? -> #NAME? | E21: BL1 | F21: =TKH15? -> #NAME? | G21: =L15? -> #NAME? | H21: =MSM15? -> #NAME? | I21: Lê Thị Thu | J21: 10 | K21: 2400 | L21: 24 | M21: 2376 | N21: =TRASAU? -> #NAME? | O21: =NCL? -> #NAME? | P21: =TGQH? -> #NAME? | Q21: =IF(C21<>"",YEAR(C21),"-") -> 2008 | R21: =IF(C21<>"",MONTH(C21),"-") -> 6 | S21: =IF(C21<>"",DAY(C21),"-") -> 15
A22: =IF(B22<>"",MAX($A$6:A21)+1,0) -> 16 | B22: 1124 | C22: 39615 | D22: =MDH16? -> #NAME? | E22: C005 | F22: =TKH16? -> #NAME? | G22: =L16? -> #NAME? | H22: =MSM16? -> #NAME? | J22: 12 | K22: 2500 | L22: 25 | M22: 1200 | N22: =TRASAU? -> #NAME? | O22: =NCL? -> #NAME? | P22: =TGQH? -> #NAME? | Q22: =IF(C22<>"",YEAR(C22),"-") -> 2008 | R22: =IF(C22<>"",MONTH(C22),"-") -> 6 | S22: =IF(C22<>"",DAY(C22),"-") -> 16
A23: =IF(B23<>"",MAX($A$6:A22)+1,0) -> 17 | B23: 1125 | C23: 39616 | D23: =MDH17? -> #NAME? | E23: D001 | F23: =TKH17? -> #NAME? | G23: =L17? -> #NAME? | H23: =MSM17? -> #NAME? | J23: 14 | K23: 2600 | L23: 26 | M23: 1300 | N23: =TRASAU? -> #NAME? | O23: =NCL? -> #NAME? | P23: =TGQH? -> #NAME? | Q23: =IF(C23<>"",YEAR(C23),"-") -> 2008 | R23: =IF(C23<>"",MONTH(C23),"-") -> 6 | S23: =IF(C23<>"",DAY(C23),"-") -> 17
A24: =IF(B24<>"",MAX($A$6:A23)+1,0) -> 18 | B24: 1126 | C24: 39647 | D24: =MDH18? -> #NAME? | E24: D002 | F24: =TKH18? -> #NAME? | G24: =L18? -> #NAME? | H24: =MSM18? -> #NAME? | J24: 16 | K24: 2700 | L24: 27 | M24: 500 | N24: =TRASAU? -> #NAME? | O24: =NCL? -> #NAME? | P24: =TGQH? -> #NAME? | Q24: =IF(C24<>"",YEAR(C24),"-") -> 2008 | R24: =IF(C24<>"",MONTH(C24),"-") -> 7 | S24: =IF(C24<>"",DAY(C24),"-") -> 18
A25: =IF(B25<>"",MAX($A$6:A24)+1,0) -> 19 | B25: 1127 | C25: 39648 | D25: =MDH19? -> #NAME? | E25: D003 | F25: =TKH19? -> #NAME? | G25: =L19? -> #NAME? | H25: =MSM19? -> #NAME? | J25: 18 | K25: 2800 | L25: 28 | M25: 100 | N25: =TRASAU? -> #NAME? | O25: =NCL? -> #NAME? | P25: =TGQH? -> #NAME? | Q25: =IF(C25<>"",YEAR(C25),"-") -> 2008 | R25: =IF(C25<>"",MONTH(C25),"-") -> 7 | S25: =IF(C25<>"",DAY(C25),"-") -> 19
A26: =IF(B26<>"",MAX($A$6:A25)+1,0) -> 20 | B26: 1128 | C26: 39680 | D26: =MDH20? -> #NAME? | E26: D004 | F26: =TKH20? -> #NAME? | G26: =L20? -> #NAME? | H26: =MSM20? -> #NAME? | J26: 20 | K26: 2900 | L26: 29 | M26: 200 | N26: =TRASAU? -> #NAME? | O26: =NCL? -> #NAME? | P26: =TGQH? -> #NAME? | Q26: =IF(C26<>"",YEAR(C26),"-") -> 2008 | R26: =IF(C26<>"",MONTH(C26),"-") -> 8 | S26: =IF(C26<>"",DAY(C26),"-") -> 20
A27: =IF(B27<>"",MAX($A$6:A26)+1,0) -> 21 | B27: 1129 | C27: 39712 | D27: =MDH21? -> #NAME? | E27: D005 | F27: =TKH21? -> #NAME? | G27: =L21? -> #NAME? | H27: =MSM21? -> #NAME? | J27: 22 | K27: 3000 | L27: 30 | M27: 300 | N27: =TRASAU? -> #NAME? | O27: =NCL? -> #NAME? | P27: =TGQH? -> #NAME? | Q27: =IF(C27<>"",YEAR(C27),"-") -> 2008 | R27: =IF(C27<>"",MONTH(C27),"-") -> 9 | S27: =IF(C27<>"",DAY(C27),"-") -> 21
A28: =IF(B28<>"",MAX($A$6:A27)+1,0) -> 22 | B28: 1130 | C28: 39713 | D28: =MDH22? -> #NAME? | E28: E001 | F28: =TKH22? -> #NAME? | G28: =L22? -> #NAME? | H28: =MSM22? -> #NAME? | J28: 24 | K28: 3100 | L28: 31 | M28: 400 | N28: =TRASAU? -> #NAME? | O28: =NCL? -> #NAME? | P28: =TGQH? -> #NAME? | Q28: =IF(C28<>"",YEAR(C28),"-") -> 2008 | R28: =IF(C28<>"",MONTH(C28),"-") -> 9 | S28: =IF(C28<>"",DAY(C28),"-") -> 22
A29: =IF(B29<>"",MAX($A$6:A28)+1,0) -> 23 | B29: 1131 | C29: 39714 | D29: =MDH23? -> #NAME? | E29: E002 | F29: =TKH23? -> #NAME? | G29: =L23? -> #NAME? | H29: =MSM23? -> #NAME? | J29: 26 | K29: 3200 | L29: 32 | M29: 500 | N29: =TRASAU? -> #NAME? | O29: =NCL? -> #NAME? | P29: =TGQH? -> #NAME? | Q29: =IF(C29<>"",YEAR(C29),"-") -> 2008 | R29: =IF(C29<>"",MONTH(C29),"-") -> 9 | S29: =IF(C29<>"",DAY(C29),"-") -> 23
A30: =IF(B30<>"",MAX($A$6:A29)+1,0) -> 24 | B30: 1132 | C30: 39715 | D30: =MDH24? -> #NAME? | E30: E003 | F30: =TKH24? -> #NAME? | G30: =L24? -> #NAME? | H30: =MSM24? -> #NAME? | J30: 27 | K30: 3300 | L30: 33 | M30: 600 | N30: =TRASAU? -> #NAME? | O30: =NCL? -> #NAME? | P30: =TGQH? -> #NAME? | Q30: =IF(C30<>"",YEAR(C30),"-") -> 2008 | R30: =IF(C30<>"",MONTH(C30),"-") -> 9 | S30: =IF(C30<>"",DAY(C30),"-") -> 24
A31: =IF(B31<>"",MAX($A$6:A30)+1,0) -> 25 | B31: 1133 | C31: 39746 | D31: =MDH25? -> #NAME? | E31: E004 | F31: =TKH25? -> #NAME? | G31: =L25? -> #NAME? | H31: =MSM25? -> #NAME? | J31: 30 | K31: 3400 | L31: 34 | M31: 700 | N31: =TRASAU? -> #NAME? | O31: =NCL? -> #NAME? | P31: =TGQH? -> #NAME? | Q31: =IF(C31<>"",YEAR(C31),"-") -> 2008 | R31: =IF(C31<>"",MONTH(C31),"-") -> 10 | S31: =IF(C31<>"",DAY(C31),"-") -> 25
A32: =IF(B32<>"",MAX($A$6:A31)+1,0) -> 26 | B32: 1134 | C32: 39747 | D32: =MDH26? -> #NAME? | E32: E005 | F32: =TKH26? -> #NAME? | G32: =L26? -> #NAME? | H32: =MSM26? -> #NAME? | J32: 32 | K32: 3500 | L32: 35 | M32: 800 | N32: =TRASAU? -> #NAME? | O32: =NCL? -> #NAME? | P32: =TGQH? -> #NAME? | Q32: =IF(C32<>"",YEAR(C32),"-") -> 2008 | R32: =IF(C32<>"",MONTH(C32),"-") -> 10 | S32: =IF(C32<>"",DAY(C32),"-") -> 26
A33: =IF(B33<>"",MAX($A$6:A32)+1,0) -> 27 | B33: 1135 | C33: 39779 | D33: =MDH27? -> #NAME? | E33: E006 | F33: =TKH27? -> #NAME? | G33: =L27? -> #NAME? | H33: =MSM27? -> #NAME? | J33: 34 | K33: 3600 | L33: 36 | M33: 900 | N33: =TRASAU? -> #NAME? | O33: =NCL? -> #NAME? | P33: =TGQH? -> #NAME? | Q33: =IF(C33<>"",YEAR(C33),"-") -> 2008 | R33: =IF(C33<>"",MONTH(C33),"-") -> 11 | S33: =IF(C33<>"",DAY(C33),"-") -> 27
... A36: =IF(B36<>"",MAX($A$6:A35)+1,0) -> 30 | B36: 1138 | C36: 39812 | D36: =MDH30? -> #NAME? | E36: H003 | F36: =TKH30? -> #NAME? | G36: =L30? -> #NAME? | H36: =MSM30? -> #NAME? | J36: 40 | K36: 3900 | L36: 39 | M36: 400 | N36: =TRASAU? -> #NAME? | O36: =NCL? -> #NAME? | P36: =TGQH? -> #NAME? | Q36: =IF(C36<>"",YEAR(C36),"-") -> 2008 | R36: =IF(C36<>"",MONTH(C36),"-") -> 12 | S36: =IF(C36<>"",DAY(C36),"-") -> 30
A37: =IF(B37<>"",MAX($A$6:A36)+1,0) -> 0 | D37: =MDH31? -> #NAME? | F37: =TKH31? -> #NAME? | G37: =L31? -> #NAME? | H37: =MSM31? -> #NAME? | N37: =TRASAU? -> #NAME? | O37: =NCL? -> #NAME? | P37: =TGQH? -> #NAME? | Q37: =IF(C37<>"",YEAR(C37),"-") -> - | R37: =IF(C37<>"",MONTH(C37),"-") -> - | S37: =IF(C37<>"",DAY(C37),"-") -> -
A38: =IF(B38<>"",MAX($A$6:A37)+1,0) -> 0 | D38: =MDH32? -> #NAME? | F38: =TKH32? -> #NAME? | G38: =L32? -> #NAME? | H38: =MSM32? -> #NAME? | N38: =TRASAU? -> #NAME? | O38: =NCL? -> #NAME? | P38: =TGQH? -> #NAME? | Q38: =IF(C38<>"",YEAR(C38),"-") -> - | R38: =IF(C38<>"",MONTH(C38),"-") -> - | S38: =IF(C38<>"",DAY(C38),"-") -> -
A39: =IF(B39<>"",MAX($A$6:A38)+1,0) -> 0 | D39: =MDH33? -> #NAME? | F39: =TKH33? -> #NAME? | G39: =L33? -> #NAME? | H39: =MSM33? -> #NAME? | N39: =TRASAU? -> #NAME? | O39: =NCL? -> #NAME? | P39: =TGQH? -> #NAME? | Q39: =IF(C39<>"",YEAR(C39),"-") -> - | R39: =IF(C39<>"",MONTH(C39),"-") -> - | S39: =IF(C39<>"",DAY(C39),"-") -> -
A40: =IF(B40<>"",MAX($A$6:A39)+1,0) -> 0 | D40: =MDH34? -> #NAME? | F40: =TKH34? -> #NAME? | G40: =L34? -> #NAME? | H40: =MSM34? -> #NAME? | N40: =TRASAU? -> #NAME? | O40: =NCL? -> #NAME? | P40: =TGQH? -> #NAME? | Q40: =IF(C40<>"",YEAR(C40),"-") -> - | R40: =IF(C40<>"",MONTH(C40),"-") -> - | S40: =IF(C40<>"",DAY(C40),"-") -> -
A41: =IF(B41<>"",MAX($A$6:A40)+1,0) -> 0 | D41: =MDH35? -> #NAME? | F41: =TKH35? -> #NAME? | G41: =L35? -> #NAME? | H41: =MSM35? -> #NAME? | N41: =TRASAU? -> #NAME? | O41: =NCL? -> #NAME? | P41: =TGQH? -> #NAME? | Q41: =IF(C41<>"",YEAR(C41),"-") -> - | R41: =IF(C41<>"",MONTH(C41),"-") -> - | S41: =IF(C41<>"",DAY(C41),"-") -> -
A42: =IF(B42<>"",MAX($A$6:A41)+1,0) -> 0 | D42: =MDH36? -> #NAME? | F42: =TKH36? -> #NAME? | G42: =L36? -> #NAME? | H42: =MSM36? -> #NAME? | N42: =TRASAU? -> #NAME? | O42: =NCL? -> #NAME? | P42: =TGQH? -> #NAME? | Q42: =IF(C42<>"",YEAR(C42),"-") -> - | R42: =IF(C42<>"",MONTH(C42),"-") -> - | S42: =IF(C42<>"",DAY(C42),"-") -> -
...

Sheet NKTT
A1: ="NHẬT KÝ THANH TOÁN NĂM "&NAM -> NHẬT KÝ THANH TOÁN NĂM 2008
A2: HD
A3: =MAX(A7:A500) -> 8 | F3: =NOW() -> 45798.357 | I3: =IF(J3<>NKMB!N3,"SAI : "&FIXED(J3-NKMB!N3,0),"-") -> #NAME? | J3: =J501 -> 3850
A4: STT | B4: CT | C4: NGÀY | D4: MĐH | E4: MKH | F4: TÊN KHÁCH HÀNG | G4: LOẠI | H4: MSM | I4: DIỄN GẢI | J4: SỐ TIỀN | K4: PS | L4: LỌC
L5: NĂM | M5: THÁNG | N5: NGÀY
B6: 2 | C6: 3 | D6: 4 | E6: 5 | F6: 6 | G6: 7 | H6: 8 | I6: 9 | J6: 10 | K6: 11 | L6: 12 | M6: 13 | N6: 14
A7: =IF(B7<>"",MAX($A$6:A6)+1,0) -> 1 | B7: 67891 | C7: 39448 | D7: =MDH2? -> #NAME? | E7: A001 | F7: =TKH2? -> #NAME? | G7: =L2? -> #NAME? | H7: =MSM2? -> #NAME? | J7: 200 | K7: =IF(NKTT!$J7>0,"PS","-") -> PS | L7: =IF(C7<>"",YEAR(C7),"-") -> 2008 | M7: =IF(C7<>"",MONTH(C7),"-") -> 1 | N7: =IF(C7<>"",DAY(C7),"-") -> 1
A8: =IF(B8<>"",MAX($A$6:A7)+1,0) -> 2 | B8: 12345 | C8: 39449 | D8: =MDH3? -> #NAME? | E8: A005 | F8: =TKH3? -> #NAME? | G8: =L3? -> #NAME? | H8: =MSM3? -> #NAME? | J8: 200 | K8: =IF(NKTT!$J8>0,"PS","-") -> PS | L8: =IF(C8<>"",YEAR(C8),"-") -> 2008 | M8: =IF(C8<>"",MONTH(C8),"-") -> 1 | N8: =IF(C8<>"",DAY(C8),"-") -> 2
A9: =IF(B9<>"",MAX($A$6:A8)+1,0) -> 3 | B9: 1111 | C9: 39481 | D9: =MDH4? -> #NAME? | E9: A002 | F9: =TKH4? -> #NAME? | G9: =L4? -> #NAME? | H9: =MSM4? -> #NAME? | I9: Thanh toán đơt 1 | J9: 800 | K9: =IF(NKTT!$J9>0,"PS","-") -> PS | L9: =IF(C9<>"",YEAR(C9),"-") -> 2008 | M9: =IF(C9<>"",MONTH(C9),"-") -> 2 | N9: =IF(C9<>"",DAY(C9),"-") -> 3
A10: =IF(B10<>"",MAX($A$6:A9)+1,0) -> 4 | B10: 1125 | C10: 39511 | D10: =MDH5? -> #NAME? | E10: D001 | F10: =TKH5? -> #NAME? | G10: =L5? -> #NAME? | H10: =MSM5? -> #NAME? | J10: 400 | K10: =IF(NKTT!$J10>0,"PS","-") -> PS | L10: =IF(C10<>"",YEAR(C10),"-") -> 2008 | M10: =IF(C10<>"",MONTH(C10),"-") -> 3 | N10: =IF(C10<>"",DAY(C10),"-") -> 4
A11: =IF(B11<>"",MAX($A$6:A10)+1,0) -> 5 | B11: 1130 | C11: 39512 | D11: =MDH6? -> #NAME? | E11: E001 | F11: =TKH6? -> #NAME? | G11: =L6? -> #NAME? | H11: =MSM6? -> #NAME? | J11: 500 | K11: =IF(NKTT!$J11>0,"PS","-") -> PS | L11: =IF(C11<>"",YEAR(C11),"-") -> 2008 | M11: =IF(C11<>"",MONTH(C11),"-") -> 3 | N11: =IF(C11<>"",DAY(C11),"-") -> 5
A12: =IF(B12<>"",MAX($A$6:A11)+1,0) -> 6 | B12: 1136 | C12: 39544 | D12: =MDH7? -> #NAME? | E12: H001 | F12: =TKH7? -> #NAME? | G12: =L7? -> #NAME? | H12: =MSM7? -> #NAME? | I12: Thanh toán đơt 2 | J12: 600 | K12: =IF(NKTT!$J12>0,"PS","-") -> PS | L12: =IF(C12<>"",YEAR(C12),"-") -> 2008 | M12: =IF(C12<>"",MONTH(C12),"-") -> 4 | N12: =IF(C12<>"",DAY(C12),"-") -> 6
A13: =IF(B13<>"",MAX($A$6:A12)+1,0) -> 7 | B13: 1122 | C13: 39545 | D13: =MDH8? -> #NAME? | E13: C003 | F13: =TKH8? -> #NAME? | G13: =L8? -> #NAME? | H13: =MSM8? -> #NAME? | J13: 750 | K13: =IF(NKTT!$J13>0,"PS","-") -> PS | L13: =IF(C13<>"",YEAR(C13),"-") -> 2008 | M13: =IF(C13<>"",MONTH(C13),"-") -> 4 | N13: =IF(C13<>"",DAY(C13),"-") -> 7
A14: =IF(B14<>"",MAX($A$6:A13)+1,0) -> 8 | B14: 1111 | C14: 39576 | D14: =MDH9? -> #NAME? | E14: A002 | F14: =TKH9? -> #NAME? | G14: =L9? -> #NAME? | H14: =MSM9? -> #NAME? | I14: Thanh toán đơt 2 | J14: 400 | K14: =IF(NKTT!$J14>0,"PS","-") -> PS | L14: =IF(C14<>"",YEAR(C14),"-") -> 2008 | M14: =IF(C14<>"",MONTH(C14),"-") -> 5 | N14: =IF(C14<>"",DAY(C14),"-") -> 8
A15: =IF(B15<>"",MAX($A$6:A14)+1,0) -> 0 | D15: =MDH10? -> #NAME? | F15: =TKH10? -> #NAME? | G15: =L10? -> #NAME? | H15: =MSM10? -> #NAME? | K15: =IF(NKTT!$J15>0,"PS","-") -> - | L15: =IF(C15<>"",YEAR(C15),"-") -> - | M15: =IF(C15<>"",MONTH(C15),"-") -> - | N15: =IF(C15<>"",DAY(C15),"-") -> -
A16: =IF(B16<>"",MAX($A$6:A15)+1,0) -> 0 | D16: =MDH11? -> #NAME? | F16: =TKH11? -> #NAME? | G16: =L11? -> #NAME? | H16: =MSM11? -> #NAME? | K16: =IF(NKTT!$J16>0,"PS","-") -> - | L16: =IF(C16<>"",YEAR(C16),"-") -> - | M16: =IF(C16<>"",MONTH(C16),"-") -> - | N16: =IF(C16<>"",DAY(C16),"-") -> -
A17: =IF(B17<>"",MAX($A$6:A16)+1,0) -> 0 | D17: =MDH12? -> #NAME? | F17: =TKH12? -> #NAME? | G17: =L12? -> #NAME? | H17: =MSM12? -> #NAME? | K17: =IF(NKTT!$J17>0,"PS","-") -> - | L17: =IF(C17<>"",YEAR(C17),"-") -> - | M17: =IF(C17<>"",MONTH(C17),"-") -> - | N17: =IF(C17<>"",DAY(C17),"-") -> -
A18: =IF(B18<>"",MAX($A$6:A17)+1,0) -> 0 | D18: =MDH13? -> #NAME? | F18: =TKH13? -> #NAME? | G18: =L13? -> #NAME? | H18: =MSM13? -> #NAME? | K18: =IF(NKTT!$J18>0,"PS","-") -> - | L18: =IF(C18<>"",YEAR(C18),"-") -> - | M18: =IF(C18<>"",MONTH(C18),"-") -> - | N18: =IF(C18<>"",DAY(C18),"-") -> -
A19: =IF(B19<>"",MAX($A$6:A18)+1,0) -> 0 | D19: =MDH14? -> #NAME? | F19: =TKH14? -> #NAME? | G19: =L14? -> #NAME? | H19: =MSM14? -> #NAME? | K19: =IF(NKTT!$J19>0,"PS","-") -> - | L19: =IF(C19<>"",YEAR(C19),"-") -> - | M19: =IF(C19<>"",MONTH(C19),"-") -> - | N19: =IF(C19<>"",DAY(C19),"-") -> -
A20: =IF(B20<>"",MAX($A$6:A19)+1,0) -> 0 | D20: =MDH15? -> #NAME? | F20: =TKH15? -> #NAME? | G20: =L15? -> #NAME? | H20: =MSM15? -> #NAME? | K20: =IF(NKTT!$J20>0,"PS","-") -> - | L20: =IF(C20<>"",YEAR(C20),"-") -> - | M20: =IF(C20<>"",MONTH(C20),"-") -> - | N20: =IF(C20<>"",DAY(C20),"-") -> -
A21: =IF(B21<>"",MAX($A$6:A20)+1,0) -> 0 | D21: =MDH16? -> #NAME? | F21: =TKH16? -> #NAME? | G21: =L16? -> #NAME? | H21: =MSM16? -> #NAME? | K21: =IF(NKTT!$J21>0,"PS","-") -> - | L21: =IF(C21<>"",YEAR(C21),"-") -> - | M21: =IF(C21<>"",MONTH(C21),"-") -> - | N21: =IF(C21<>"",DAY(C21),"-") -> -
A22: =IF(B22<>"",MAX($A$6:A21)+1,0) -> 0 | D22: =MDH17? -> #NAME? | F22: =TKH17? -> #NAME? | G22: =L17? -> #NAME? | H22: =MSM17? -> #NAME? | K22: =IF(NKTT!$J22>0,"PS","-") -> - | L22: =IF(C22<>"",YEAR(C22),"-") -> - | M22: =IF(C22<>"",MONTH(C22),"-") -> - | N22: =IF(C22<>"",DAY(C22),"-") -> -
A23: =IF(B23<>"",MAX($A$6:A22)+1,0) -> 0 | D23: =MDH18? -> #NAME? | F23: =TKH18? -> #NAME? | G23: =L18? -> #NAME? | H23: =MSM18? -> #NAME? | K23: =IF(NKTT!$J23>0,"PS","-") -> - | L23: =IF(C23<>"",YEAR(C23),"-") -> - | M23: =IF(C23<>"",MONTH(C23),"-") -> - | N23: =IF(C23<>"",DAY(C23),"-") -> -
A24: =IF(B24<>"",MAX($A$6:A23)+1,0) -> 0 | D24: =MDH19? -> #NAME? | F24: =TKH19? -> #NAME? | G24: =L19? -> #NAME? | H24: =MSM19? -> #NAME? | K24: =IF(NKTT!$J24>0,"PS","-") -> - | L24: =IF(C24<>"",YEAR(C24),"-") -> - | M24: =IF(C24<>"",MONTH(C24),"-") -> - | N24: =IF(C24<>"",DAY(C24),"-") -> -
A25: =IF(B25<>"",MAX($A$6:A24)+1,0) -> 0 | D25: =MDH20? -> #NAME? | F25: =TKH20? -> #NAME? | G25: =L20? -> #NAME? | H25: =MSM20? -> #NAME? | K25: =IF(NKTT!$J25>0,"PS","-") -> - | L25: =IF(C25<>"",YEAR(C25),"-") -> - | M25: =IF(C25<>"",MONTH(C25),"-") -> - | N25: =IF(C25<>"",DAY(C25),"-") -> -
A26: =IF(B26<>"",MAX($A$6:A25)+1,0) -> 0 | D26: =MDH21? -> #NAME? | F26: =TKH21? -> #NAME? | G26: =L21? -> #NAME? | H26: =MSM21? -> #NAME? | K26: =IF(NKTT!$J26>0,"PS","-") -> - | L26: =IF(C26<>"",YEAR(C26),"-") -> - | M26: =IF(C26<>"",MONTH(C26),"-") -> - | N26: =IF(C26<>"",DAY(C26),"-") -> -
... A261: =IF(B261<>"",MAX($A$6:A260)+1,0) -> 0 | D261: =MDH256? -> #NAME? | F261: =TKH256? -> #NAME? | G261: =L256? -> #NAME? | H261: =MSM256? -> #NAME? | K261: =IF(NKTT!$J261>0,"PS","-") -> - | L261: =IF(C261<>"",YEAR(C261),"-") -> - | M261: =IF(C261<>"",MONTH(C261),"-") -> - | N261: =IF(C261<>"",DAY(C261),"-") -> -
A262: =IF(B262<>"",MAX($A$6:A261)+1,0) -> 0 | D262: =MDH2? -> #NAME? | F262: =TKH2? -> #NAME? | G262: =L2? -> #NAME? | H262: =MSM2? -> #NAME? | K262: =IF(NKTT!$J262>0,"PS","-") -> - | L262: =IF(C262<>"",YEAR(C262),"-") -> - | M262: =IF(C262<>"",MONTH(C262),"-") -> - | N262: =IF(C262<>"",DAY(C262),"-") -> -
A263: =IF(B263<>"",MAX($A$6:A262)+1,0) -> 0 | D263: =MDH3? -> #NAME? | F263: =TKH3? -> #NAME? | G263: =L3? -> #NAME? | H263: =MSM3? -> #NAME? | K263: =IF(NKTT!$J263>0,"PS","-") -> - | L263: =IF(C263<>"",YEAR(C263),"-") -> - | M263: =IF(C263<>"",MONTH(C263),"-") -> - | N263: =IF(C263<>"",DAY(C263),"-") -> -
A264: =IF(B264<>"",MAX($A$6:A263)+1,0) -> 0 | D264: =MDH4? -> #NAME? | F264: =TKH4? -> #NAME? | G264: =L4? -> #NAME? | H264: =MSM4? -> #NAME? | K264: =IF(NKTT!$J264>0,"PS","-") -> - | L264: =IF(C264<>"",YEAR(C264),"-") -> - | M264: =IF(C264<>"",MONTH(C264),"-") -> - | N264: =IF(C264<>"",DAY(C264),"-") -> -
A265: =IF(B265<>"",MAX($A$6:A264)+1,0) -> 0 | D265: =MDH5? -> #NAME? | F265: =TKH5? -> #NAME? | G265: =L5? -> #NAME? | H265: =MSM5? -> #NAME? | K265: =IF(NKTT!$J265>0,"PS","-") -> - | L265: =IF(C265<>"",YEAR(C265),"-") -> - | M265: =IF(C265<>"",MONTH(C265),"-") -> - | N265: =IF(C265<>"",DAY(C265),"-") -> -
A266: =IF(B266<>"",MAX($A$6:A265)+1,0) -> 0 | D266: =MDH6? -> #NAME? | F266: =TKH6? -> #NAME? | G266: =L6? -> #NAME? | H266: =MSM6? -> #NAME? | K266: =IF(NKTT!$J266>0,"PS","-") -> - | L266: =IF(C266<>"",YEAR(C266),"-") -> - | M266: =IF(C266<>"",MONTH(C266),"-") -> - | N266: =IF(C266<>"",DAY(C266),"-") -> -
A267: =IF(B267<>"",MAX($A$6:A266)+1,0) -> 0 | D267: =MDH7? -> #NAME? | F267: =TKH7? -> #NAME? | G267: =L7? -> #NAME? | H267: =MSM7? -> #NAME? | K267: =IF(NKTT!$J267>0,"PS","-") -> - | L267: =IF(C267<>"",YEAR(C267),"-") -> - | M267: =IF(C267<>"",MONTH(C267),"-") -> - | N267: =IF(C267<>"",DAY(C267),"-") -> -
A268: =IF(B268<>"",MAX($A$6:A267)+1,0) -> 0 | D268: =MDH8? -> #NAME? | F268: =TKH8? -> #NAME? | G268: =L8? -> #NAME? | H268: =MSM8? -> #NAME? | K268: =IF(NKTT!$J268>0,"PS","-") -> - | L268: =IF(C268<>"",YEAR(C268),"-") -> - | M268: =IF(C268<>"",MONTH(C268),"-") -> - | N268: =IF(C268<>"",DAY(C268),"-") -> -
A269: =IF(B269<>"",MAX($A$6:A268)+1,0) -> 0 | D269: =MDH9? -> #NAME? | F269: =TKH9? -> #NAME? | G269: =L9? -> #NAME? | H269: =MSM9? -> #NAME? | K269: =IF(NKTT!$J269>0,"PS","-") -> - | L269: =IF(C269<>"",YEAR(C269),"-") -> - | M269: =IF(C269<>"",MONTH(C269),"-") -> - | N269: =IF(C269<>"",DAY(C269),"-") -> -
A270: =IF(B270<>"",MAX($A$6:A269)+1,0) -> 0 | D270: =MDH10? -> #NAME? | F270: =TKH10? -> #NAME? | G270: =L10? -> #NAME? | H270: =MSM10? -> #NAME? | K270: =IF(NKTT!$J270>0,"PS","-") -> - | L270: =IF(C270<>"",YEAR(C270),"-") -> - | M270: =IF(C270<>"",MONTH(C270),"-") -> - | N270: =IF(C270<>"",DAY(C270),"-") -> -
A271: =IF(B271<>"",MAX($A$6:A270)+1,0) -> 0 | D271: =MDH11? -> #NAME? | F271: =TKH11? -> #NAME? | G271: =L11? -> #NAME? | H271: =MSM11? -> #NAME? | K271: =IF(NKTT!$J271>0,"PS","-") -> - | L271: =IF(C271<>"",YEAR(C271),"-") -> - | M271: =IF(C271<>"",MONTH(C271),"-") -> - | N271: =IF(C271<>"",DAY(C271),"-") -> -
A272: =IF(B272<>"",MAX($A$6:A271)+1,0) -> 0 | D272: =MDH12? -> #NAME? | F272: =TKH12? -> #NAME? | G272: =L12? -> #NAME? | H272: =MSM12? -> #NAME? | K272: =IF(NKTT!$J272>0,"PS","-") -> - | L272: =IF(C272<>"",YEAR(C272),"-") -> - | M272: =IF(C272<>"",MONTH(C272),"-") -> - | N272: =IF(C272<>"",DAY(C272),"-") -> -
A273: =IF(B273<>"",MAX($A$6:A272)+1,0) -> 0 | D273: =MDH13? -> #NAME? | F273: =TKH13? -> #NAME? | G273: =L13? -> #NAME? | H273: =MSM13? -> #NAME? | K273: =IF(NKTT!$J273>0,"PS","-") -> - | L273: =IF(C273<>"",YEAR(C273),"-") -> - | M273: =IF(C273<>"",MONTH(C273),"-") -> - | N273: =IF(C273<>"",DAY(C273),"-") -> -
... A499: =IF(B499<>"",MAX($A$6:A498)+1,0) -> 0 | D499: =MDH239? -> #NAME? | F499: =TKH239? -> #NAME? | G499: =L239? -> #NAME? | H499: =MSM239? -> #NAME? | K499: =IF(NKTT!$J499>0,"PS","-") -> - | L499: =IF(C499<>"",YEAR(C499),"-") -> - | M499: =IF(C499<>"",MONTH(C499),"-") -> - | N499: =IF(C499<>"",DAY(C499),"-") -> -
...

Sheet BAOCAO
A1: BÁO CÁO CÔNG NỢ KHÁCH HÀNG | I1: 2008 | J1: 2009 | K1: 2010 | L1: 2011 | M1: 2012 | N1: 2013 | O1: 2014 | P1: 2015 | Q1: 2016 | R1: 2017 | S1: 2018 | T1: 2019 | U1: 2020 | V1: 2021 | W1: 2022 | X1: 2023 | Y1: 2024 | Z1: 2025 | AA1: 2026 | AB1: 2027 | AC1: 2028 | AD1: 2029 | AE1: 2030 | AF1: 2031 | AG1: 2032 | AH1: 2033 | AI1: 2034 | AJ1: 2035 | AK1: 2036 | AL1: 2037 | AM1: 2038 | AN1: 2039 | AO1: 2040 | AP1: 2041 | AQ1: 2042 | AR1: 2043 | AS1: 2044 | AT1: 2045 | AU1: 2046 | AV1: 2047 | AW1: 2048 | AX1: 2049 | AY1: 2050
I2: =IF(I1=NAM,COLUMN()-8,0) -> 1 | J2: =IF(J1=NAM,COLUMN()-8,0) -> 0 | K2: =IF(K1=NAM,COLUMN()-8,0) -> 0 | L2: =IF(L1=NAM,COLUMN()-8,0) -> 0 | M2: =IF(M1=NAM,COLUMN()-8,0) -> 0 | N2: =IF(N1=NAM,COLUMN()-8,0) -> 0 | O2: =IF(O1=NAM,COLUMN()-8,0) -> 0 | P2: =IF(P1=NAM,COLUMN()-8,0) -> 0 | ... AY2: =IF(AY1=NAM,COLUMN()-8,0) -> 0
A3: Từ ngày : | B3: 39569 | I3: I | J3: J | K3: K | L3: L | M3: M | N3: N | O3: O | P3: P | Q3: Q | R3: R | S3: S | T3: T | U3: U | V3: V | W3: W | X3: X | Y3: Y | Z3: Z | AA3: AA | AB3: AB | AC3: AC | AD3: AD | AE3: AE | AF3: AF | AG3: AG | AH3: AH | AI3: AI | AJ3: AJ | AK3: AK | AL3: AL | AM3: AM | AN3: AN | AO3: AO | AP3: AP | AQ3: AQ | AR3: AR | AS3: AS | AT3: AT | AU3: AU | AV3: AV | AW3: AW | AX3: AX | AY3: AY
A4: đến ngày : | B4: 39599 | I4: 39448 | J4: 39814 | K4: 40179 | L4: 40544 | M4: 40909 | N4: 41275 | O4: 41640 | P4: 42005 | Q4: 42370 | R4: 42736 | S4: 43101 | T4: 43466 | U4: 43831 | V4: 44197 | W4: 44562 | X4: 44927 | Y4: 45292 | Z4: 45658 | AA4: 46023 | AB4: 46388 | AC4: 46753 | AD4: 47119 | AE4: 47484 | AF4: 47849 | AG4: 48214 | AH4: 48580 | AI4: 48945 | AJ4: 49310 | AK4: 49675 | AL4: 50041 | AM4: 50406 | AN4: 50771 | AO4: 51136 | AP4: 51502 | AQ4: 51867 | AR4: 52232 | AS4: 52597 | AT4: 52963 | AU4: 53328 | AV4: 53693 | AW4: 54058 | AX4: 54424 | AY4: 54789
A5: Loại KH : | B5: KH | I5: 39449 | J5: 39815 | K5: 40180 | L5: 40545 | M5: 40910 | N5: 41276 | O5: 41641 | P5: 42006 | Q5: 42371 | R5: 42737 | S5: 43102 | T5: 43467 | U5: 43832 | V5: 44198 | W5: 44563 | X5: 44928 | Y5: 45293 | Z5: 45659 | AA5: 46024 | AB5: 46389 | AC5: 46754 | AD5: 47120 | AE5: 47485 | AF5: 47850 | AG5: 48215 | AH5: 48581 | AI5: 48946 | AJ5: 49311 | AK5: 49676 | AL5: 50042 | AM5: 50407 | AN5: 50772 | AO5: 51137 | AP5: 51503 | AQ5: 51868 | AR5: 52233 | AS5: 52598 | AT5: 52964 | AU5: 53329 | AV5: 53694 | AW5: 54059 | AX5: 54425 | AY5: 54790
A6: Tên KH : | D6: =IF(B6="","Tất cả khách hàng",VLOOKUP(B6,MKH1?,2,0)) -> Tất cả khách hàng | I6: 39450 | J6: 39816 | K6: 40181 | L6: 40546 | M6: 40911 | N6: 41277 | O6: 41642 | P6: 42007 | Q6: 42372 | R6: 42738 | S6: 43103 | T6: 43468 | U6: 43833 | V6: 44199 | W6: 44564 | X6: 44929 | Y6: 45294 | Z6: 45660 | AA6: 46025 | AB6: 46390 | AC6: 46755 | AD6: 47121 | AE6: 47486 | AF6: 47851 | AG6: 48216 | AH6: 48582 | AI6: 48947 | AJ6: 49312 | AK6: 49677 | AL6: 50043 | AM6: 50408 | AN6: 50773 | AO6: 51138 | AP6: 51504 | AQ6: 51869 | AR6: 52234 | AS6: 52599 | AT6: 52965 | AU6: 53330 | AV6: 53695 | AW6: 54060 | AX6: 54426 | AY6: 54791
A7: Nợ đầu kỳ : | B7: =NDKBC?+NDKDSPSBC?-NDKTT1PSBC?-NDKTT2PSBC? -> #NAME? | I7: 39451 | J7: 39817 | K7: 40182 | L7: 40547 | M7: 40912 | N7: 41278 | O7: 41643 | P7: 42008 | Q7: 42373 | R7: 42739 | S7: 43104 | T7: 43469 | U7: 43834 | V7: 44200 | W7: 44565 | X7: 44930 | Y7: 45295 | Z7: 45661 | AA7: 46026 | AB7: 46391 | AC7: 46756 | AD7: 47122 | AE7: 47487 | AF7: 47852 | AG7: 48217 | AH7: 48583 | AI7: 48948 | AJ7: 49313 | AK7: 49678 | AL7: 50044 | AM7: 50409 | AN7: 50774 | AO7: 51139 | AP7: 51505 | AQ7: 51870 | AR7: 52235 | AS7: 52600 | AT7: 52966 | AU7: 53331 | AV7: 53696 | AW7: 54061 | AX7: 54427 | AY7: 54792
A8: Doanh số : | B8: =DSBC? -> #NAME? | I8: 39452 | J8: 39818 | K8: 40183 | L8: 40548 | M8: 40913 | N8: 41279 | O8: 41644 | P8: 42009 | Q8: 42374 | R8: 42740 | S8: 43105 | T8: 43470 | U8: 43835 | V8: 44201 | W8: 44566 | X8: 44931 | Y8: 45296 | Z8: 45662 | AA8: 46027 | AB8: 46392 | AC8: 46757 | AD8: 47123 | AE8: 47488 | AF8: 47853 | AG8: 48218 | AH8: 48584 | AI8: 48949 | AJ8: 49314 | AK8: 49679 | AL8: 50045 | AM8: 50410 | AN8: 50775 | AO8: 51140 | AP8: 51506 | AQ8: 51871 | AR8: 52236 | AS8: 52601 | AT8: 52967 | AU8: 53332 | AV8: 53697 | AW8: 54062 | AX8: 54428 | AY8: 54793
A9: Chiết khấu : | B9: =CKBC? -> #NAME? | I9: 39453 | J9: 39819 | K9: 40184 | L9: 40549 | M9: 40914 | N9: 41280 | O9: 41645 | P9: 42010 | Q9: 42375 | R9: 42741 | S9: 43106 | T9: 43471 | U9: 43836 | V9: 44202 | W9: 44567 | X9: 44932 | Y9: 45297 | Z9: 45663 | AA9: 46028 | AB9: 46393 | AC9: 46758 | AD9: 47124 | AE9: 47489 | AF9: 47854 | AG9: 48219 | AH9: 48585 | AI9: 48950 | AJ9: 49315 | AK9: 49680 | AL9: 50046 | AM9: 50411 | AN9: 50776 | AO9: 51141 | AP9: 51507 | AQ9: 51872 | AR9: 52237 | AS9: 52602 | AT9: 52968 | AU9: 53333 | AV9: 53698 | AW9: 54063 | AX9: 54429 | AY9: 54794
A10: Thanh toán : | B10: =TT1PSBC?+TT2PSBC? -> #NAME? | I10: 39454 | J10: 39820 | K10: 40185 | L10: 40550 | M10: 40915 | N10: 41281 | O10: 41646 | P10: 42011 | Q10: 42376 | R10: 42742 | S10: 43107 | T10: 43472 | U10: 43837 | V10: 44203 | W10: 44568 | X10: 44933 | Y10: 45298 | Z10: 45664 | AA10: 46029 | AB10: 46394 | AC10: 46759 | AD10: 47125 | AE10: 47490 | AF10: 47855 | AG10: 48220 | AH10: 48586 | AI10: 48951 | AJ10: 49316 | AK10: 49681 | AL10: 50047 | AM10: 50412 | AN10: 50777 | AO10: 51142 | AP10: 51508 | AQ10: 51873 | AR10: 52238 | AS10: 52603 | AT10: 52969 | AU10: 53334 | AV10: 53699 | AW10: 54064 | AX10: 54430 | AY10: 54795
