Workbook

Sheet TH
A1: HỘ KINH DOANH: ……………………………………… | C1: Mẫu số S1a-HKD
A2: Địa chỉ: …………………………………………………….. | C2: Theo Thông tư 152/2025/TT-BTC
A3: Mã số thuế: …………………………… | C3: Ngày 31/12/2025
A5: SỔ DOANH THU BÁN HÀNG HÓA, DỊCH VỤ
A6: Địa điểm kinh doanh: ……………………………………………………………………….
A7: =+"Kỳ kê khai: "&YEAR(A11) -> Kỳ kê khai: 2026
C8: Đơn vị tính: đồng
A9: Ngày tháng | B9: Diễn giải | C9: Số tiền
A10: A | B10: B | C10: 1
A11: 46054 | B11: Doanh thu tháng 1
A12: 46082 | B12: Doanh thu tháng 2 | C12: =+'T2'!C40 -> 0
A13: 46113 | B13: Doanh thu tháng 3 | C13: =+'T3'!C42 -> 0
A14: 46143 | B14: Doanh thu tháng 4 | C14: =+'T4'!C41 -> 0
A15: 46174 | B15: Doanh thu tháng 5 | C15: =+'T5'!C42 -> 0
A16: 46204 | B16: Doanh thu tháng 6 | C16: =+'T6'!C41 -> 0
A17: 46235 | B17: Doanh thu tháng 7 | C17: =+'T7'!C42 -> 0
A18: 46266 | B18: Doanh thu tháng 8 | C18: =+'T8'!C42 -> 0
A19: 46296 | B19: Doanh thu tháng 9 | C19: =+'T9'!C41 -> 0
A20: 46327 | B20: Doanh thu tháng 10 | C20: =+'T10'!C42 -> 0
A21: 46357 | B21: Doanh thu tháng 11 | C21: =+'T11'!C41 -> 0
A22: 46388 | B22: Doanh thu tháng 12 | C22: =+'T12'!C42 -> 0
B23: Tổng cộng | C23: =+SUM(C11:C22) -> 0
B25: Ngày ... tháng ... năm 202…
B26: NGƯỜI ĐẠI DIỆN HỘ KINH DOANH
B27: (Ký, ghi rõ họ tên, đóng dấu nếu có)

Sheet T1
A1: HỘ KINH DOANH: ……………………………………… | C1: Mẫu số S1a-HKD
A2: Địa chỉ: …………………………………………………….. | C2: Theo Thông tư 152/2025/TT-BTC
A3: Mã số thuế: …………………………… | C3: Ngày 31/12/2025
A5: SỔ DOANH THU BÁN HÀNG HÓA, DỊCH VỤ
A6: Địa điểm kinh doanh: ……………………………………………………………………….
A7: =+"Kỳ kê khai: Tháng "&MONTH(A11)&"/"&YEAR(A11) -> Kỳ kê khai: Tháng 1/2026
C8: Đơn vị tính: đồng
A9: Ngày tháng | B9: Diễn giải | C9: Số tiền
A10: A | B10: B | C10: 1
A11: 46023 | B11: =+"Doanh thu ngày "&DAY(A11) -> Doanh thu ngày 1
A12: =+A11+1 -> 46024 | B12: =+"Doanh thu ngày "&DAY(A12) -> Doanh thu ngày 2 | C12: 5.5555556e+18
A13: =+A12+1 -> 46025 | B13: =+"Doanh thu ngày "&DAY(A13) -> Doanh thu ngày 3
A14: =+A13+1 -> 46026 | B14: =+"Doanh thu ngày "&DAY(A14) -> Doanh thu ngày 4
A15: =+A14+1 -> 46027 | B15: =+"Doanh thu ngày "&DAY(A15) -> Doanh thu ngày 5
A16: =+A15+1 -> 46028 | B16: =+"Doanh thu ngày "&DAY(A16) -> Doanh thu ngày 6
A17: =+A16+1 -> 46029 | B17: =+"Doanh thu ngày "&DAY(A17) -> Doanh thu ngày 7
A18: =+A17+1 -> 46030 | B18: =+"Doanh thu ngày "&DAY(A18) -> Doanh thu ngày 8
A19: =+A18+1 -> 46031 | B19: =+"Doanh thu ngày "&DAY(A19) -> Doanh thu ngày 9
A20: =+A19+1 -> 46032 | B20: =+"Doanh thu ngày "&DAY(A20) -> Doanh thu ngày 10
A21: =+A20+1 -> 46033 | B21: =+"Doanh thu ngày "&DAY(A21) -> Doanh thu ngày 11
A22: =+A21+1 -> 46034 | B22: =+"Doanh thu ngày "&DAY(A22) -> Doanh thu ngày 12
A23: =+A22+1 -> 46035 | B23: =+"Doanh thu ngày "&DAY(A23) -> Doanh thu ngày 13
A24: =+A23+1 -> 46036 | B24: =+"Doanh thu ngày "&DAY(A24) -> Doanh thu ngày 14
... A41: =+A40+1 -> 46053 | B41: =+"Doanh thu ngày "&DAY(A41) -> Doanh thu ngày 31
B42: Tổng cộng | C42: =+SUM(C11:C41) -> 5.5555556e+18
B44: Ngày ... tháng ... năm 202…
B45: NGƯỜI ĐẠI DIỆN HỘ KINH DOANH
B46: (Ký, ghi rõ họ tên, đóng dấu nếu có)

Sheet T2
A1: HỘ KINH DOANH: ……………………………………… | C1: Mẫu số S1a-HKD
A2: Địa chỉ: …………………………………………………….. | C2: Theo Thông tư 152/2025/TT-BTC
A3: Mã số thuế: …………………………… | C3: Ngày 31/12/2025
A5: SỔ DOANH THU BÁN HÀNG HÓA, DỊCH VỤ
A6: Địa điểm kinh doanh: ……………………………………………………………………….
A7: =+"Kỳ kê khai: Tháng "&MONTH(A11)&"/"&YEAR(A11) -> Kỳ kê khai: Tháng 2/2026
C8: Đơn vị tính: đồng
A9: Ngày tháng | B9: Diễn giải | C9: Số tiền
A10: A | B10: B | C10: 1
A11: =+'T1'!A41+1 -> 46054 | B11: =+"Doanh thu ngày "&DAY(A11) -> Doanh thu ngày 1
A12: =+A11+1 -> 46055 | B12: =+"Doanh thu ngày "&DAY(A12) -> Doanh thu ngày 2
A13: =+A12+1 -> 46056 | B13: =+"Doanh thu ngày "&DAY(A13) -> Doanh thu ngày 3
A14: =+A13+1 -> 46057 | B14: =+"Doanh thu ngày "&DAY(A14) -> Doanh thu ngày 4
A15: =+A14+1 -> 46058 | B15: =+"Doanh thu ngày "&DAY(A15) -> Doanh thu ngày 5
A16: =+A15+1 -> 46059 | B16: =+"Doanh thu ngày "&DAY(A16) -> Doanh thu ngày 6
A17: =+A16+1 -> 46060 | B17: =+"Doanh thu ngày "&DAY(A17) -> Doanh thu ngày 7
A18: =+A17+1 -> 46061 | B18: =+"Doanh thu ngày "&DAY(A18) -> Doanh thu ngày 8
A19: =+A18+1 -> 46062 | B19: =+"Doanh thu ngày "&DAY(A19) -> Doanh thu ngày 9
A20: =+A19+1 -> 46063 | B20: =+"Doanh thu ngày "&DAY(A20) -> Doanh thu ngày 10
A21: =+A20+1 -> 46064 | B21: =+"Doanh thu ngày "&DAY(A21) -> Doanh thu ngày 11
A22: =+A21+1 -> 46065 | B22: =+"Doanh thu ngày "&DAY(A22) -> Doanh thu ngày 12
A23: =+A22+1 -> 46066 | B23: =+"Doanh thu ngày "&DAY(A23) -> Doanh thu ngày 13
... A38: =+A37+1 -> 46081 | B38: =+"Doanh thu ngày "&DAY(A38) -> Doanh thu ngày 28
B40: Tổng cộng | C40: =+SUM(C11:C39) -> 0
B42: Ngày ... tháng ... năm 202…
B43: NGƯỜI ĐẠI DIỆN HỘ KINH DOANH
B44: (Ký, ghi rõ họ tên, đóng dấu nếu có)

Sheet T3
A1: HỘ KINH DOANH: ……………………………………… | C1: Mẫu số S1a-HKD
A2: Địa chỉ: …………………………………………………….. | C2: Theo Thông tư 152/2025/TT-BTC
A3: Mã số thuế: …………………………… | C3: Ngày 31/12/2025
A5: SỔ DOANH THU BÁN HÀNG HÓA, DỊCH VỤ
A6: Địa điểm kinh doanh: ……………………………………………………………………….
A7: =+"Kỳ kê khai: Tháng "&MONTH(A11)&"/"&YEAR(A11) -> Kỳ kê khai: Tháng 3/2026
C8: Đơn vị tính: đồng
A9: Ngày tháng | B9: Diễn giải | C9: Số tiền
A10: A | B10: B | C10: 1
A11: =+"01/"&0&MONTH('T2'!A11)+1&"/"&YEAR('T2'!A11) -> 01/03/2026 | B11: =+"Doanh thu ngày "&DAY(A11) -> Doanh thu ngày 1
A12: =+A11+1 -> 46083 | B12: =+"Doanh thu ngày "&DAY(A12) -> Doanh thu ngày 2
A13: =+A12+1 -> 46084 | B13: =+"Doanh thu ngày "&DAY(A13) -> Doanh thu ngày 3
A14: =+A13+1 -> 46085 | B14: =+"Doanh thu ngày "&DAY(A14) -> Doanh thu ngày 4
A15: =+A14+1 -> 46086 | B15: =+"Doanh thu ngày "&DAY(A15) -> Doanh thu ngày 5
A16: =+A15+1 -> 46087 | B16: =+"Doanh thu ngày "&DAY(A16) -> Doanh thu ngày 6
A17: =+A16+1 -> 46088 | B17: =+"Doanh thu ngày "&DAY(A17) -> Doanh thu ngày 7
A18: =+A17+1 -> 46089 | B18: =+"Doanh thu ngày "&DAY(A18) -> Doanh thu ngày 8
A19: =+A18+1 -> 46090 | B19: =+"Doanh thu ngày "&DAY(A19) -> Doanh thu ngày 9
A20: =+A19+1 -> 46091 | B20: =+"Doanh thu ngày "&DAY(A20) -> Doanh thu ngày 10
A21: =+A20+1 -> 46092 | B21: =+"Doanh thu ngày "&DAY(A21) -> Doanh thu ngày 11
A22: =+A21+1 -> 46093 | B22: =+"Doanh thu ngày "&DAY(A22) -> Doanh thu ngày 12
A23: =+A22+1 -> 46094 | B23: =+"Doanh thu ngày "&DAY(A23) -> Doanh thu ngày 13
... A41: =+A40+1 -> 46112 | B41: =+"Doanh thu ngày "&DAY(A41) -> Doanh thu ngày 31
B42: Tổng cộng | C42: =+SUM(C11:C41) -> 0
B44: Ngày ... tháng ... năm 202…
B45: NGƯỜI ĐẠI DIỆN HỘ KINH DOANH
B46: (Ký, ghi rõ họ tên, đóng dấu nếu có)

Sheet T4
A1: HỘ KINH DOANH: ……………………………………… | C1: Mẫu số S1a-HKD
A2: Địa chỉ: …………………………………………………….. | C2: Theo Thông tư 152/2025/TT-BTC
A3: Mã số thuế: …………………………… | C3: Ngày 31/12/2025
A5: SỔ DOANH THU BÁN HÀNG HÓA, DỊCH VỤ
A6: Địa điểm kinh doanh: ……………………………………………………………………….
A7: =+"Kỳ kê khai: Tháng "&MONTH(A11)&"/"&YEAR(A11) -> Kỳ kê khai: Tháng 4/2026
C8: Đơn vị tính: đồng
A9: Ngày tháng | B9: Diễn giải | C9: Số tiền
A10: A | B10: B | C10: 1
A11: =+'T3'!A41+1 -> 46113 | B11: =+"Doanh thu ngày "&DAY(A11) -> Doanh thu ngày 1
A12: =+A11+1 -> 46114 | B12: =+"Doanh thu ngày "&DAY(A12) -> Doanh thu ngày 2
A13: =+A12+1 -> 46115 | B13: =+"Doanh thu ngày "&DAY(A13) -> Doanh thu ngày 3
A14: =+A13+1 -> 46116 | B14: =+"Doanh thu ngày "&DAY(A14) -> Doanh thu ngày 4
A15: =+A14+1 -> 46117 | B15: =+"Doanh thu ngày "&DAY(A15) -> Doanh thu ngày 5
A16: =+A15+1 -> 46118 | B16: =+"Doanh thu ngày "&DAY(A16) -> Doanh thu ngày 6
A17: =+A16+1 -> 46119 | B17: =+"Doanh thu ngày "&DAY(A17) -> Doanh thu ngày 7
A18: =+A17+1 -> 46120 | B18: =+"Doanh thu ngày "&DAY(A18) -> Doanh thu ngày 8
A19: =+A18+1 -> 46121 | B19: =+"Doanh thu ngày "&DAY(A19) -> Doanh thu ngày 9
A20: =+A19+1 -> 46122 | B20: =+"Doanh thu ngày "&DAY(A20) -> Doanh thu ngày 10
A21: =+A20+1 -> 46123 | B21: =+"Doanh thu ngày "&DAY(A21) -> Doanh thu ngày 11
A22: =+A21+1 -> 46124 | B22: =+"Doanh thu ngày "&DAY(A22) -> Doanh thu ngày 12
A23: =+A22+1 -> 46125 | B23: =+"Doanh thu ngày "&DAY(A23) -> Doanh thu ngày 13
... A40: =+A39+1 -> 46142 | B40: =+"Doanh thu ngày "&DAY(A40) -> Doanh thu ngày 30
B41: Tổng cộng | C41: =+SUM(C11:C40) -> 0
B43: Ngày ... tháng ... năm 202…
B44: NGƯỜI ĐẠI DIỆN HỘ KINH DOANH
B45: (Ký, ghi rõ họ tên, đóng dấu nếu có)

Sheet T5
A1: HỘ KINH DOANH: ……………………………………… | C1: Mẫu số S1a-HKD
A2: Địa chỉ: …………………………………………………….. | C2: Theo Thông tư 152/2025/TT-BTC
A3: Mã số thuế: …………………………… | C3: Ngày 31/12/2025
A5: SỔ DOANH THU BÁN HÀNG HÓA, DỊCH VỤ
A6: Địa điểm kinh doanh: ……………………………………………………………………….
A7: =+"Kỳ kê khai: Tháng "&MONTH(A11)&"/"&YEAR(A11) -> Kỳ kê khai: Tháng 5/2026
C8: Đơn vị tính: đồng
A9: Ngày tháng | B9: Diễn giải | C9: Số tiền
A10: A | B10: B | C10: 1
A11: =+'T4'!A40+1 -> 46143 | B11: =+"Doanh thu ngày "&DAY(A11) -> Doanh thu ngày 1
A12: =+A11+1 -> 46144 | B12: =+"Doanh thu ngày "&DAY(A12) -> Doanh thu ngày 2
A13: =+A12+1 -> 46145 | B13: =+"Doanh thu ngày "&DAY(A13) -> Doanh thu ngày 3
A14: =+A13+1 -> 46146 | B14: =+"Doanh thu ngày "&DAY(A14) -> Doanh thu ngày 4
A15: =+A14+1 -> 46147 | B15: =+"Doanh thu ngày "&DAY(A15) -> Doanh thu ngày 5
A16: =+A15+1 -> 46148 | B16: =+"Doanh thu ngày "&DAY(A16) -> Doanh thu ngày 6
A17: =+A16+1 -> 46149 | B17: =+"Doanh thu ngày "&DAY(A17) -> Doanh thu ngày 7
A18: =+A17+1 -> 46150 | B18: =+"Doanh thu ngày "&DAY(A18) -> Doanh thu ngày 8
A19: =+A18+1 -> 46151 | B19: =+"Doanh thu ngày "&DAY(A19) -> Doanh thu ngày 9
A20: =+A19+1 -> 46152 | B20: =+"Doanh thu ngày "&DAY(A20) -> Doanh thu ngày 10
A21: =+A20+1 -> 46153 | B21: =+"Doanh thu ngày "&DAY(A21) -> Doanh thu ngày 11
A22: =+A21+1 -> 46154 | B22: =+"Doanh thu ngày "&DAY(A22) -> Doanh thu ngày 12
A23: =+A22+1 -> 46155 | B23: =+"Doanh thu ngày "&DAY(A23) -> Doanh thu ngày 13
... A41: =+A40+1 -> 46173 | B41: =+"Doanh thu ngày "&DAY(A41) -> Doanh thu ngày 31
B42: Tổng cộng | C42: =+SUM(C11:C41) -> 0
B44: Ngày ... tháng ... năm 202…
B45: NGƯỜI ĐẠI DIỆN HỘ KINH DOANH
B46: (Ký, ghi rõ họ tên, đóng dấu nếu có)

Sheet T6
A1: HỘ KINH DOANH: ……………………………………… | C1: Mẫu số S1a-HKD
A2: Địa chỉ: …………………………………………………….. | C2: Theo Thông tư 152/2025/TT-BTC
A3: Mã số thuế: …………………………… | C3: Ngày 31/12/2025
A5: SỔ DOANH THU BÁN HÀNG HÓA, DỊCH VỤ
A6: Địa điểm kinh doanh: ……………………………………………………………………….
A7: =+"Kỳ kê khai: Tháng "&MONTH(A11)&"/"&YEAR(A11) -> Kỳ kê khai: Tháng 6/2026
C8: Đơn vị tính: đồng
A9: Ngày tháng | B9: Diễn giải | C9: Số tiền
A10: A | B10: B | C10: 1
A11: =+'T5'!A41+1 -> 46174 | B11: =+"Doanh thu ngày "&DAY(A11) -> Doanh thu ngày 1
A12: =+A11+1 -> 46175 | B12: =+"Doanh thu ngày "&DAY(A12) -> Doanh thu ngày 2
A13: =+A12+1 -> 46176 | B13: =+"Doanh thu ngày "&DAY(A13) -> Doanh thu ngày 3
A14: =+A13+1 -> 46177 | B14: =+"Doanh thu ngày "&DAY(A14) -> Doanh thu ngày 4
A15: =+A14+1 -> 46178 | B15: =+"Doanh thu ngày "&DAY(A15) -> Doanh thu ngày 5
A16: =+A15+1 -> 46179 | B16: =+"Doanh thu ngày "&DAY(A16) -> Doanh thu ngày 6
A17: =+A16+1 -> 46180 | B17: =+"Doanh thu ngày "&DAY(A17) -> Doanh thu ngày 7
A18: =+A17+1 -> 46181 | B18: =+"Doanh thu ngày "&DAY(A18) -> Doanh thu ngày 8
A19: =+A18+1 -> 46182 | B19: =+"Doanh thu ngày "&DAY(A19) -> Doanh thu ngày 9
A20: =+A19+1 -> 46183 | B20: =+"Doanh thu ngày "&DAY(A20) -> Doanh thu ngày 10
A21: =+A20+1 -> 46184 | B21: =+"Doanh thu ngày "&DAY(A21) -> Doanh thu ngày 11
A22: =+A21+1 -> 46185 | B22: =+"Doanh thu ngày "&DAY(A22) -> Doanh thu ngày 12
A23: =+A22+1 -> 46186 | B23: =+"Doanh thu ngày "&DAY(A23) -> Doanh thu ngày 13
... A40: =+A39+1 -> 46203 | B40: =+"Doanh thu ngày "&DAY(A40) -> Doanh thu ngày 30
B41: Tổng cộng | C41: =+SUM(C11:C40) -> 0
B43: Ngày ... tháng ... năm 202…
B44: NGƯỜI ĐẠI DIỆN HỘ KINH DOANH
B45: (Ký, ghi rõ họ tên, đóng dấu nếu có)

Sheet T7
A1: HỘ KINH DOANH: ……………………………………… | C1: Mẫu số S1a-HKD
A2: Địa chỉ: …………………………………………………….. | C2: Theo Thông tư 152/2025/TT-BTC
A3: Mã số thuế: …………………………… | C3: Ngày 31/12/2025
A5: SỔ DOANH THU BÁN HÀNG HÓA, DỊCH VỤ
A6: Địa điểm kinh doanh: ……………………………………………………………………….
A7: =+"Kỳ kê khai: Tháng "&MONTH(A11)&"/"&YEAR(A11) -> Kỳ kê khai: Tháng 7/2026
C8: Đơn vị tính: đồng
A9: Ngày tháng | B9: Diễn giải | C9: Số tiền
A10: A | B10: B | C10: 1
A11: =+'T6'!A40+1 -> 46204 | B11: =+"Doanh thu ngày "&DAY(A11) -> Doanh thu ngày 1
A12: =+A11+1 -> 46205 | B12: =+"Doanh thu ngày "&DAY(A12) -> Doanh thu ngày 2
A13: =+A12+1 -> 46206 | B13: =+"Doanh thu ngày "&DAY(A13) -> Doanh thu ngày 3
A14: =+A13+1 -> 46207 | B14: =+"Doanh thu ngày "&DAY(A14) -> Doanh thu ngày 4
A15: =+A14+1 -> 46208 | B15: =+"Doanh thu ngày "&DAY(A15) -> Doanh thu ngày 5
A16: =+A15+1 -> 46209 | B16: =+"Doanh thu ngày "&DAY(A16) -> Doanh thu ngày 6
A17: =+A16+1 -> 46210 | B17: =+"Doanh thu ngày "&DAY(A17) -> Doanh thu ngày 7
A18: =+A17+1 -> 46211 | B18: =+"Doanh thu ngày "&DAY(A18) -> Doanh thu ngày 8
A19: =+A18+1 -> 46212 | B19: =+"Doanh thu ngày "&DAY(A19) -> Doanh thu ngày 9
A20: =+A19+1 -> 46213 | B20: =+"Doanh thu ngày "&DAY(A20) -> Doanh thu ngày 10
A21: =+A20+1 -> 46214 | B21: =+"Doanh thu ngày "&DAY(A21) -> Doanh thu ngày 11
A22: =+A21+1 -> 46215 | B22: =+"Doanh thu ngày "&DAY(A22) -> Doanh thu ngày 12
A23: =+A22+1 -> 46216 | B23: =+"Doanh thu ngày "&DAY(A23) -> Doanh thu ngày 13
... A41: =+A40+1 -> 46234 | B41: =+"Doanh thu ngày "&DAY(A41) -> Doanh thu ngày 31
B42: Tổng cộng | C42: =+SUM(C11:C41) -> 0
B44: Ngày ... tháng ... năm 202…
B45: NGƯỜI ĐẠI DIỆN HỘ KINH DOANH
B46: (Ký, ghi rõ họ tên, đóng dấu nếu có)

Sheet T8
A1: HỘ KINH DOANH: ……………………………………… | C1: Mẫu số S1a-HKD
A2: Địa chỉ: …………………………………………………….. | C2: Theo Thông tư 152/2025/TT-BTC
A3: Mã số thuế: …………………………… | C3: Ngày 31/12/2025
A5: SỔ DOANH THU BÁN HÀNG HÓA, DỊCH VỤ
A6: Địa điểm kinh doanh: ……………………………………………………………………….
A7: =+"Kỳ kê khai: Tháng "&MONTH(A11)&"/"&YEAR(A11) -> Kỳ kê khai: Tháng 8/2026
C8: Đơn vị tính: đồng
A9: Ngày tháng | B9: Diễn giải | C9: Số tiền
A10: A | B10: B | C10: 1
A11: =+'T7'!A41+1 -> 46235 | B11: =+"Doanh thu ngày "&DAY(A11) -> Doanh thu ngày 1
A12: =+A11+1 -> 46236 | B12: =+"Doanh thu ngày "&DAY(A12) -> Doanh thu ngày 2
A13: =+A12+1 -> 46237 | B13: =+"Doanh thu ngày "&DAY(A13) -> Doanh thu ngày 3
A14: =+A13+1 -> 46238 | B14: =+"Doanh thu ngày "&DAY(A14) -> Doanh thu ngày 4
A15: =+A14+1 -> 46239 | B15: =+"Doanh thu ngày "&DAY(A15) -> Doanh thu ngày 5
A16: =+A15+1 -> 46240 | B16: =+"Doanh thu ngày "&DAY(A16) -> Doanh thu ngày 6
A17: =+A16+1 -> 46241 | B17: =+"Doanh thu ngày "&DAY(A17) -> Doanh thu ngày 7
A18: =+A17+1 -> 46242 | B18: =+"Doanh thu ngày "&DAY(A18) -> Doanh thu ngày 8
A19: =+A18+1 -> 46243 | B19: =+"Doanh thu ngày "&DAY(A19) -> Doanh thu ngày 9
A20: =+A19+1 -> 46244 | B20: =+"Doanh thu ngày "&DAY(A20) -> Doanh thu ngày 10
A21: =+A20+1 -> 46245 | B21: =+"Doanh thu ngày "&DAY(A21) -> Doanh thu ngày 11
A22: =+A21+1 -> 46246 | B22: =+"Doanh thu ngày "&DAY(A22) -> Doanh thu ngày 12
A23: =+A22+1 -> 46247 | B23: =+"Doanh thu ngày "&DAY(A23) -> Doanh thu ngày 13
... A41: =+A40+1 -> 46265 | B41: =+"Doanh thu ngày "&DAY(A41) -> Doanh thu ngày 31
B42: Tổng cộng | C42: =+SUM(C11:C41) -> 0
B44: Ngày ... tháng ... năm 202…
B45: NGƯỜI ĐẠI DIỆN HỘ KINH DOANH
B46: (Ký, ghi rõ họ tên, đóng dấu nếu có)

Sheet T9
A1: HỘ KINH DOANH: ……………………………………… | C1: Mẫu số S1a-HKD
A2: Địa chỉ: …………………………………………………….. | C2: Theo Thông tư 152/2025/TT-BTC
A3: Mã số thuế: …………………………… | C3: Ngày 31/12/2025
A5: SỔ DOANH THU BÁN HÀNG HÓA, DỊCH VỤ
A6: Địa điểm kinh doanh: ……………………………………………………………………….
A7: =+"Kỳ kê khai: Tháng "&MONTH(A11)&"/"&YEAR(A11) -> Kỳ kê khai: Tháng 9/2026
C8: Đơn vị tính: đồng
A9: Ngày tháng | B9: Diễn giải | C9: Số tiền
A10: A | B10: B | C10: 1
A11: =+'T8'!A41+1 -> 46266 | B11: =+"Doanh thu ngày "&DAY(A11) -> Doanh thu ngày 1
A12: =+A11+1 -> 46267 | B12: =+"Doanh thu ngày "&DAY(A12) -> Doanh thu ngày 2
A13: =+A12+1 -> 46268 | B13: =+"Doanh thu ngày "&DAY(A13) -> Doanh thu ngày 3
A14: =+A13+1 -> 46269 | B14: =+"Doanh thu ngày "&DAY(A14) -> Doanh thu ngày 4
A15: =+A14+1 -> 46270 | B15: =+"Doanh thu ngày "&DAY(A15) -> Doanh thu ngày 5
A16: =+A15+1 -> 46271 | B16: =+"Doanh thu ngày "&DAY(A16) -> Doanh thu ngày 6
A17: =+A16+1 -> 46272 | B17: =+"Doanh thu ngày "&DAY(A17) -> Doanh thu ngày 7
A18: =+A17+1 -> 46273 | B18: =+"Doanh thu ngày "&DAY(A18) -> Doanh thu ngày 8
A19: =+A18+1 -> 46274 | B19: =+"Doanh thu ngày "&DAY(A19) -> Doanh thu ngày 9
A20: =+A19+1 -> 46275 | B20: =+"Doanh thu ngày "&DAY(A20) -> Doanh thu ngày 10
A21: =+A20+1 -> 46276 | B21: =+"Doanh thu ngày "&DAY(A21) -> Doanh thu ngày 11
A22: =+A21+1 -> 46277 | B22: =+"Doanh thu ngày "&DAY(A22) -> Doanh thu ngày 12
A23: =+A22+1 -> 46278 | B23: =+"Doanh thu ngày "&DAY(A23) -> Doanh thu ngày 13
... A40: =+A39+1 -> 46295 | B40: =+"Doanh thu ngày "&DAY(A40) -> Doanh thu ngày 30
B41: Tổng cộng | C41: =+SUM(C11:C40) -> 0
B43: Ngày ... tháng ... năm 202…
B44: NGƯỜI ĐẠI DIỆN HỘ KINH DOANH
B45: (Ký, ghi rõ họ tên, đóng dấu nếu có)

Sheet T10
A1: HỘ KINH DOANH: ……………………………………… | C1: Mẫu số S1a-HKD
A2: Địa chỉ: …………………………………………………….. | C2: Theo Thông tư 152/2025/TT-BTC
A3: Mã số thuế: …………………………… | C3: Ngày 31/12/2025
A5: SỔ DOANH THU BÁN HÀNG HÓA, DỊCH VỤ
A6: Địa điểm kinh doanh: ……………………………………………………………………….
A7: =+"Kỳ kê khai: Tháng "&MONTH(A11)&"/"&YEAR(A11) -> Kỳ kê khai: Tháng 10/2026
C8: Đơn vị tính: đồng
A9: Ngày tháng | B9: Diễn giải | C9: Số tiền
A10: A | B10: B | C10: 1
A11: =+'T9'!A40+1 -> 46296 | B11: =+"Doanh thu ngày "&DAY(A11) -> Doanh thu ngày 1
A12: =+A11+1 -> 46297 | B12: =+"Doanh thu ngày "&DAY(A12) -> Doanh thu ngày 2
A13: =+A12+1 -> 46298 | B13: =+"Doanh thu ngày "&DAY(A13) -> Doanh thu ngày 3
A14: =+A13+1 -> 46299 | B14: =+"Doanh thu ngày "&DAY(A14) -> Doanh thu ngày 4
A15: =+A14+1 -> 46300 | B15: =+"Doanh thu ngày "&DAY(A15) -> Doanh thu ngày 5
A16: =+A15+1 -> 46301 | B16: =+"Doanh thu ngày "&DAY(A16) -> Doanh thu ngày 6
A17: =+A16+1 -> 46302 | B17: =+"Doanh thu ngày "&DAY(A17) -> Doanh thu ngày 7
A18: =+A17+1 -> 46303 | B18: =+"Doanh thu ngày "&DAY(A18) -> Doanh thu ngày 8
A19: =+A18+1 -> 46304 | B19: =+"Doanh thu ngày "&DAY(A19) -> Doanh thu ngày 9
A20: =+A19+1 -> 46305 | B20: =+"Doanh thu ngày "&DAY(A20) -> Doanh thu ngày 10
A21: =+A20+1 -> 46306 | B21: =+"Doanh thu ngày "&DAY(A21) -> Doanh thu ngày 11
A22: =+A21+1 -> 46307 | B22: =+"Doanh thu ngày "&DAY(A22) -> Doanh thu ngày 12
A23: =+A22+1 -> 46308 | B23: =+"Doanh thu ngày "&DAY(A23) -> Doanh thu ngày 13
... A41: =+A40+1 -> 46326 | B41: =+"Doanh thu ngày "&DAY(A41) -> Doanh thu ngày 31
B42: Tổng cộng | C42: =+SUM(C11:C41) -> 0
B44: Ngày ... tháng ... năm 202…
B45: NGƯỜI ĐẠI DIỆN HỘ KINH DOANH
B46: (Ký, ghi rõ họ tên, đóng dấu nếu có)

Sheet T11
A1: HỘ KINH DOANH: ……………………………………… | C1: Mẫu số S1a-HKD
A2: Địa chỉ: …………………………………………………….. | C2: Theo Thông tư 152/2025/TT-BTC
A3: Mã số thuế: …………………………… | C3: Ngày 31/12/2025
A5: SỔ DOANH THU BÁN HÀNG HÓA, DỊCH VỤ
A6: Địa điểm kinh doanh: ……………………………………………………………………….
A7: =+"Kỳ kê khai: Tháng "&MONTH(A11)&"/"&YEAR(A11) -> Kỳ kê khai: Tháng 11/2026
C8: Đơn vị tính: đồng
A9: Ngày tháng | B9: Diễn giải | C9: Số tiền
A10: A | B10: B | C10: 1
A11: =+'T10'!A41+1 -> 46327 | B11: =+"Doanh thu ngày "&DAY(A11) -> Doanh thu ngày 1
A12: =+A11+1 -> 46328 | B12: =+"Doanh thu ngày "&DAY(A12) -> Doanh thu ngày 2
A13: =+A12+1 -> 46329 | B13: =+"Doanh thu ngày "&DAY(A13) -> Doanh thu ngày 3
A14: =+A13+1 -> 46330 | B14: =+"Doanh thu ngày "&DAY(A14) -> Doanh thu ngày 4
A15: =+A14+1 -> 46331 | B15: =+"Doanh thu ngày "&DAY(A15) -> Doanh thu ngày 5
A16: =+A15+1 -> 46332 | B16: =+"Doanh thu ngày "&DAY(A16) -> Doanh thu ngày 6
A17: =+A16+1 -> 46333 | B17: =+"Doanh thu ngày "&DAY(A17) -> Doanh thu ngày 7
A18: =+A17+1 -> 46334 | B18: =+"Doanh thu ngày "&DAY(A18) -> Doanh thu ngày 8
A19: =+A18+1 -> 46335 | B19: =+"Doanh thu ngày "&DAY(A19) -> Doanh thu ngày 9
A20: =+A19+1 -> 46336 | B20: =+"Doanh thu ngày "&DAY(A20) -> Doanh thu ngày 10
A21: =+A20+1 -> 46337 | B21: =+"Doanh thu ngày "&DAY(A21) -> Doanh thu ngày 11
A22: =+A21+1 -> 46338 | B22: =+"Doanh thu ngày "&DAY(A22) -> Doanh thu ngày 12
A23: =+A22+1 -> 46339 | B23: =+"Doanh thu ngày "&DAY(A23) -> Doanh thu ngày 13
... A40: =+A39+1 -> 46356 | B40: =+"Doanh thu ngày "&DAY(A40) -> Doanh thu ngày 30
B41: Tổng cộng | C41: =+SUM(C11:C40) -> 0
B43: Ngày ... tháng ... năm 202…
B44: NGƯỜI ĐẠI DIỆN HỘ KINH DOANH
B45: (Ký, ghi rõ họ tên, đóng dấu nếu có)

Sheet T12
A1: HỘ KINH DOANH: ……………………………………… | C1: Mẫu số S1a-HKD
A2: Địa chỉ: …………………………………………………….. | C2: Theo Thông tư 152/2025/TT-BTC
A3: Mã số thuế: …………………………… | C3: Ngày 31/12/2025
A5: SỔ DOANH THU BÁN HÀNG HÓA, DỊCH VỤ
A6: Địa điểm kinh doanh: ……………………………………………………………………….
A7: =+"Kỳ kê khai: Tháng "&MONTH(A11)&"/"&YEAR(A11) -> Kỳ kê khai: Tháng 12/2026
C8: Đơn vị tính: đồng
A9: Ngày tháng | B9: Diễn giải | C9: Số tiền
A10: A | B10: B | C10: 1
A11: =+'T11'!A40+1 -> 46357 | B11: =+"Doanh thu ngày "&DAY(A11) -> Doanh thu ngày 1
A12: =+A11+1 -> 46358 | B12: =+"Doanh thu ngày "&DAY(A12) -> Doanh thu ngày 2
A13: =+A12+1 -> 46359 | B13: =+"Doanh thu ngày "&DAY(A13) -> Doanh thu ngày 3
A14: =+A13+1 -> 46360 | B14: =+"Doanh thu ngày "&DAY(A14) -> Doanh thu ngày 4
A15: =+A14+1 -> 46361 | B15: =+"Doanh thu ngày "&DAY(A15) -> Doanh thu ngày 5
A16: =+A15+1 -> 46362 | B16: =+"Doanh thu ngày "&DAY(A16) -> Doanh thu ngày 6
A17: =+A16+1 -> 46363 | B17: =+"Doanh thu ngày "&DAY(A17) -> Doanh thu ngày 7
A18: =+A17+1 -> 46364 | B18: =+"Doanh thu ngày "&DAY(A18) -> Doanh thu ngày 8
A19: =+A18+1 -> 46365 | B19: =+"Doanh thu ngày "&DAY(A19) -> Doanh thu ngày 9
A20: =+A19+1 -> 46366 | B20: =+"Doanh thu ngày "&DAY(A20) -> Doanh thu ngày 10
A21: =+A20+1 -> 46367 | B21: =+"Doanh thu ngày "&DAY(A21) -> Doanh thu ngày 11
A22: =+A21+1 -> 46368 | B22: =+"Doanh thu ngày "&DAY(A22) -> Doanh thu ngày 12
A23: =+A22+1 -> 46369 | B23: =+"Doanh thu ngày "&DAY(A23) -> Doanh thu ngày 13
... A41: =+A40+1 -> 46387 | B41: =+"Doanh thu ngày "&DAY(A41) -> Doanh thu ngày 31
B42: Tổng cộng | C42: =+SUM(C11:C41) -> 0
B44: Ngày ... tháng ... năm 202…
B45: NGƯỜI ĐẠI DIỆN HỘ KINH DOANH
B46: (Ký, ghi rõ họ tên, đóng dấu nếu có)

Sheet Mau
A1: HỘ KINH DOANH: ……………………………………… | C1: Mẫu số S1a-HKD
A2: Địa chỉ: …………………………………………………….. | C2: Theo Thông tư 152/2025/TT-BTC
A3: Mã số thuế: …………………………… | C3: Ngày 31/12/2025
A5: SỔ DOANH THU BÁN HÀNG HÓA, DỊCH VỤ
A6: Địa điểm kinh doanh: ……………………………………………………………………….
A7: Kỳ kê khai: ……………………………
C8: Đơn vị tính: đồng
A9: Ngày tháng | B9: Diễn giải | C9: Số tiền
A10: A | B10: B | C10: 1
B42: Tổng cộng | C42: =+SUM(C11:C41) -> 0
B44: Ngày ... tháng ... năm 202…
B45: NGƯỜI ĐẠI DIỆN HỘ KINH DOANH
B46: (Ký, ghi rõ họ tên, đóng dấu nếu có)

Sheet Ví dụ
A1: HỘ KINH DOANH: ABC | C1: Mẫu số S1a-HKD
A2: Địa chỉ: KĐT VẠN PHÚC TP HCM | C2: Theo Thông tư 152/2025/TT-BTC
A3: Mã số thuế: 0123456789 | C3: Ngày 31/12/2025
A5: SỔ DOANH THU BÁN HÀNG HÓA, DỊCH VỤ
A6: Địa điểm kinh doanh: Thôn 8, Xã Bảo Lâm 3, Lâm Đồng
A7: Kỳ kê khai: 2026
C8: Đơn vị tính: đồng
A9: Ngày tháng | B9: Diễn giải | C9: Số tiền
A10: A | B10: B | C10: 1
B11: Cách ghi 1: Theo định kỳ theo ngày
A12: 46023 | B12: Doanh thu ngày 1 | C12: 5800000
A13: 46024 | B13: Doanh thu ngày 2 | C13: 12500000
A14: 46025 | B14: Doanh thu ngày 3 | C14: 9250000
B15: Cách ghi 2: Chi tiết theo phát sinh
A16: 46024 | B16: 2 thùng bia Sài Gòn | C16: 520000
A17: 46025 | B17: 1 cây kẹo mút | C17: 1000
A18: 46025 | B18: 3 gói mì Omachi | C18: 27000
A19: 46025 | B19: 1 lon bò húc | C19: 15000
A20: 46025 | B20: 1 chai nước mắm chinsu | C20: 25000
B22: Tổng cộng | C22: =+SUM(C11:C21) -> 28138000
B24: Ngày ... tháng ... năm 202…
B25: NGƯỜI ĐẠI DIỆN HỘ KINH DOANH
B26: (Ký, ghi rõ họ tên, đóng dấu nếu có)
